BEGIN:VCALENDAR
VERSION:2.0
PRODID:-//Knights of Columbus #9053 Ocean City, Maryland - ECPv6.15.20//NONSGML v1.0//EN
CALSCALE:GREGORIAN
METHOD:PUBLISH
X-WR-CALNAME:Knights of Columbus #9053 Ocean City, Maryland
X-ORIGINAL-URL:https://koc9053.com
X-WR-CALDESC:Events for Knights of Columbus #9053 Ocean City, Maryland
REFRESH-INTERVAL;VALUE=DURATION:PT1H
X-Robots-Tag:noindex
X-PUBLISHED-TTL:PT1H
BEGIN:VTIMEZONE
TZID:UTC
BEGIN:STANDARD
TZOFFSETFROM:+0000
TZOFFSETTO:+0000
TZNAME:UTC
DTSTART:20240101T000000
END:STANDARD
END:VTIMEZONE
BEGIN:VEVENT
DTSTART;TZID=UTC:20260409T180000
DTEND;TZID=UTC:20260409T210000
DTSTAMP:20260423T175734
CREATED:20260327T201929Z
LAST-MODIFIED:20260327T201929Z
UID:7535-1775757600-1775768400@koc9053.com
SUMMARY:Assembly Business Meeting Thursday 9th February 6:00 pm. in Columbus Hall
DESCRIPTION:Assembly Business Meeting Thursday 9th February 6:00 pm. in Columbus Hall
URL:https://koc9053.com/event/assembly-business-meeting-thursday-9th-february-600-pm-in-columbus-hall/
LOCATION:Columbus Hall\, 9901 Caostal Hwy.\, Ocean City\, MD\, 21842-2604\, United States
CATEGORIES:Assembly Meeting
END:VEVENT
BEGIN:VEVENT
DTSTART;TZID=UTC:20260212T180000
DTEND;TZID=UTC:20260212T210000
DTSTAMP:20260423T175734
CREATED:20260210T000717Z
LAST-MODIFIED:20260210T000717Z
UID:7334-1770919200-1770930000@koc9053.com
SUMMARY:Assembly Business Meeting Thursday 12 February 6:00 pm. in Columbus Hall
DESCRIPTION:Assembly Business Meeting Thursday 12 February 6:00 pm. in Columbus Hall
URL:https://koc9053.com/event/assembly-business-meeting-thursday-12-february-600-pm-in-columbus-hall/
LOCATION:Columbus Hall\, 9901 Caostal Hwy.\, Ocean City\, MD\, 21842-2604\, United States
CATEGORIES:Assembly Meeting
END:VEVENT
BEGIN:VEVENT
DTSTART;TZID=UTC:20260115T183000
DTEND;TZID=UTC:20260115T210000
DTSTAMP:20260423T175734
CREATED:20260113T200827Z
LAST-MODIFIED:20260113T200827Z
UID:7218-1768501800-1768510800@koc9053.com
SUMMARY:Assembly Business Meeting Thursday 15 January 6:30 pm. in Columbus Hall
DESCRIPTION:Monthly Assembly Meeting will be Thu. 15 Jan. 2026 beginning at 6:30 p.m. in Columbus Hall.
URL:https://koc9053.com/event/assembly-business-meeting-thursday-15-january-630-pm-in-columbus-hall/
LOCATION:Columbus Hall\, 9901 Caostal Hwy.\, Ocean City\, MD\, 21842-2604\, United States
CATEGORIES:Assembly Meeting
END:VEVENT
BEGIN:VEVENT
DTSTART;TZID=UTC:20251113T183000
DTEND;TZID=UTC:20251113T203000
DTSTAMP:20260423T175734
CREATED:20251018T154540Z
LAST-MODIFIED:20251023T130458Z
UID:6948-1763058600-1763065800@koc9053.com
SUMMARY:Assembly Business Meeting Thursday 13 November 11:00 a.m. in Columbus Hall
DESCRIPTION:Assembly Business Meeting \n \nSpecial Time:  11:00 a.m. 13 November \nNo officers’ meeting
URL:https://koc9053.com/event/assembly-business-meeting-thursday-13-november-630-p-m-to-830-p-m-columbus-hall/
LOCATION:Columbus Hall\, 9901 Coastal Highway\, Ocean City\, MD\, 21842\, United States
CATEGORIES:Assembly Meeting
END:VEVENT
BEGIN:VEVENT
DTSTART;TZID=UTC:20250927T160000
DTEND;TZID=UTC:20250927T200000
DTSTAMP:20260423T175734
CREATED:20250826T135930Z
LAST-MODIFIED:20250826T135930Z
UID:6768-1758988800-1759003200@koc9053.com
SUMMARY:Annual Fall Deck Party
DESCRIPTION:Free Hamburgers and Hot Dogs along with all the fixings. \nBring something to share–see suggestions on the flyer
URL:https://koc9053.com/event/annual-fall-deck-party/
LOCATION:Columbus Hall\, 9901 Coastal Highway\, Ocean City\, MD\, 21842\, United States
CATEGORIES:Assembly Meeting,Council Event,Lady Knights
END:VEVENT
BEGIN:VEVENT
DTSTART;TZID=UTC:20250911T183000
DTEND;TZID=UTC:20250911T210000
DTSTAMP:20260423T175734
CREATED:20250815T204432Z
LAST-MODIFIED:20250815T204432Z
UID:6717-1757615400-1757624400@koc9053.com
SUMMARY:Assembly Meeting Thu. Sept. 11th
DESCRIPTION:Monthly Assembly Meeting will be Thu. 11\, Sept. 2025 beginning at 6:30 p.m. in Columbus Hall.
URL:https://koc9053.com/event/assembly-meeting-thu-sept-11th/
LOCATION:Columbus Hall\, 9901 Caostal Hwy.\, Ocean City\, MD\, 21842-2604\, United States
CATEGORIES:Assembly Meeting
END:VEVENT
BEGIN:VEVENT
DTSTART;TZID=UTC:20250717T110000
DTEND;TZID=UTC:20250717T130000
DTSTAMP:20260423T175734
CREATED:20250706T194730Z
LAST-MODIFIED:20250706T194730Z
UID:6567-1752750000-1752757200@koc9053.com
SUMMARY:Assembly Officers Meeting Thu. July 17th
DESCRIPTION:Assembly Officers Meeting will be Thu. 17\, July 2025 beginning at 11:00 a.m. in Columbus Hall.
URL:https://koc9053.com/event/assembly-officers-meeting-thu-july-17th/
LOCATION:Columbus Hall\, 9901 Caostal Hwy.\, Ocean City\, MD\, 21842-2604\, United States
CATEGORIES:Assembly Meeting
END:VEVENT
BEGIN:VEVENT
DTSTART;TZID=UTC:20250612T183000
DTEND;TZID=UTC:20250612T210000
DTSTAMP:20260423T175734
CREATED:20250506T174611Z
LAST-MODIFIED:20250506T174635Z
UID:6242-1749753000-1749762000@koc9053.com
SUMMARY:Assembly Meeting Thu. June 12th
DESCRIPTION:Monthly Assembly Meeting will be Thu. 12\, June 2025 beginning at 6:30 p.m. in Columbus Hall.
URL:https://koc9053.com/event/assembly-meeting-thu-june-12th/
LOCATION:MD
CATEGORIES:Assembly Meeting
END:VEVENT
BEGIN:VEVENT
DTSTART;TZID=UTC:20250515T183000
DTEND;TZID=UTC:20250515T210000
DTSTAMP:20260423T175734
CREATED:20250407T205228Z
LAST-MODIFIED:20250503T181630Z
UID:5930-1747333800-1747342800@koc9053.com
SUMMARY:Assembly Meeting Thu. May 15/Elections
DESCRIPTION:Monthly Assembly Meeting will be Thu. 15 May\, 2025 beginning at 6:30 p.m. in Columbus Hall. Third Reading of the 2025 – 2026 Slate of Officers and Election.
URL:https://koc9053.com/event/assembly-meeting-thu-may-15/
LOCATION:Columbus Hall\, 9901 Coastal Highway\, Ocean City\, MD\, 21842\, United States
CATEGORIES:Assembly Meeting
END:VEVENT
BEGIN:VEVENT
DTSTART;TZID=UTC:20250410T183000
DTEND;TZID=UTC:20250410T213000
DTSTAMP:20260423T175734
CREATED:20250324T222011Z
LAST-MODIFIED:20250324T222011Z
UID:5672-1744309800-1744320600@koc9053.com
SUMMARY:Assembly Meeting Thu Apr. 10
DESCRIPTION:March Monthly Assembly Meeting will be Thu. 10 April 2025 beginning at 6:30 p.m. in Columbus Hall
URL:https://koc9053.com/event/assembly-meeting-thu-apr-10/
LOCATION:Columbus Hall\, 9901 Coastal Highway\, Ocean City\, MD\, 21842\, United States
CATEGORIES:Assembly Meeting
END:VEVENT
BEGIN:VEVENT
DTSTART;TZID=UTC:20250204T183000
DTEND;TZID=UTC:20250204T203000
DTSTAMP:20260423T175734
CREATED:20250128T202231Z
LAST-MODIFIED:20250129T154656Z
UID:5237-1738693800-1738701000@koc9053.com
SUMMARY:Assembly Meeting - Tues 04 Feb
DESCRIPTION:February Monthly Assembly Meeting will be 04 February 2025 beginning at 6:30 p.m. in Columbus Hall — note the date change 04 February not 13 February
URL:https://koc9053.com/event/assembly-meeting/
LOCATION:MD
CATEGORIES:Assembly Meeting
ATTACH;FMTTYPE=image/png:https://koc9053.com/wp-content/uploads/2024/09/Assembly-Logo.png
END:VEVENT
BEGIN:VEVENT
DTSTART;TZID=UTC:20250118T113000
DTEND;TZID=UTC:20250118T150000
DTSTAMP:20260423T175734
CREATED:20250110T113046Z
LAST-MODIFIED:20250114T224837Z
UID:5091-1737199800-1737212400@koc9053.com
SUMMARY:Fourth Degree Exemplification - Sat. Jan. 18
DESCRIPTION:Please arrive by 11:30 a.m.\nFourth Degree Candidates — remember to bring your check for $80 made out to Assembly 2454 Pope John Paul ll.\nThe dress code is suit (dark suit) and tie\, white shirt and dress shoes.\nReligious members may wear their clerical clothing.\nNo guests are allowed for the exemplification.
URL:https://koc9053.com/event/fourth-degree-exemplification/
LOCATION:Columbus Hall\, 9901 Coastal Highway\, Ocean City\, MD\, 21842\, United States
CATEGORIES:Assembly Meeting
ATTACH;FMTTYPE=image/png:https://koc9053.com/wp-content/uploads/2024/12/Fourth-Degree-Exemp.png
END:VEVENT
BEGIN:VEVENT
DTSTART;TZID=UTC:20250111T100000
DTEND;TZID=UTC:20250111T130000
DTSTAMP:20260423T175734
CREATED:20241209T223036Z
LAST-MODIFIED:20250108T222412Z
UID:4976-1736589600-1736600400@koc9053.com
SUMMARY:4th Degree Exemplification (cancelled inclement weather)
DESCRIPTION:
URL:https://koc9053.com/event/4th-degree-exemplification/
LOCATION:MD
CATEGORIES:Assembly Meeting
ATTACH;FMTTYPE=image/png:https://koc9053.com/wp-content/uploads/2024/12/Fourth-Degree-Exemp.png
END:VEVENT
BEGIN:VEVENT
DTSTART;TZID=UTC:20250109T183000
DTEND;TZID=UTC:20250109T210000
DTSTAMP:20260423T175734
CREATED:20241204T145736Z
LAST-MODIFIED:20250108T221800Z
UID:4832-1736447400-1736456400@koc9053.com
SUMMARY:Joint Council and Assembly Meeting (cancelled inclement weather)
DESCRIPTION:Joint Council #9035 and Assembly #2474 Meeting \nCouncil Officers meeting 5:30 p.m.
URL:https://koc9053.com/event/joint-council-and-assembly-meeting/
LOCATION:MD
CATEGORIES:Assembly Meeting,Council Meeting
END:VEVENT
END:VCALENDAR