BEGIN:VCALENDAR
VERSION:2.0
PRODID:-//Knights of Columbus #9053 Ocean City, Maryland - ECPv6.15.20//NONSGML v1.0//EN
CALSCALE:GREGORIAN
METHOD:PUBLISH
X-WR-CALNAME:Knights of Columbus #9053 Ocean City, Maryland
X-ORIGINAL-URL:https://koc9053.com
X-WR-CALDESC:Events for Knights of Columbus #9053 Ocean City, Maryland
REFRESH-INTERVAL;VALUE=DURATION:PT1H
X-Robots-Tag:noindex
X-PUBLISHED-TTL:PT1H
BEGIN:VTIMEZONE
TZID:UTC
BEGIN:STANDARD
TZOFFSETFROM:+0000
TZOFFSETTO:+0000
TZNAME:UTC
DTSTART:20240101T000000
END:STANDARD
END:VTIMEZONE
BEGIN:VEVENT
DTSTART;TZID=UTC:20251113T180000
DTEND;TZID=UTC:20251113T183000
DTSTAMP:20260424T045305
CREATED:20251018T154329Z
LAST-MODIFIED:20251018T154329Z
UID:6946-1763056800-1763058600@koc9053.com
SUMMARY:Assembly Officers' Meeting Thursday 13 November 6:00 p.m. Columbus Hall
DESCRIPTION:Assembly Officers’ Meeting at 6:00 p.m.
URL:https://koc9053.com/event/assembly-officers-meeting-thursday-13-november-600-p-m-columbus-hall/
LOCATION:Columbus Hall\, 9901 Coastal Highway\, Ocean City\, MD\, 21842\, United States
CATEGORIES:Assembly Officers' Meeting
END:VEVENT
END:VCALENDAR