BEGIN:VCALENDAR
VERSION:2.0
PRODID:-//Knights of Columbus #9053 Ocean City, Maryland - ECPv6.15.20//NONSGML v1.0//EN
CALSCALE:GREGORIAN
METHOD:PUBLISH
X-ORIGINAL-URL:https://koc9053.com
X-WR-CALDESC:Events for Knights of Columbus #9053 Ocean City, Maryland
REFRESH-INTERVAL;VALUE=DURATION:PT1H
X-Robots-Tag:noindex
X-PUBLISHED-TTL:PT1H
BEGIN:VTIMEZONE
TZID:UTC
BEGIN:STANDARD
TZOFFSETFROM:+0000
TZOFFSETTO:+0000
TZNAME:UTC
DTSTART:20240101T000000
END:STANDARD
END:VTIMEZONE
BEGIN:VEVENT
DTSTART;TZID=UTC:20251205T170000
DTEND;TZID=UTC:20251205T210000
DTSTAMP:20260423T182936
CREATED:20251101T193133Z
LAST-MODIFIED:20251101T193133Z
UID:7054-1764954000-1764968400@koc9053.com
SUMMARY:Bingo Team 3 - Fri. Dec. 5th 5:00 pm
DESCRIPTION:Come enjoy Bingo Friday Nights! \nDoors open at 5 p.m. and Bingo begins at 6:30 p.m. \nLight Refreshments are available before BINGO and during intermission. \n* Each game night we award at least $1000 in prize money. \n* Play every game for $25. \n*Our end of evening Big Jackpot is now worth up to $1\,000.  Prizes lowered if less than 40 attendees. \nBenefits Knights of Columbus Council #9053 Charities.
URL:https://koc9053.com/event/bingo-team-3-fri-dec-5th-500-pm/
LOCATION:Columbus Hall\, 9901 Caostal Hwy.\, Ocean City\, MD\, 21842-2604\, United States
CATEGORIES:Bingo
END:VEVENT
BEGIN:VEVENT
DTSTART;TZID=UTC:20251128T170000
DTEND;TZID=UTC:20251128T210000
DTSTAMP:20260423T182936
CREATED:20251018T161819Z
LAST-MODIFIED:20251018T161819Z
UID:6966-1764349200-1764363600@koc9053.com
SUMMARY:Bingo Friday 28 November 5:00 p.m.  Team 2
DESCRIPTION:Come enjoy Bingo Friday Nights! \n5:00 p.m. – 9:00 p.m. \n$25.00 \n \nDoors open at 5 p.m. and Bingo begins at 6:30 p.m. \nLight Refreshments are available before BINGO and during intermission. \n* Each game night we award at least $1000 in prize money. \n* Play every game for $25. \n*Our end of evening Big Jackpot is now worth up to $1\,000.  Prizes lowered if less than 40 attendees. \nBenefits Knights of Columbus Council #9053 Charities.
URL:https://koc9053.com/event/bingo-friday-28-november-500-p-m-team-2/
LOCATION:Columbus Hall\, 9901 Caostal Hwy.\, Ocean City\, MD\, 21842-2604\, United States
CATEGORIES:Bingo
END:VEVENT
BEGIN:VEVENT
DTSTART;TZID=UTC:20251121T170000
DTEND;TZID=UTC:20251121T210000
DTSTAMP:20260423T182936
CREATED:20251018T161515Z
LAST-MODIFIED:20251018T161853Z
UID:6964-1763744400-1763758800@koc9053.com
SUMMARY:Bingo Friday 21 November 5:00 p.m.  Team 1
DESCRIPTION:Come enjoy Bingo Friday Nights! \n5:00 p.m. – 9:00 p.m. \n$25.00 \n  \nDoors open at 5 p.m. and Bingo begins at 6:30 p.m. \nLight Refreshments are available before BINGO and during intermission. \n* Each game night we award at least $1000 in prize money. \n* Play every game for $25. \n*Our end of evening Big Jackpot is now worth up to $1\,000.  Prizes lowered if less than 40 attendees. \nBenefits Knights of Columbus Council #9053 Charities.
URL:https://koc9053.com/event/bingo-friday-21-november-500-p-m-team-1/
LOCATION:Columbus Hall\, 9901 Caostal Hwy.\, Ocean City\, MD\, 21842-2604\, United States
CATEGORIES:Bingo
END:VEVENT
BEGIN:VEVENT
DTSTART;TZID=UTC:20251114T170000
DTEND;TZID=UTC:20251114T210000
DTSTAMP:20260423T182936
CREATED:20251018T154923Z
LAST-MODIFIED:20251018T162110Z
UID:6950-1763139600-1763154000@koc9053.com
SUMMARY:Bingo Friday 14 November 5:00 p.m. Team 4
DESCRIPTION:Come enjoy Bingo Friday Nights! \n5:00 p.m. – 9:00 p.m. \n$25.00 \n \n  \nDoor open at 5 p.m. and Bingo begins at 6:30 p.m. \nLight Refreshments are available before BINGO and during intermission. \n  \n* Each game night we award at least $1000 in prize money. \n* Play every game for $25. \n*Our end of evening Big Jackpot is now worth up to $1\,000.  Prizes lowered if less than 40 attendees. \nBenefits Knights of Columbus Council #9053 Charities. \n 
URL:https://koc9053.com/event/bingo-friday-14-november-500-p-m/
LOCATION:Columbus Hall\, 9901 Coastal Highway\, Ocean City\, MD\, 21842\, United States
CATEGORIES:Bingo
END:VEVENT
BEGIN:VEVENT
DTSTART;TZID=UTC:20251107T170000
DTEND;TZID=UTC:20251107T210000
DTSTAMP:20260423T182936
CREATED:20251018T151427Z
LAST-MODIFIED:20251018T162140Z
UID:6926-1762534800-1762549200@koc9053.com
SUMMARY:Bingo Friday 07 November 5:00 p.m. Columbus Hall Team 3
DESCRIPTION:  \nCome enjoy Bingo Friday Nights! \n5:00 p.m. – 9:00 p.m. \n$25.00 \n  \n \nDoors open at 5 p.m. and Bingo begins at 6:30 p.m. \nLight Refreshments are available before BINGO and during intermission. \n* Each game night we award at least $1000 in prize money. \n* Play every game for $25. \n*Our end of evening Big Jackpot is now worth up to $1\,000.  Prizes lowered if less than 40 attendees. \nBenefits Knights of Columbus Council #9053 Charities. \n 
URL:https://koc9053.com/event/bingo-friday-07-november-500-p-m-columbus-hall/
LOCATION:Columbus Hall\, 9901 Caostal Hwy.\, Ocean City\, MD\, 21842-2604\, United States
CATEGORIES:Bingo
END:VEVENT
BEGIN:VEVENT
DTSTART;TZID=UTC:20251031T170000
DTEND;TZID=UTC:20251031T210000
DTSTAMP:20260423T182936
CREATED:20251017T233703Z
LAST-MODIFIED:20251018T162235Z
UID:6899-1761930000-1761944400@koc9053.com
SUMMARY:Bingo Friday 31 October 5:00 p.m.   Team 2
DESCRIPTION:Come enjoy Bingo Friday Nights! \nDoors open at 5 p.m. and Bingo begins at 6:30 p.m. \nLight Refreshments are available before BINGO and during intermission. \n* Each game night we award at least $1000 in prize money. \n* Play every game for $25. \n*Our end of evening Big Jackpot is now worth up to $1\,000.  Prizes lowered if less than 40 attendees. \nBenefits Knights of Columbus Council #9053 Charities.
URL:https://koc9053.com/event/bingo-3/
LOCATION:Columbus Hall\, 9901 Coastal Highway\, Ocean City\, MD\, 21842\, United States
CATEGORIES:Bingo
END:VEVENT
BEGIN:VEVENT
DTSTART;TZID=UTC:20251024T170000
DTEND;TZID=UTC:20251024T210000
DTSTAMP:20260423T182936
CREATED:20251017T233207Z
LAST-MODIFIED:20251018T220921Z
UID:6893-1761325200-1761339600@koc9053.com
SUMMARY:Bingo   Friday 24 October  5 p.m. Team 1
DESCRIPTION:  \nCome enjoy Bingo Friday Nights! \n5:00 p.m. – 9:00 p.m. \n$25.00 \nDoors open at 5 p.m. and Bingo begins at 6:30 p.m. \nLight Refreshments are available before BINGO and during intermission. \n* Each game night we award at least $1000 in prize money. \n* Play every game for $25. \n*Our end of evening Big Jackpot is now worth up to $1\,000.  Prizes lowered if less than 40 attendees. \nBenefits Knights of Columbus Council #9053 Charities.
URL:https://koc9053.com/event/bingo-2/
LOCATION:Columbus Hall\, 9901 Caostal Hwy.\, Ocean City\, MD\, 21842-2604\, United States
CATEGORIES:Bingo
END:VEVENT
BEGIN:VEVENT
DTSTART;TZID=UTC:20251017T163000
DTEND;TZID=UTC:20251017T210000
DTSTAMP:20260423T182936
CREATED:20251017T232934Z
LAST-MODIFIED:20251017T233040Z
UID:6889-1760718600-1760734800@koc9053.com
SUMMARY:Bingo
DESCRIPTION:BINGO Team 4
URL:https://koc9053.com/event/bingo/
LOCATION:Columbus Hall\, 9901 Caostal Hwy.\, Ocean City\, MD\, 21842-2604\, United States
CATEGORIES:Bingo
END:VEVENT
BEGIN:VEVENT
DTSTART;TZID=UTC:20250926T170000
DTEND;TZID=UTC:20250926T210000
DTSTAMP:20260423T182936
CREATED:20250815T212000Z
LAST-MODIFIED:20250815T212000Z
UID:6734-1758906000-1758920400@koc9053.com
SUMMARY:Bingo Team 1 - Fri. Sep. 26th 5:00 pm
DESCRIPTION:Come enjoy Bingo Friday Nights! \nDoors open at 5 p.m. and Bingo begins at 6:30 p.m. \nLight Refreshments are available before BINGO and during intermission. \n* Each game night we award at least $1000 in prize money. \n* Play every game for $25. \n*Our end of evening Big Jackpot is now worth up to $1\,000.  Prizes lowered if less than 40 attendees. \nBenefits Knights of Columbus Council #9053 Charities.
URL:https://koc9053.com/event/bingo-team-1-fri-sep-26th-500-pm/
LOCATION:Columbus Hall\, 9901 Caostal Hwy.\, Ocean City\, MD\, 21842-2604\, United States
CATEGORIES:Bingo
END:VEVENT
BEGIN:VEVENT
DTSTART;TZID=UTC:20250919T170000
DTEND;TZID=UTC:20250919T210000
DTSTAMP:20260423T182936
CREATED:20250815T211515Z
LAST-MODIFIED:20250815T211515Z
UID:6730-1758301200-1758315600@koc9053.com
SUMMARY:Bingo Team 4 - Fri. Sep. 19th 5:00 pm
DESCRIPTION:Come enjoy Bingo Friday Nights! \nDoors open at 5 p.m. and Bingo begins at 6:30 p.m. \nLight Refreshments are available before BINGO and during intermission. \n* Each game night we award at least $1000 in prize money. \n* Play every game for $25. \n*Our end of evening Big Jackpot is now worth up to $1\,000.  Prizes lowered if less than 40 attendees. \nBenefits Knights of Columbus Council #9053 Charities.
URL:https://koc9053.com/event/bingo-team-4-fri-sep-19th-500-pm/
LOCATION:Columbus Hall\, 9901 Caostal Hwy.\, Ocean City\, MD\, 21842-2604\, United States
CATEGORIES:Bingo
END:VEVENT
BEGIN:VEVENT
DTSTART;TZID=UTC:20250912T170000
DTEND;TZID=UTC:20250912T210000
DTSTAMP:20260423T182936
CREATED:20250815T204912Z
LAST-MODIFIED:20250815T204912Z
UID:6719-1757696400-1757710800@koc9053.com
SUMMARY:Bingo Team 3 - Fri. Sep. 12th 5:00 pm
DESCRIPTION:Come enjoy Bingo Friday Nights! \nDoors open at 5 p.m. and Bingo begins at 6:30 p.m. \nLight Refreshments are available before BINGO and during intermission. \n* Each game night we award at least $1000 in prize money. \n* Play every game for $25. \n*Our end of evening Big Jackpot is now worth up to $1\,000.  Prizes lowered if less than 40 attendees. \nBenefits Knights of Columbus Council #9053 Charities.
URL:https://koc9053.com/event/bingo-team-3-fri-sep-12th-500-pm/
LOCATION:Columbus Hall\, 9901 Caostal Hwy.\, Ocean City\, MD\, 21842-2604\, United States
CATEGORIES:Bingo
END:VEVENT
BEGIN:VEVENT
DTSTART;TZID=UTC:20250905T170000
DTEND;TZID=UTC:20250905T210000
DTSTAMP:20260423T182936
CREATED:20250815T202224Z
LAST-MODIFIED:20250815T202224Z
UID:6707-1757091600-1757106000@koc9053.com
SUMMARY:Bingo Team 2 - Fri. Sep. 5th 5:00 pm
DESCRIPTION:Come enjoy Bingo Friday Nights! \nDoors open at 5 p.m. and Bingo begins at 6:30 p.m. \nLight Refreshments are available before BINGO and during intermission. \n* Each game night we award at least $1000 in prize money. \n* Play every game for $25. \n*Our end of evening Big Jackpot is now worth up to $1\,000.  Prizes lowered if less than 40 attendees. \nBenefits Knights of Columbus Council #9053 Charities.
URL:https://koc9053.com/event/bingo-team-2-fri-sep-5th-500-pm/
LOCATION:Columbus Hall\, 9901 Caostal Hwy.\, Ocean City\, MD\, 21842-2604\, United States
CATEGORIES:Bingo
END:VEVENT
BEGIN:VEVENT
DTSTART;TZID=UTC:20250829T170000
DTEND;TZID=UTC:20250829T210000
DTSTAMP:20260423T182936
CREATED:20250706T192555Z
LAST-MODIFIED:20250706T192555Z
UID:6563-1756486800-1756501200@koc9053.com
SUMMARY:Bingo Team 1 - Fri. Aug. 29th 5:00 pm
DESCRIPTION:Come enjoy Bingo Friday Nights! \nDoors open at 5 p.m. and Bingo begins at 6:30 p.m. \nLight Refreshments are available before BINGO and during intermission. \n* Each game night we award at least $1000 in prize money. \n* Play every game for $25. \n*Our end of evening Big Jackpot is now worth up to $1\,000.  Prizes lowered if less than 40 attendees. \nBenefits Knights of Columbus Council #9053 Charities.
URL:https://koc9053.com/event/bingo-team-1-fri-aug-29th-500-pm/
LOCATION:Columbus Hall\, 9901 Caostal Hwy.\, Ocean City\, MD\, 21842-2604\, United States
CATEGORIES:Bingo
END:VEVENT
BEGIN:VEVENT
DTSTART;TZID=UTC:20250822T170000
DTEND;TZID=UTC:20250822T210000
DTSTAMP:20260423T182936
CREATED:20250706T192321Z
LAST-MODIFIED:20250706T192321Z
UID:6561-1755882000-1755896400@koc9053.com
SUMMARY:Bingo Team 4 - Fri. Aug. 22nd 5:00 pm
DESCRIPTION:Come enjoy Bingo Friday Nights! \nDoors open at 5 p.m. and Bingo begins at 6:30 p.m. \nLight Refreshments are available before BINGO and during intermission. \n* Each game night we award at least $1000 in prize money. \n* Play every game for $25. \n*Our end of evening Big Jackpot is now worth up to $1\,000.  Prizes lowered if less than 40 attendees. \nBenefits Knights of Columbus Council #9053 Charities.
URL:https://koc9053.com/event/bingo-team-4-fri-aug-22nd-500-pm/
LOCATION:Columbus Hall\, 9901 Caostal Hwy.\, Ocean City\, MD\, 21842-2604\, United States
CATEGORIES:Bingo
END:VEVENT
BEGIN:VEVENT
DTSTART;TZID=UTC:20250815T170000
DTEND;TZID=UTC:20250815T210000
DTSTAMP:20260423T182936
CREATED:20250815T211725Z
LAST-MODIFIED:20250815T211725Z
UID:6732-1755277200-1755291600@koc9053.com
SUMMARY:Bingo Team 4 - Fri. Sep. 19th 5:00 pm
DESCRIPTION:Come enjoy Bingo Friday Nights! \nDoors open at 5 p.m. and Bingo begins at 6:30 p.m. \nLight Refreshments are available before BINGO and during intermission. \n* Each game night we award at least $1000 in prize money. \n* Play every game for $25. \n*Our end of evening Big Jackpot is now worth up to $1\,000.  Prizes lowered if less than 40 attendees. \nBenefits Knights of Columbus Council #9053 Charities.
URL:https://koc9053.com/event/bingo-team-4-fri-sep-19th-500-pm-2/
LOCATION:Columbus Hall\, 9901 Caostal Hwy.\, Ocean City\, MD\, 21842-2604\, United States
CATEGORIES:Bingo
END:VEVENT
BEGIN:VEVENT
DTSTART;TZID=UTC:20250815T170000
DTEND;TZID=UTC:20250815T210000
DTSTAMP:20260423T182936
CREATED:20250706T191950Z
LAST-MODIFIED:20250706T191950Z
UID:6558-1755277200-1755291600@koc9053.com
SUMMARY:Bingo Team 3 - Fri. Aug. 15th 5:00 pm
DESCRIPTION:  \nCome enjoy Bingo Friday Nights! \nDoors open at 5 p.m. and Bingo begins at 6:30 p.m. \nLight Refreshments are available before BINGO and during intermission. \n* Each game night we award at least $1000 in prize money. \n* Play every game for $25. \n*Our end of evening Big Jackpot is now worth up to $1\,000.  Prizes lowered if less than 40 attendees. \nBenefits Knights of Columbus Council #9053 Charities.
URL:https://koc9053.com/event/bingo-team-3-fri-aug-15th-500-pm/
LOCATION:Columbus Hall\, 9901 Caostal Hwy.\, Ocean City\, MD\, 21842-2604\, United States
CATEGORIES:Bingo
END:VEVENT
BEGIN:VEVENT
DTSTART;TZID=UTC:20250808T170000
DTEND;TZID=UTC:20250808T210000
DTSTAMP:20260423T182936
CREATED:20250706T191702Z
LAST-MODIFIED:20250706T192037Z
UID:6555-1754672400-1754686800@koc9053.com
SUMMARY:Bingo Team 2 - Fri. Aug. 8th 5:00 pm
DESCRIPTION:  \nCome enjoy Bingo Friday Nights! \nDoors open at 5 p.m. and Bingo begins at 6:30 p.m. \nLight Refreshments are available before BINGO and during intermission. \n* Each game night we award at least $1000 in prize money. \n* Play every game for $25. \n*Our end of evening Big Jackpot is now worth up to $1\,000.  Prizes lowered if less than 40 attendees. \nBenefits Knights of Columbus Council #9053 Charities.
URL:https://koc9053.com/event/bingo-team-1-fri-aug-8th-500-pm/
LOCATION:Columbus Hall\, 9901 Caostal Hwy.\, Ocean City\, MD\, 21842-2604\, United States
CATEGORIES:Bingo
END:VEVENT
BEGIN:VEVENT
DTSTART;TZID=UTC:20250801T170000
DTEND;TZID=UTC:20250801T210000
DTSTAMP:20260423T182936
CREATED:20250706T185358Z
LAST-MODIFIED:20250706T185358Z
UID:6544-1754067600-1754082000@koc9053.com
SUMMARY:Bingo Team 1 - Fri. Aug. 1st 5:00 pm
DESCRIPTION:  \nCome enjoy Bingo Friday Nights! \nDoors open at 5 p.m. and Bingo begins at 6:30 p.m. \nLight Refreshments are available before BINGO and during intermission. \n* Each game night we award at least $1000 in prize money. \n* Play every game for $25. \n*Our end of evening Big Jackpot is now worth up to $1\,000.  Prizes lowered if less than 40 attendees. \nBenefits Knights of Columbus Council #9053 Charities.
URL:https://koc9053.com/event/bingo-team-1-fri-aug-1st-500-pm/
LOCATION:Columbus Hall\, 9901 Caostal Hwy.\, Ocean City\, MD\, 21842-2604\, United States
CATEGORIES:Bingo
END:VEVENT
BEGIN:VEVENT
DTSTART;TZID=UTC:20250725T170000
DTEND;TZID=UTC:20250725T210000
DTSTAMP:20260423T182936
CREATED:20250602T210922Z
LAST-MODIFIED:20250602T210922Z
UID:6448-1753462800-1753477200@koc9053.com
SUMMARY:Bingo Team 4 - Fri. July 25th 5:00 pm
DESCRIPTION:  \nCome enjoy Bingo Friday Nights! \nDoors open at 5 p.m. and Bingo begins at 6:30 p.m. \nLight Refreshments are available before BINGO and during intermission. \n* Each game night we award at least $1000 in prize money. \n* Play every game for $25. \n*Our end of evening Big Jackpot is now worth up to $1\,000.  Prizes lowered if less than 40 attendees. \nBenefits Knights of Columbus Council #9053 Charities.
URL:https://koc9053.com/event/bingo-team-4-fri-july-25th-500-pm/
LOCATION:Columbus Hall\, 9901 Caostal Hwy.\, Ocean City\, MD\, 21842-2604\, United States
CATEGORIES:Bingo
END:VEVENT
BEGIN:VEVENT
DTSTART;TZID=UTC:20250718T170000
DTEND;TZID=UTC:20250718T210000
DTSTAMP:20260423T182936
CREATED:20250602T205053Z
LAST-MODIFIED:20250602T205053Z
UID:6446-1752858000-1752872400@koc9053.com
SUMMARY:Bingo Team 3 - Fri. July 18th 5:00 pm
DESCRIPTION:  \nCome enjoy Bingo Friday Nights! \nDoors open at 5 p.m. and Bingo begins at 6:30 p.m. \nLight Refreshments are available before BINGO and during intermission. \n* Each game night we award at least $1000 in prize money. \n* Play every game for $25. \n*Our end of evening Big Jackpot is now worth up to $1\,000.  Prizes lowered if less than 40 attendees. \nBenefits Knights of Columbus Council #9053 Charities.
URL:https://koc9053.com/event/bingo-team-3-fri-july-18th-500-pm/
LOCATION:Columbus Hall\, 9901 Caostal Hwy.\, Ocean City\, MD\, 21842-2604\, United States
CATEGORIES:Bingo
END:VEVENT
BEGIN:VEVENT
DTSTART;TZID=UTC:20250711T170000
DTEND;TZID=UTC:20250711T210000
DTSTAMP:20260423T182936
CREATED:20250602T203751Z
LAST-MODIFIED:20250602T203751Z
UID:6444-1752253200-1752267600@koc9053.com
SUMMARY:Bingo Team 2 - Fri. July 11th 5:00 pm
DESCRIPTION:  \nCome enjoy Bingo Friday Nights! \nDoors open at 5 p.m. and Bingo begins at 6:30 p.m. \nLight Refreshments are available before BINGO and during intermission. \n* Each game night we award at least $1000 in prize money. \n* Play every game for $25. \n*Our end of evening Big Jackpot is now worth up to $1\,000.  Prizes lowered if less than 40 attendees. \nBenefits Knights of Columbus Council #9053 Charities.
URL:https://koc9053.com/event/bingo-team-2-fri-july-11th-500-pm/
LOCATION:Columbus Hall\, 9901 Caostal Hwy.\, Ocean City\, MD\, 21842-2604\, United States
CATEGORIES:Bingo
END:VEVENT
BEGIN:VEVENT
DTSTART;VALUE=DATE:20250704
DTEND;VALUE=DATE:20250705
DTSTAMP:20260423T182936
CREATED:20250602T200543Z
LAST-MODIFIED:20250602T200543Z
UID:6427-1751587200-1751673599@koc9053.com
SUMMARY:No Bingo Fri. July 4th
DESCRIPTION:No Bingo Fri. July 4th
URL:https://koc9053.com/event/no-bingo-fri-july-4th/
LOCATION:Columbus Hall\, 9901 Caostal Hwy.\, Ocean City\, MD\, 21842-2604\, United States
CATEGORIES:Bingo
END:VEVENT
BEGIN:VEVENT
DTSTART;TZID=UTC:20250627T170000
DTEND;TZID=UTC:20250627T210000
DTSTAMP:20260423T182936
CREATED:20250515T183522Z
LAST-MODIFIED:20250515T184758Z
UID:6279-1751043600-1751058000@koc9053.com
SUMMARY:Bingo Team 1 - Fri. June 27th 5:00 pm
DESCRIPTION:  \nCome enjoy Bingo Friday Nights! \nDoors open at 5 p.m. and Bingo begins at 6:30 p.m. \nLight Refreshments are available before BINGO and during intermission. \n* Each game night we award at least $1000 in prize money. \n* Play every game for $25. \n*Our end of evening Big Jackpot is now worth up to $1\,000.  Prizes lowered if less than 40 attendees. \nBenefits Knights of Columbus Council #9053 Charities.
URL:https://koc9053.com/event/bingo-team-1-fri-june-27th-530-pm/
LOCATION:Columbus Hall\, 9901 Caostal Hwy.\, Ocean City\, MD\, 21842-2604\, United States
CATEGORIES:Bingo
END:VEVENT
BEGIN:VEVENT
DTSTART;TZID=UTC:20250620T170000
DTEND;TZID=UTC:20250620T210000
DTSTAMP:20260423T182936
CREATED:20250515T181436Z
LAST-MODIFIED:20250515T184954Z
UID:6269-1750438800-1750453200@koc9053.com
SUMMARY:Bingo Team 4 - Fri. June 20th 5:00 pm
DESCRIPTION:  \nCome enjoy Bingo Friday Nights! \nDoors open at 5 p.m. and Bingo begins at 6:30 p.m. \nLight Refreshments are available before BINGO and during intermission. \n* Each game night we award at least $1000 in prize money. \n* Play every game for $25. \n*Our end of evening Big Jackpot is now worth up to $1\,000.  Prizes lowered if less than 40 attendees. \nBenefits Knights of Columbus Council #9053 Charities.
URL:https://koc9053.com/event/bingo-team-4-fri-june-20th/
LOCATION:Columbus Hall\, 9901 Caostal Hwy.\, Ocean City\, MD\, 21842-2604\, United States
CATEGORIES:Bingo
END:VEVENT
BEGIN:VEVENT
DTSTART;TZID=UTC:20250613T170000
DTEND;TZID=UTC:20250613T213000
DTSTAMP:20260423T182936
CREATED:20250506T175124Z
LAST-MODIFIED:20250515T183833Z
UID:6244-1749834000-1749850200@koc9053.com
SUMMARY:Bingo Team 3 - Fri. June 13th 5:00 pm
DESCRIPTION:  \nCome enjoy Bingo Friday Nights! \nDoors open at 5 p.m. and Bingo begins at 6:30 p.m. \nLight Refreshments are available before BINGO and during intermission. \n* Each game night we award at least $1000 in prize money. \n* Play every game for $25. \n*Our end of evening Big Jackpot is now worth up to $1\,000.  Prizes lowered if less than 40 attendees. \nBenefits Knights of Columbus Council #9053 Charities.
URL:https://koc9053.com/event/bingo-team-3-fri-june-13th/
LOCATION:MD
CATEGORIES:Bingo
END:VEVENT
BEGIN:VEVENT
DTSTART;TZID=UTC:20250606T170000
DTEND;TZID=UTC:20250606T213000
DTSTAMP:20260423T182936
CREATED:20250429T212327Z
LAST-MODIFIED:20250515T183933Z
UID:6162-1749229200-1749245400@koc9053.com
SUMMARY:Bingo Team 2 - Fri. June 6 5:00 pm
DESCRIPTION:  \nCome enjoy Bingo Friday Nights! \nDoors open at 5 p.m. and Bingo begins at 6:30 p.m. \nLight Refreshments are available before BINGO and during intermission. \n* Each game night we award at least $1000 in prize money. \n* Play every game for $25. \n*Our end of evening Big Jackpot is now worth up to $1\,000.  Prizes lowered if less than 40 attendees. \nBenefits Knights of Columbus Council #9053 Charities.
URL:https://koc9053.com/event/bingo-team-2-fri-june-6/
LOCATION:Columbus Hall\, 9901 Coastal Highway\, Ocean City\, MD\, 21842\, United States
CATEGORIES:Bingo
END:VEVENT
BEGIN:VEVENT
DTSTART;TZID=UTC:20250530T170000
DTEND;TZID=UTC:20250530T213000
DTSTAMP:20260423T182936
CREATED:20250429T175836Z
LAST-MODIFIED:20250515T184040Z
UID:6149-1748624400-1748640600@koc9053.com
SUMMARY:Bingo Team 1 - Fri. May 30 5:00 pm
DESCRIPTION:  \nCome enjoy Bingo Friday Nights! \nDoors open at 5 p.m. and Bingo begins at 6:30 p.m. \nLight Refreshments are available before BINGO and during intermission. \n* Each game night we award at least $1000 in prize money. \n* Play every game for $25. \n*Our end of evening Big Jackpot is now worth up to $1\,000.  Prizes lowered if less than 40 attendees. \nBenefits Knights of Columbus Council #9053 Charities.
URL:https://koc9053.com/event/bingo-team-3-fri-may-30-2/
LOCATION:Columbus Hall\, 9901 Coastal Highway\, Ocean City\, MD\, 21842\, United States
CATEGORIES:Bingo
END:VEVENT
BEGIN:VEVENT
DTSTART;TZID=UTC:20250523T170000
DTEND;TZID=UTC:20250523T213000
DTSTAMP:20260423T182936
CREATED:20250429T175600Z
LAST-MODIFIED:20250429T212435Z
UID:6147-1748019600-1748035800@koc9053.com
SUMMARY:Bingo Team 3 - Fri. May 23
DESCRIPTION:  \nCome enjoy Bingo Friday Nights! \nDoors open at 5 p.m. and Bingo begins at 6:30 p.m. \nLight Refreshments are available before BINGO and during intermission. \n* Each game night we award at least $1000 in prize money. \n* Play every game for $25. \n*Our end of evening Big Jackpot is now worth up to $1\,000.  Prizes lowered if less than 40 attendees. \nBenefits Knights of Columbus Council #9053 Charities.
URL:https://koc9053.com/event/bingo-team-3-fri-may-23/
LOCATION:Columbus Hall\, 9901 Coastal Highway\, Ocean City\, MD\, 21842\, United States
CATEGORIES:Bingo
END:VEVENT
BEGIN:VEVENT
DTSTART;TZID=UTC:20250516T170000
DTEND;TZID=UTC:20250516T213000
DTSTAMP:20260423T182936
CREATED:20250407T210017Z
LAST-MODIFIED:20250429T212558Z
UID:5933-1747414800-1747431000@koc9053.com
SUMMARY:Bingo Team 3 - Fri. May 16
DESCRIPTION:  \nCome enjoy Bingo Friday Nights! \nDoors open at 5 p.m. and Bingo begins at 6:30 p.m. \nLight Refreshments are available before BINGO and during intermission. \n* Each game night we award at least $1000 in prize money. \n* Play every game for $25. \n*Our end of evening Big Jackpot is now worth up to $1\,000.  Prizes lowered if less than 40 attendees. \nBenefits Knights of Columbus Council #9053 Charities.
URL:https://koc9053.com/event/bingo-team-3-fri-may-16/
LOCATION:Columbus Hall\, 9901 Coastal Highway\, Ocean City\, MD\, 21842\, United States
CATEGORIES:Bingo
END:VEVENT
BEGIN:VEVENT
DTSTART;TZID=UTC:20250509T170000
DTEND;TZID=UTC:20250509T213000
DTSTAMP:20260423T182936
CREATED:20250407T201827Z
LAST-MODIFIED:20250429T212634Z
UID:5918-1746810000-1746826200@koc9053.com
SUMMARY:Bingo Team 2 - Fri. May 9
DESCRIPTION:  \nCome enjoy Bingo Friday Nights! \nDoors open at 5 p.m. and Bingo begins at 6:30 p.m. \nLight Refreshments are available before BINGO and during intermission. \n* Each game night we award at least $1000 in prize money. \n* Play every game for $25. \n*Our end of evening Big Jackpot is now worth up to $1\,000.  Prizes lowered if less than 40 attendees. \nBenefits Knights of Columbus Council #9053 Charities.
URL:https://koc9053.com/event/bingo-team-2-fri-may-8/
LOCATION:Columbus Hall\, 9901 Coastal Highway\, Ocean City\, MD\, 21842\, United States
CATEGORIES:Bingo
END:VEVENT
END:VCALENDAR