BEGIN:VCALENDAR
VERSION:2.0
PRODID:-//Knights of Columbus #9053 Ocean City, Maryland - ECPv6.15.20//NONSGML v1.0//EN
CALSCALE:GREGORIAN
METHOD:PUBLISH
X-ORIGINAL-URL:https://koc9053.com
X-WR-CALDESC:Events for Knights of Columbus #9053 Ocean City, Maryland
REFRESH-INTERVAL;VALUE=DURATION:PT1H
X-Robots-Tag:noindex
X-PUBLISHED-TTL:PT1H
BEGIN:VTIMEZONE
TZID:UTC
BEGIN:STANDARD
TZOFFSETFROM:+0000
TZOFFSETTO:+0000
TZNAME:UTC
DTSTART:20230101T000000
END:STANDARD
END:VTIMEZONE
BEGIN:VEVENT
DTSTART;TZID=UTC:20250117T173000
DTEND;TZID=UTC:20250117T213000
DTSTAMP:20260424T012752
CREATED:20241206T221038Z
LAST-MODIFIED:20250114T200556Z
UID:4882-1737135000-1737149400@koc9053.com
SUMMARY:Bingo Team 3 - Fri. Jan. 17
DESCRIPTION:  \nCome enjoy Bingo Friday Nights! \nDoors open at 5 p.m. and Bingo begins at 6:30 p.m. \nLight Refreshments are available before BINGO and during intermission. \n* Each game night we award at least $1000 in prize money. \n* Play every game for $25. \n*Our end of evening Big Jackpot is now worth up to $1\,000.  Prizes lowered if less than 40 attendees. \nBenefits Knights of Columbus Council #9053 Charities.
URL:https://koc9053.com/event/bingo-team-3-2/
LOCATION:Columbus Hall\, 9901 Coastal Highway\, Ocean City\, MD\, 21842\, United States
CATEGORIES:Bingo
END:VEVENT
BEGIN:VEVENT
DTSTART;TZID=UTC:20250115T103000
DTEND;TZID=UTC:20250115T153000
DTSTAMP:20260424T012752
CREATED:20241206T230958Z
LAST-MODIFIED:20250114T201847Z
UID:4906-1736937000-1736955000@koc9053.com
SUMMARY:Bingo for Babies 2025 - Wed. Jan. 15
DESCRIPTION:Bingo for Babies 2025
URL:https://koc9053.com/event/bingo-for-babies/
LOCATION:MD
CATEGORIES:Bingo,Lady Knights
END:VEVENT
BEGIN:VEVENT
DTSTART;TZID=UTC:20250110T170000
DTEND;TZID=UTC:20250110T213000
DTSTAMP:20260424T012752
CREATED:20241206T214845Z
LAST-MODIFIED:20250108T222330Z
UID:4871-1736528400-1736544600@koc9053.com
SUMMARY:Bingo Team 2 (cancelled inclement weather)
DESCRIPTION:  \nCome enjoy Bingo Friday Nights! \nDoors open at 5 p.m. and Bingo begins at 6:30 p.m. \nLight Refreshments are available before BINGO and during intermission. \n* Each game night we award at least $1000 in prize money. \n* Play every game for $25. \n*Our end of evening Big Jackpot is now worth up to $1\,000.  Prizes lowered if less than 40 attendees. \nBenefits Knights of Columbus Council #9053 Charities.
URL:https://koc9053.com/event/bingo-team-2/
LOCATION:Columbus Hall\, 9901 Coastal Highway\, Ocean City\, MD\, 21842\, United States
CATEGORIES:Bingo
END:VEVENT
BEGIN:VEVENT
DTSTART;TZID=UTC:20250103T170000
DTEND;TZID=UTC:20250103T213000
DTSTAMP:20260424T012752
CREATED:20241124T234011Z
LAST-MODIFIED:20250116T202841Z
UID:4716-1735923600-1735939800@koc9053.com
SUMMARY:Bingo - Team 1 Fri. Jan. 3
DESCRIPTION:  \n  \nCome enjoy Bingo Friday Nights! \nDoors open at 5 p.m. and Bingo begins at 6:30 p.m. \nLight Refreshments are available before BINGO and during intermission. \n* Each game night we award at least $1000 in prize money. \n* Play every game for $25. \n*Our end of evening Big Jackpot is now worth up to $1\,000.  Prizes lowered if less than 40 attendees. \nBenefits Knights of Columbus Council #9053 Charities.
URL:https://koc9053.com/event/bingo-team-4-2/
LOCATION:Columbus Hall\, 9901 Coastal Highway\, Ocean City\, MD\, 21842\, United States
CATEGORIES:Bingo
ATTACH;FMTTYPE=image/jpeg:https://koc9053.com/wp-content/uploads/2024/09/Friday-Night-Bingo_Revised-11-May-2023-scaled.jpg
END:VEVENT
BEGIN:VEVENT
DTSTART;TZID=UTC:20241227T170000
DTEND;TZID=UTC:20241227T213000
DTSTAMP:20260424T012752
CREATED:20241124T232941Z
LAST-MODIFIED:20241210T153444Z
UID:4713-1735318800-1735335000@koc9053.com
SUMMARY:Bingo - Team 4
DESCRIPTION:  \n  \nCome enjoy Bingo Friday Nights! \nDoors open at 5 p.m. and Bingo begins at 6:30 p.m. \nLight Refreshments are available before BINGO and during intermission. \n* Each game night we award at least $1000 in prize money. \n* Play every game for $25. \n*Our end of evening Big Jackpot is now worth up to $1\,000.  Prizes lowered if less than 40 attendees. \nBenefits Knights of Columbus Council #9053 Charities.
URL:https://koc9053.com/event/bingo-team-4/
LOCATION:Columbus Hall\, 9901 Coastal Highway\, Ocean City\, MD\, 21842\, United States
CATEGORIES:Bingo
ATTACH;FMTTYPE=image/jpeg:https://koc9053.com/wp-content/uploads/2024/09/Friday-Night-Bingo_Revised-11-May-2023-scaled.jpg
END:VEVENT
BEGIN:VEVENT
DTSTART;TZID=UTC:20241220T170000
DTEND;TZID=UTC:20241220T213000
DTSTAMP:20260424T012752
CREATED:20241124T221834Z
LAST-MODIFIED:20241210T153523Z
UID:4709-1734714000-1734730200@koc9053.com
SUMMARY:Bingo - Team 3
DESCRIPTION:  \nCome enjoy Bingo Friday Nights! \nDoors open at 5 p.m. and Bingo begins at 6:30 p.m. \nLight Refreshments are available before BINGO and during intermission. \n* Each game night we award at least $1000 in prize money. \n* Play every game for $25. \n*Our end of evening Big Jackpot is now worth up to $1\,000.  Prizes lowered if less than 40 attendees. \nBenefits Knights of Columbus Council #9053 Charities.
URL:https://koc9053.com/event/bingo-team-3/
LOCATION:Columbus Hall\, 9901 Coastal Highway\, Ocean City\, MD\, 21842\, United States
CATEGORIES:Bingo
ATTACH;FMTTYPE=image/jpeg:https://koc9053.com/wp-content/uploads/2024/09/Friday-Night-Bingo_Revised-11-May-2023-scaled.jpg
END:VEVENT
BEGIN:VEVENT
DTSTART;TZID=UTC:20241213T170000
DTEND;TZID=UTC:20241213T213000
DTSTAMP:20260424T012752
CREATED:20241124T003226Z
LAST-MODIFIED:20241210T152314Z
UID:4670-1734109200-1734125400@koc9053.com
SUMMARY:Bingo - Team 2
DESCRIPTION:  \nCome enjoy Bingo Friday Nights! \nDoors open at 5 p.m. and Bingo begins at 6:30 p.m. \nLight Refreshments are available before BINGO and during intermission. \n* Each game night we award at least $1000 in prize money. \n* Play every game for $25. \n*Our end of evening Big Jackpot is now worth up to $1\,000.  Prizes lowered if less than 40 attendees. \nBenefits Knights of Columbus Council #9053 Charities.
URL:https://koc9053.com/event/bingo-team-1-2/
LOCATION:Columbus Hall\, 9901 Coastal Highway\, Ocean City\, MD\, 21842\, United States
CATEGORIES:Bingo
ATTACH;FMTTYPE=image/jpeg:https://koc9053.com/wp-content/uploads/2024/09/Friday-Night-Bingo_Revised-11-May-2023-scaled.jpg
END:VEVENT
BEGIN:VEVENT
DTSTART;TZID=UTC:20241206T170000
DTEND;TZID=UTC:20241206T213000
DTSTAMP:20260424T012752
CREATED:20241124T215559Z
LAST-MODIFIED:20241206T231949Z
UID:4699-1733504400-1733520600@koc9053.com
SUMMARY:Bingo - Team 1
DESCRIPTION:  \nCome enjoy Bingo Friday Nights! \nDoors open at 5 p.m. and Bingo begins at 6:30 p.m. \nLight Refreshments are available before BINGO and during intermission. \n* Each game night we award at least $1000 in prize money. \n* Play every game for $25. \n*Our end of evening Big Jackpot is now worth up to $1\,000.  Prizes lowered if less than 40 attendees. \nBenefits Knights of Columbus Council #9053 Charities.
URL:https://koc9053.com/event/bingo-team-1-3/
LOCATION:Columbus Hall\, 9901 Coastal Highway\, Ocean City\, MD\, 21842\, United States
CATEGORIES:Bingo
END:VEVENT
BEGIN:VEVENT
DTSTART;TZID=UTC:20241205T100000
DTEND;TZID=UTC:20241205T110000
DTSTAMP:20260424T012752
CREATED:20241124T235929Z
LAST-MODIFIED:20250116T203438Z
UID:4721-1733392800-1733396400@koc9053.com
SUMMARY:Rosary Hour Thur. Dec. 5
DESCRIPTION:The Rosary Hour is back on Thursdays at 10:00 a.m. at the Columbus Hall. \nThe Rosary is followed by a reading of the next Sunday’s Gospel and a discussion about this Sunday’s Gospel. \nTo join us for Rosary Hour via Dial-In: 1-848-220-3100 \nUse ID 905300#
URL:https://koc9053.com/event/rosary-hour/
LOCATION:Columbus Hall\, 9901 Coastal Highway\, Ocean City\, MD\, 21842\, United States
CATEGORIES:Bingo,Rosary
END:VEVENT
BEGIN:VEVENT
DTSTART;TZID=UTC:20241129T183000
DTEND;TZID=UTC:20241129T213000
DTSTAMP:20260424T012752
CREATED:20241016T013720Z
LAST-MODIFIED:20241016T013738Z
UID:3899-1732905000-1732915800@koc9053.com
SUMMARY:BINGO - Team 4
DESCRIPTION:Come enjoy Bingo Friday Nights! \nDoors open at 5 p.m. and Bingo begins at 6:30 p.m. \nLight Refreshments are available before BINGO and during intermission. \n* Each game night we award at least $1000 in prize money. \n* Play every game for $25. \n*Our end of evening Big Jackpot is now worth up to $1\,000.  Prizes lowered if less than 40 attendees. \nBenefits Knights of Columbus Council #9053 Charities.
URL:https://koc9053.com/event/bingo-1129t4/
LOCATION:Columbus Hall\, 9901 Coastal Highway\, Ocean City\, MD\, 21842\, United States
CATEGORIES:Bingo
ATTACH;FMTTYPE=image/png:https://koc9053.com/wp-content/uploads/2024/09/Bingo-for-Website-2.png
END:VEVENT
BEGIN:VEVENT
DTSTART;TZID=UTC:20241108T183000
DTEND;TZID=UTC:20241108T183000
DTSTAMP:20260424T012752
CREATED:20241016T012814Z
LAST-MODIFIED:20241016T013416Z
UID:3902-1731090600-1731090600@koc9053.com
SUMMARY:BINGO - Team 1
DESCRIPTION:Come enjoy Bingo Friday Nights! \nDoors open at 5 p.m. and Bingo begins at 6:30 p.m. \nLight Refreshments are available before BINGO and during intermission. \n* Each game night we award at least $1000 in prize money. \n* Play every game for $25. \n*Our end of evening Big Jackpot is now worth up to $1\,000.  Prizes lowered if less than 40 attendees. \nBenefits Knights of Columbus Council #9053 Charities.
URL:https://koc9053.com/event/bingo-118t1/
LOCATION:Columbus Hall\, 9901 Coastal Highway\, Ocean City\, MD\, 21842\, United States
CATEGORIES:Bingo
ATTACH;FMTTYPE=image/png:https://koc9053.com/wp-content/uploads/2024/09/Bingo-for-Website-2.png
END:VEVENT
END:VCALENDAR