BEGIN:VCALENDAR
VERSION:2.0
PRODID:-//Knights of Columbus #9053 Ocean City, Maryland - ECPv6.15.20//NONSGML v1.0//EN
CALSCALE:GREGORIAN
METHOD:PUBLISH
X-WR-CALNAME:Knights of Columbus #9053 Ocean City, Maryland
X-ORIGINAL-URL:https://koc9053.com
X-WR-CALDESC:Events for Knights of Columbus #9053 Ocean City, Maryland
REFRESH-INTERVAL;VALUE=DURATION:PT1H
X-Robots-Tag:noindex
X-PUBLISHED-TTL:PT1H
BEGIN:VTIMEZONE
TZID:UTC
BEGIN:STANDARD
TZOFFSETFROM:+0000
TZOFFSETTO:+0000
TZNAME:UTC
DTSTART:20240101T000000
END:STANDARD
END:VTIMEZONE
BEGIN:VEVENT
DTSTART;VALUE=DATE:20250823
DTEND;VALUE=DATE:20250825
DTSTAMP:20260424T051110
CREATED:20250812T151030Z
LAST-MODIFIED:20250812T151030Z
UID:6680-1755907200-1756079999@koc9053.com
SUMMARY:Tootsie Roll Drive - Holy Savior /St Mary Star of the Sea
DESCRIPTION:After all Masses this weekend
URL:https://koc9053.com/event/tootsie-roll-drive-holy-savior-st-mary-star-of-the-sea/
LOCATION:Holy Savior /St Mary Star of the Sea
CATEGORIES:Charity
END:VEVENT
END:VCALENDAR