BEGIN:VCALENDAR
VERSION:2.0
PRODID:-//Knights of Columbus #9053 Ocean City, Maryland - ECPv6.15.20//NONSGML v1.0//EN
CALSCALE:GREGORIAN
METHOD:PUBLISH
X-WR-CALNAME:Knights of Columbus #9053 Ocean City, Maryland
X-ORIGINAL-URL:https://koc9053.com
X-WR-CALDESC:Events for Knights of Columbus #9053 Ocean City, Maryland
REFRESH-INTERVAL;VALUE=DURATION:PT1H
X-Robots-Tag:noindex
X-PUBLISHED-TTL:PT1H
BEGIN:VTIMEZONE
TZID:UTC
BEGIN:STANDARD
TZOFFSETFROM:+0000
TZOFFSETTO:+0000
TZNAME:UTC
DTSTART:20240101T000000
END:STANDARD
END:VTIMEZONE
BEGIN:VEVENT
DTSTART;TZID=UTC:20250206T173000
DTEND;TZID=UTC:20250206T210000
DTSTAMP:20260425T191216
CREATED:20250107T214931Z
LAST-MODIFIED:20250202T215105Z
UID:5055-1738863000-1738875600@koc9053.com
SUMMARY:Sons of Italy Meeting 5:30 pm - Thur. Feb. 6
DESCRIPTION:Sons of Italy monthly business meeting starts at 7:00 pm.
URL:https://koc9053.com/event/sons-of-italy-meeting-530-pm-2/
LOCATION:Columbus Hall\, 9901 Coastal Highway\, Ocean City\, MD\, 21842\, United States
CATEGORIES:Club Meeting
END:VEVENT
BEGIN:VEVENT
DTSTART;TZID=UTC:20250212T140000
DTEND;TZID=UTC:20250212T160000
DTSTAMP:20260425T191216
CREATED:20250107T220058Z
LAST-MODIFIED:20250202T215418Z
UID:5059-1739368800-1739376000@koc9053.com
SUMMARY:Polish American Club Meeting - Wed. Feb. 12
DESCRIPTION:Polish American Club Meeting\, 2:00 pm @ the Columbus Hall.
URL:https://koc9053.com/event/polish-american-club-meeting-2/
LOCATION:Columbus Hall\, 9901 Coastal Highway\, Ocean City\, MD\, 21842\, United States
CATEGORIES:Club Meeting
END:VEVENT
BEGIN:VEVENT
DTSTART;TZID=UTC:20250218T093000
DTEND;TZID=UTC:20250218T120000
DTSTAMP:20260425T191216
CREATED:20250114T191356Z
LAST-MODIFIED:20250114T211914Z
UID:5133-1739871000-1739880000@koc9053.com
SUMMARY:LAOH Ladies Ancient Order of Hibernians Meeting -Tue. Jan. 18
DESCRIPTION:LAOH Ladies Ancient Order of Hibernians Meeting
URL:https://koc9053.com/event/laoh-ladies-ancient-order-of-hibernians-meeting-2/
LOCATION:Columbus Hall\, 9901 Coastal Highway\, Ocean City\, MD\, 21842\, United States
CATEGORIES:Club Meeting
END:VEVENT
END:VCALENDAR