BEGIN:VCALENDAR
VERSION:2.0
PRODID:-//Knights of Columbus #9053 Ocean City, Maryland - ECPv6.15.20//NONSGML v1.0//EN
CALSCALE:GREGORIAN
METHOD:PUBLISH
X-WR-CALNAME:Knights of Columbus #9053 Ocean City, Maryland
X-ORIGINAL-URL:https://koc9053.com
X-WR-CALDESC:Events for Knights of Columbus #9053 Ocean City, Maryland
REFRESH-INTERVAL;VALUE=DURATION:PT1H
X-Robots-Tag:noindex
X-PUBLISHED-TTL:PT1H
BEGIN:VTIMEZONE
TZID:UTC
BEGIN:STANDARD
TZOFFSETFROM:+0000
TZOFFSETTO:+0000
TZNAME:UTC
DTSTART:20240101T000000
END:STANDARD
END:VTIMEZONE
BEGIN:VEVENT
DTSTART;TZID=UTC:20250605T173000
DTEND;TZID=UTC:20250605T210000
DTSTAMP:20260425T123456
CREATED:20250429T182029Z
LAST-MODIFIED:20250429T182029Z
UID:6160-1749144600-1749157200@koc9053.com
SUMMARY:Sons of Italy Meeting 5:30 pm - Thur. June 5
DESCRIPTION:Sons of Italy monthly officers meeting starts at 5:30 pm.\, business meeting starts at 7:00 pm.
URL:https://koc9053.com/event/sons-of-italy-meeting-530-pm-thur-june-5/
LOCATION:Columbus Hall\, 9901 Coastal Highway\, Ocean City\, MD\, 21842\, United States
CATEGORIES:Club Meeting
END:VEVENT
BEGIN:VEVENT
DTSTART;TZID=UTC:20250611T140000
DTEND;TZID=UTC:20250611T160000
DTSTAMP:20260425T123456
CREATED:20250506T173155Z
LAST-MODIFIED:20250506T173155Z
UID:6232-1749650400-1749657600@koc9053.com
SUMMARY:Polish American Club Meeting - Wed. June 11th
DESCRIPTION:Polish American Club Meeting\, 2:00 pm @ the Columbus Hall.
URL:https://koc9053.com/event/polish-american-club-meeting-wed-june-11th/
CATEGORIES:Club Meeting
END:VEVENT
BEGIN:VEVENT
DTSTART;TZID=UTC:20250626T173000
DTEND;TZID=UTC:20250626T210000
DTSTAMP:20260425T123456
CREATED:20250515T182934Z
LAST-MODIFIED:20250515T184844Z
UID:6276-1750959000-1750971600@koc9053.com
SUMMARY:Son's of Italy\, Italian Students Welcome Dinner\, Thur. June 26th 5:00 pm
DESCRIPTION:Son’s of Italy\, Italian Students Welcome Dinner\, Thur. June 26th 5:00 pm
URL:https://koc9053.com/event/sons-of-italy-italian-students-welcome-dinner-thur-june-26th-530-pm/
LOCATION:Columbus Hall\, 9901 Caostal Hwy.\, Ocean City\, MD\, 21842-2604\, United States
CATEGORIES:Club Meeting
END:VEVENT
END:VCALENDAR