BEGIN:VCALENDAR
VERSION:2.0
PRODID:-//Knights of Columbus #9053 Ocean City, Maryland - ECPv6.15.20//NONSGML v1.0//EN
CALSCALE:GREGORIAN
METHOD:PUBLISH
X-WR-CALNAME:Knights of Columbus #9053 Ocean City, Maryland
X-ORIGINAL-URL:https://koc9053.com
X-WR-CALDESC:Events for Knights of Columbus #9053 Ocean City, Maryland
REFRESH-INTERVAL;VALUE=DURATION:PT1H
X-Robots-Tag:noindex
X-PUBLISHED-TTL:PT1H
BEGIN:VTIMEZONE
TZID:UTC
BEGIN:STANDARD
TZOFFSETFROM:+0000
TZOFFSETTO:+0000
TZNAME:UTC
DTSTART:20240101T000000
END:STANDARD
END:VTIMEZONE
BEGIN:VEVENT
DTSTART;TZID=UTC:20250626T173000
DTEND;TZID=UTC:20250626T210000
DTSTAMP:20260425T205028
CREATED:20250515T182934Z
LAST-MODIFIED:20250515T184844Z
UID:6276-1750959000-1750971600@koc9053.com
SUMMARY:Son's of Italy\, Italian Students Welcome Dinner\, Thur. June 26th 5:00 pm
DESCRIPTION:Son’s of Italy\, Italian Students Welcome Dinner\, Thur. June 26th 5:00 pm
URL:https://koc9053.com/event/sons-of-italy-italian-students-welcome-dinner-thur-june-26th-530-pm/
LOCATION:Columbus Hall\, 9901 Caostal Hwy.\, Ocean City\, MD\, 21842-2604\, United States
CATEGORIES:Club Meeting
END:VEVENT
BEGIN:VEVENT
DTSTART;TZID=UTC:20250910T170000
DTEND;TZID=UTC:20250910T190000
DTSTAMP:20260425T205028
CREATED:20250815T203315Z
LAST-MODIFIED:20250815T203315Z
UID:6711-1757523600-1757530800@koc9053.com
SUMMARY:Polish American Club Meeting - Wed. Sept. 10th
DESCRIPTION:Polish American Club Meeting\, Wed. 5:00 pm @ the Columbus Hall.
URL:https://koc9053.com/event/polish-american-club-meeting-wed-sept-10th/
LOCATION:Columbus Hall\, 9901 Caostal Hwy.\, Ocean City\, MD\, 21842-2604\, United States
CATEGORIES:Club Meeting
END:VEVENT
BEGIN:VEVENT
DTSTART;TZID=UTC:20260327T080000
DTEND;TZID=UTC:20260327T170000
DTSTAMP:20260425T205028
CREATED:20260327T201231Z
LAST-MODIFIED:20260327T201231Z
UID:7531-1774598400-1774630800@koc9053.com
SUMMARY:Polish American Club Meeting - Wed. April 8th
DESCRIPTION:Polish American Club Meeting\, Wed. 2:00 pm @ the Columbus Hall.
URL:https://koc9053.com/event/polish-american-club-meeting-wed-april-8th/
LOCATION:MD
CATEGORIES:Club Meeting
END:VEVENT
BEGIN:VEVENT
DTSTART;TZID=UTC:20260331T173000
DTEND;TZID=UTC:20260331T210000
DTSTAMP:20260425T205028
CREATED:20260327T195929Z
LAST-MODIFIED:20260327T195929Z
UID:7525-1774978200-1774990800@koc9053.com
SUMMARY:Sons of Italy Meeting 5:30 pm - Tue. March 31
DESCRIPTION:Sons of Italy monthly officers meeting starts at 5:30 pm.\, business meeting starts at 7:00 pm. Special Date.
URL:https://koc9053.com/event/sons-of-italy-meeting-530-pm-tue-march-31/
LOCATION:Columbus Hall\, 9901 Caostal Hwy.\, Ocean City\, MD\, 21842-2604\, United States
CATEGORIES:Club Meeting
END:VEVENT
END:VCALENDAR