BEGIN:VCALENDAR
VERSION:2.0
PRODID:-//Knights of Columbus #9053 Ocean City, Maryland - ECPv6.15.20//NONSGML v1.0//EN
CALSCALE:GREGORIAN
METHOD:PUBLISH
X-WR-CALNAME:Knights of Columbus #9053 Ocean City, Maryland
X-ORIGINAL-URL:https://koc9053.com
X-WR-CALDESC:Events for Knights of Columbus #9053 Ocean City, Maryland
REFRESH-INTERVAL;VALUE=DURATION:PT1H
X-Robots-Tag:noindex
X-PUBLISHED-TTL:PT1H
BEGIN:VTIMEZONE
TZID:UTC
BEGIN:STANDARD
TZOFFSETFROM:+0000
TZOFFSETTO:+0000
TZNAME:UTC
DTSTART:20240101T000000
END:STANDARD
END:VTIMEZONE
BEGIN:VEVENT
DTSTART;TZID=UTC:20250108T100000
DTEND;TZID=UTC:20250108T120000
DTSTAMP:20260424T133220
CREATED:20241202T212504Z
LAST-MODIFIED:20241210T152503Z
UID:4783-1736330400-1736337600@koc9053.com
SUMMARY:Columbus Club Board of Directors Meeting
DESCRIPTION:
URL:https://koc9053.com/event/columbus-club-board-of-directors-meeting/
LOCATION:Columbus Hall\, 9901 Coastal Highway\, Ocean City\, MD\, 21842\, United States
CATEGORIES:Columbus Club
ATTACH;FMTTYPE=image/jpeg:https://koc9053.com/wp-content/uploads/2024/10/pexels-photo-4964747-4964747-scaled.jpg
END:VEVENT
END:VCALENDAR