BEGIN:VCALENDAR
VERSION:2.0
PRODID:-//Knights of Columbus #9053 Ocean City, Maryland - ECPv6.15.20//NONSGML v1.0//EN
CALSCALE:GREGORIAN
METHOD:PUBLISH
X-ORIGINAL-URL:https://koc9053.com
X-WR-CALDESC:Events for Knights of Columbus #9053 Ocean City, Maryland
REFRESH-INTERVAL;VALUE=DURATION:PT1H
X-Robots-Tag:noindex
X-PUBLISHED-TTL:PT1H
BEGIN:VTIMEZONE
TZID:UTC
BEGIN:STANDARD
TZOFFSETFROM:+0000
TZOFFSETTO:+0000
TZNAME:UTC
DTSTART:20240101T000000
END:STANDARD
END:VTIMEZONE
BEGIN:VEVENT
DTSTART;TZID=UTC:20250212T100000
DTEND;TZID=UTC:20250212T120000
DTSTAMP:20260424T120302
CREATED:20250107T220457Z
LAST-MODIFIED:20250302T214259Z
UID:5061-1739354400-1739361600@koc9053.com
SUMMARY:Columbus Club Board of Directors Meeting -Wed. Feb. 12
DESCRIPTION:Columbus Club Board of Directors Meeting -Wed. Mar. 12. Open invitation to all members.
URL:https://koc9053.com/event/columbus-club-board-of-directors-meeting-2/
LOCATION:Columbus Hall\, 9901 Coastal Highway\, Ocean City\, MD\, 21842\, United States
CATEGORIES:Columbus Club
END:VEVENT
END:VCALENDAR