BEGIN:VCALENDAR
VERSION:2.0
PRODID:-//Knights of Columbus #9053 Ocean City, Maryland - ECPv6.15.20//NONSGML v1.0//EN
CALSCALE:GREGORIAN
METHOD:PUBLISH
X-WR-CALNAME:Knights of Columbus #9053 Ocean City, Maryland
X-ORIGINAL-URL:https://koc9053.com
X-WR-CALDESC:Events for Knights of Columbus #9053 Ocean City, Maryland
REFRESH-INTERVAL;VALUE=DURATION:PT1H
X-Robots-Tag:noindex
X-PUBLISHED-TTL:PT1H
BEGIN:VTIMEZONE
TZID:UTC
BEGIN:STANDARD
TZOFFSETFROM:+0000
TZOFFSETTO:+0000
TZNAME:UTC
DTSTART:20240101T000000
END:STANDARD
END:VTIMEZONE
BEGIN:VEVENT
DTSTART;TZID=UTC:20250311T103000
DTEND;TZID=UTC:20250311T110000
DTSTAMP:20260424T163657
CREATED:20250302T202555Z
LAST-MODIFIED:20250302T202555Z
UID:5526-1741689000-1741690800@koc9053.com
SUMMARY:Charity Committee Meeting
DESCRIPTION:Charity Committee Meeting at 10:30 am in the Columbus Hall.
URL:https://koc9053.com/event/charity-committee-meeting-2/
LOCATION:MD
CATEGORIES:Committee Meeting
END:VEVENT
END:VCALENDAR