BEGIN:VCALENDAR
VERSION:2.0
PRODID:-//Knights of Columbus #9053 Ocean City, Maryland - ECPv6.15.20//NONSGML v1.0//EN
CALSCALE:GREGORIAN
METHOD:PUBLISH
X-WR-CALNAME:Knights of Columbus #9053 Ocean City, Maryland
X-ORIGINAL-URL:https://koc9053.com
X-WR-CALDESC:Events for Knights of Columbus #9053 Ocean City, Maryland
REFRESH-INTERVAL;VALUE=DURATION:PT1H
X-Robots-Tag:noindex
X-PUBLISHED-TTL:PT1H
BEGIN:VTIMEZONE
TZID:UTC
BEGIN:STANDARD
TZOFFSETFROM:+0000
TZOFFSETTO:+0000
TZNAME:UTC
DTSTART:20240101T000000
END:STANDARD
END:VTIMEZONE
BEGIN:VEVENT
DTSTART;TZID=UTC:20260421T163000
DTEND;TZID=UTC:20260421T183000
DTSTAMP:20260423T175736
CREATED:20260419T160733Z
LAST-MODIFIED:20260420T175855Z
UID:7588-1776789000-1776796200@koc9053.com
SUMMARY:Community Pot Roast Dinner Tue. April 21 4:30 - 6:30 pm @ The Columbus Hall
DESCRIPTION:Cash Bar \n 
URL:https://koc9053.com/event/community-pot-roast-dinner/
LOCATION:Columbus Hall\, 9901 Coastal Highway\, Ocean City\, MD\, 21842\, United States
CATEGORIES:Community Dinners
END:VEVENT
BEGIN:VEVENT
DTSTART;TZID=UTC:20260217T163000
DTEND;TZID=UTC:20260217T183000
DTSTAMP:20260423T175736
CREATED:20251209T150312Z
LAST-MODIFIED:20260210T005309Z
UID:7133-1771345800-1771353000@koc9053.com
SUMMARY:Shrove Tuesday Dinner 17 Feb 2026 4:30 p.m.
DESCRIPTION:$12.00    Adults \n$ 5.00     Children 11 Years and Under
URL:https://koc9053.com/event/shrove-tuesday-dinner-17-feb-2026/
LOCATION:Columbus Hall\, 9901 Coastal Highway\, Ocean City\, MD\, 21842\, United States
CATEGORIES:Community Dinners
END:VEVENT
BEGIN:VEVENT
DTSTART;TZID=UTC:20251111T163000
DTEND;TZID=UTC:20251111T183000
DTSTAMP:20260423T175736
CREATED:20251017T230502Z
LAST-MODIFIED:20251030T125526Z
UID:6877-1762878600-1762885800@koc9053.com
SUMMARY:Italian Community Supper Tuesday 11 November 4:30 p.m. - 6:30 p.m. Columbus Hall
DESCRIPTION:Special Price for Veterans $8 \nItalian Dinner with Seafood Alternatives\nCarry Out Service Available\nBar Service Available
URL:https://koc9053.com/event/italian-community-supper/
LOCATION:Columbus Hall\, 9901 Coastal Highway\, Ocean City\, MD\, 21842\, United States
CATEGORIES:Community Dinners
END:VEVENT
BEGIN:VEVENT
DTSTART;TZID=UTC:20251021T163000
DTEND;TZID=UTC:20251021T183000
DTSTAMP:20260423T175736
CREATED:20250917T185503Z
LAST-MODIFIED:20251018T155627Z
UID:6803-1761064200-1761071400@koc9053.com
SUMMARY:Community Oktoberfest Dinner Tuesday 21 October 4:30 p.m. - 6:30 p.m. Columbus Hall
DESCRIPTION:Carry-out Available \nBar Service
URL:https://koc9053.com/event/community-oktoberfest-dinner/
LOCATION:Columbus Hall\, 9901 Coastal Highway\, Ocean City\, MD\, 21842\, United States
CATEGORIES:Community Dinners
END:VEVENT
BEGIN:VEVENT
DTSTART;TZID=UTC:20250513T163000
DTEND;TZID=UTC:20250513T180000
DTSTAMP:20260423T175736
CREATED:20250413T200551Z
LAST-MODIFIED:20250413T200551Z
UID:6078-1747153800-1747159200@koc9053.com
SUMMARY:Parish Community Supper\, Sliced Tender Loin or Fried Seafood Options Tuesday\, 13 May
DESCRIPTION:Postponed from 22 April – Same Menu \nPlease see note on Flyer about Reservations
URL:https://koc9053.com/event/parish-community-supper-sliced-tender-loin-or-fried-seafood-options-tuesday-13-may/
LOCATION:Columbus Hall\, 9901 Coastal Highway\, Ocean City\, MD\, 21842\, United States
CATEGORIES:Community Dinners
END:VEVENT
BEGIN:VEVENT
DTSTART;TZID=UTC:20250407T163000
DTEND;TZID=UTC:20250407T180000
DTSTAMP:20260423T175736
CREATED:20250324T232314Z
LAST-MODIFIED:20250326T203304Z
UID:5680-1744043400-1744048800@koc9053.com
SUMMARY:Lenten Soup and Salad Dinner
DESCRIPTION:Reservations Strongly Recommended NLT 03 April 2025; Reservation Form Available on Event Flyers Page \n‘Limited’ Walk-in Seating \n3 Soup Choices \nCheck the Event Flyer Page for Further Details
URL:https://koc9053.com/event/lenten-soup-and-salad-dinner/
LOCATION:Columbus Hall\, 9901 Coastal Highway\, Ocean City\, MD\, 21842\, United States
CATEGORIES:Community Dinners
END:VEVENT
BEGIN:VEVENT
DTSTART;TZID=UTC:20250315T120000
DTEND;TZID=UTC:20250315T150000
DTSTAMP:20260423T175736
CREATED:20250131T220345Z
LAST-MODIFIED:20250302T203657Z
UID:5275-1742040000-1742050800@koc9053.com
SUMMARY:St. Patrick's Day Community Dinner\, Sat. Mar. 15
DESCRIPTION:
URL:https://koc9053.com/event/st-patricks-day-community-dinner/
LOCATION:Columbus Hall\, 9901 Coastal Highway\, Ocean City\, MD\, 21842\, United States
CATEGORIES:Community Dinners
END:VEVENT
BEGIN:VEVENT
DTSTART;TZID=UTC:20250304T173000
DTEND;TZID=UTC:20250304T190000
DTSTAMP:20260423T175736
CREATED:20250206T141452Z
LAST-MODIFIED:20250207T015627Z
UID:5381-1741109400-1741114800@koc9053.com
SUMMARY:Shrove Tuesday Parish Dinner
DESCRIPTION:Adults – $15   Children under 8 years old – $5
URL:https://koc9053.com/event/shrove-tuesday-parish-dinner/
LOCATION:Columbus Hall\, 9901 Coastal Highway\, Ocean City\, MD\, 21842\, United States
CATEGORIES:Community Dinners
END:VEVENT
BEGIN:VEVENT
DTSTART;TZID=UTC:20250225T170000
DTEND;TZID=UTC:20250225T183000
DTSTAMP:20260423T175736
CREATED:20250208T044400Z
LAST-MODIFIED:20250208T044829Z
UID:5406-1740502800-1740508200@koc9053.com
SUMMARY:Community Dinner - Sliced Roast Beef Dinner
DESCRIPTION:
URL:https://koc9053.com/event/community-dinner-sliced-roast-beef-dinner/
LOCATION:MD
CATEGORIES:Community Dinners
END:VEVENT
BEGIN:VEVENT
DTSTART;TZID=UTC:20250128T170000
DTEND;TZID=UTC:20250128T183000
DTSTAMP:20260423T175736
CREATED:20250122T141319Z
LAST-MODIFIED:20250128T202337Z
UID:5229-1738083600-1738089000@koc9053.com
SUMMARY:Community Dinner 28 January 2025
DESCRIPTION:Join our Brothers and Spouses for the Community Dinner on TUESDAY (28 January).  The cost is $15.00 per person.  See Menu on Flyer.
URL:https://koc9053.com/event/community-dinner-28-january-2025/
LOCATION:MD
CATEGORIES:Community Dinners
END:VEVENT
END:VCALENDAR