BEGIN:VCALENDAR
VERSION:2.0
PRODID:-//Knights of Columbus #9053 Ocean City, Maryland - ECPv6.15.20//NONSGML v1.0//EN
CALSCALE:GREGORIAN
METHOD:PUBLISH
X-ORIGINAL-URL:https://koc9053.com
X-WR-CALDESC:Events for Knights of Columbus #9053 Ocean City, Maryland
REFRESH-INTERVAL;VALUE=DURATION:PT1H
X-Robots-Tag:noindex
X-PUBLISHED-TTL:PT1H
BEGIN:VTIMEZONE
TZID:UTC
BEGIN:STANDARD
TZOFFSETFROM:+0000
TZOFFSETTO:+0000
TZNAME:UTC
DTSTART:20240101T000000
END:STANDARD
END:VTIMEZONE
BEGIN:VEVENT
DTSTART;TZID=UTC:20250604T173000
DTEND;TZID=UTC:20250604T210000
DTSTAMP:20260424T051407
CREATED:20250429T181334Z
LAST-MODIFIED:20250503T185655Z
UID:6156-1749058200-1749070800@koc9053.com
SUMMARY:Council #9053 Meeting - Wed. Jun. 4th Elections Council & CCC
DESCRIPTION:Officers meet at 5:30 pm.\, business meeting at 6:30 pm. 2025 – 2026 Elections.
URL:https://koc9053.com/event/council-9053-meeting-wed-apr-4/
LOCATION:Columbus Hall\, 9901 Coastal Highway\, Ocean City\, MD\, 21842\, United States
CATEGORIES:Council Meeting
END:VEVENT
END:VCALENDAR