BEGIN:VCALENDAR
VERSION:2.0
PRODID:-//Knights of Columbus #9053 Ocean City, Maryland - ECPv6.15.20//NONSGML v1.0//EN
CALSCALE:GREGORIAN
METHOD:PUBLISH
X-ORIGINAL-URL:https://koc9053.com
X-WR-CALDESC:Events for Knights of Columbus #9053 Ocean City, Maryland
REFRESH-INTERVAL;VALUE=DURATION:PT1H
X-Robots-Tag:noindex
X-PUBLISHED-TTL:PT1H
BEGIN:VTIMEZONE
TZID:UTC
BEGIN:STANDARD
TZOFFSETFROM:+0000
TZOFFSETTO:+0000
TZNAME:UTC
DTSTART:20240101T000000
END:STANDARD
END:VTIMEZONE
BEGIN:VEVENT
DTSTART;VALUE=DATE:20251115
DTEND;VALUE=DATE:20251117
DTSTAMP:20260424T064451
CREATED:20251018T223335Z
LAST-MODIFIED:20251018T223500Z
UID:6978-1763164800-1763337599@koc9053.com
SUMMARY:Food Drive Weekend of 15 and 16 November at St. Luke's
DESCRIPTION:  \nFood Drive at St. Luke’s 15 and 16 November \n 
URL:https://koc9053.com/event/food-drive-weekend-of-15-and-16-november-at-st-lukes/
LOCATION:St. Luke’s Church
CATEGORIES:Food Drive
END:VEVENT
END:VCALENDAR