BEGIN:VCALENDAR
VERSION:2.0
PRODID:-//Knights of Columbus #9053 Ocean City, Maryland - ECPv6.15.20//NONSGML v1.0//EN
CALSCALE:GREGORIAN
METHOD:PUBLISH
X-ORIGINAL-URL:https://koc9053.com
X-WR-CALDESC:Events for Knights of Columbus #9053 Ocean City, Maryland
REFRESH-INTERVAL;VALUE=DURATION:PT1H
X-Robots-Tag:noindex
X-PUBLISHED-TTL:PT1H
BEGIN:VTIMEZONE
TZID:UTC
BEGIN:STANDARD
TZOFFSETFROM:+0000
TZOFFSETTO:+0000
TZNAME:UTC
DTSTART:20250101T000000
END:STANDARD
END:VTIMEZONE
BEGIN:VEVENT
DTSTART;VALUE=DATE:20260216
DTEND;VALUE=DATE:20260217
DTSTAMP:20260424T144323
CREATED:20260210T001421Z
LAST-MODIFIED:20260210T001421Z
UID:7338-1771200000-1771286399@koc9053.com
SUMMARY:Presidents Day Mon. Feb. 16th
DESCRIPTION:Presidents Day Mon. Feb. 16th
URL:https://koc9053.com/event/presidents-day-mon-feb-16th/
CATEGORIES:Holidays
END:VEVENT
END:VCALENDAR