BEGIN:VCALENDAR
VERSION:2.0
PRODID:-//Knights of Columbus #9053 Ocean City, Maryland - ECPv6.15.20//NONSGML v1.0//EN
CALSCALE:GREGORIAN
METHOD:PUBLISH
X-WR-CALNAME:Knights of Columbus #9053 Ocean City, Maryland
X-ORIGINAL-URL:https://koc9053.com
X-WR-CALDESC:Events for Knights of Columbus #9053 Ocean City, Maryland
REFRESH-INTERVAL;VALUE=DURATION:PT1H
X-Robots-Tag:noindex
X-PUBLISHED-TTL:PT1H
BEGIN:VTIMEZONE
TZID:UTC
BEGIN:STANDARD
TZOFFSETFROM:+0000
TZOFFSETTO:+0000
TZNAME:UTC
DTSTART:20240101T000000
END:STANDARD
END:VTIMEZONE
BEGIN:VEVENT
DTSTART;VALUE=DATE:20250323
DTEND;VALUE=DATE:20250324
DTSTAMP:20260423T192507
CREATED:20250302T211913Z
LAST-MODIFIED:20250302T211913Z
UID:5551-1742688000-1742774399@koc9053.com
SUMMARY:3rd Sunday of Lent\, Mar. 16
DESCRIPTION:3rd Sunday of Lent\, Mar. 16
URL:https://koc9053.com/event/3rd-sunday-of-lent-mar-16/
CATEGORIES:Holy Day
END:VEVENT
BEGIN:VEVENT
DTSTART;VALUE=DATE:20250316
DTEND;VALUE=DATE:20250317
DTSTAMP:20260423T192507
CREATED:20250302T204030Z
LAST-MODIFIED:20250302T212201Z
UID:5533-1742083200-1742169599@koc9053.com
SUMMARY:2nd Sunday of Lent\, Mar. 16
DESCRIPTION:2nd Sunday of Lent\, Mar. 16
URL:https://koc9053.com/event/2nd-sunday-of-lent-mar-16/
CATEGORIES:Holy Day
END:VEVENT
BEGIN:VEVENT
DTSTART;VALUE=DATE:20250309
DTEND;VALUE=DATE:20250310
DTSTAMP:20260423T192507
CREATED:20250302T202036Z
LAST-MODIFIED:20250302T202036Z
UID:5524-1741478400-1741564799@koc9053.com
SUMMARY:1st Sunday of Lent
DESCRIPTION:1st Sunday of Lent
URL:https://koc9053.com/event/1st-sunday-of-lent/
CATEGORIES:Holy Day
END:VEVENT
BEGIN:VEVENT
DTSTART;VALUE=DATE:20250305
DTEND;VALUE=DATE:20250306
DTSTAMP:20260423T192507
CREATED:20250206T032137Z
LAST-MODIFIED:20250302T213724Z
UID:5364-1741132800-1741219199@koc9053.com
SUMMARY:Ash Wednesday
DESCRIPTION:Ash Wednesday
URL:https://koc9053.com/event/ash-wednesday/
CATEGORIES:Holy Day
END:VEVENT
END:VCALENDAR