BEGIN:VCALENDAR
VERSION:2.0
PRODID:-//Knights of Columbus #9053 Ocean City, Maryland - ECPv6.15.20//NONSGML v1.0//EN
CALSCALE:GREGORIAN
METHOD:PUBLISH
X-WR-CALNAME:Knights of Columbus #9053 Ocean City, Maryland
X-ORIGINAL-URL:https://koc9053.com
X-WR-CALDESC:Events for Knights of Columbus #9053 Ocean City, Maryland
REFRESH-INTERVAL;VALUE=DURATION:PT1H
X-Robots-Tag:noindex
X-PUBLISHED-TTL:PT1H
BEGIN:VTIMEZONE
TZID:UTC
BEGIN:STANDARD
TZOFFSETFROM:+0000
TZOFFSETTO:+0000
TZNAME:UTC
DTSTART:20240101T000000
END:STANDARD
END:VTIMEZONE
BEGIN:VEVENT
DTSTART;TZID=UTC:20251117T130000
DTEND;TZID=UTC:20251117T150000
DTSTAMP:20260424T022244
CREATED:20251018T222215Z
LAST-MODIFIED:20251018T222215Z
UID:6974-1763384400-1763391600@koc9053.com
SUMMARY:Ladies Auxiliary Business Meeting  Monday 17 November at 1:00 p.m. Columbus Hall
DESCRIPTION:
URL:https://koc9053.com/event/ladies-auxiliary-business-meeting-monday-17-november-at-100-p-m-columbus-hall/
LOCATION:Columbus Hall\, 9901 Coastal Highway\, Ocean City\, MD\, 21842\, United States
CATEGORIES:Ladies Auxiliary Business Meeting
END:VEVENT
END:VCALENDAR