BEGIN:VCALENDAR
VERSION:2.0
PRODID:-//Knights of Columbus #9053 Ocean City, Maryland - ECPv6.15.20//NONSGML v1.0//EN
CALSCALE:GREGORIAN
METHOD:PUBLISH
X-ORIGINAL-URL:https://koc9053.com
X-WR-CALDESC:Events for Knights of Columbus #9053 Ocean City, Maryland
REFRESH-INTERVAL;VALUE=DURATION:PT1H
X-Robots-Tag:noindex
X-PUBLISHED-TTL:PT1H
BEGIN:VTIMEZONE
TZID:UTC
BEGIN:STANDARD
TZOFFSETFROM:+0000
TZOFFSETTO:+0000
TZNAME:UTC
DTSTART:20230101T000000
END:STANDARD
END:VTIMEZONE
BEGIN:VEVENT
DTSTART;TZID=UTC:20260216T130000
DTEND;TZID=UTC:20260216T150000
DTSTAMP:20260423T212140
CREATED:20260210T001829Z
LAST-MODIFIED:20260210T001829Z
UID:7340-1771246800-1771254000@koc9053.com
SUMMARY:Ladies Auxiliary Business Meeting Monday 16 February at 1:00 p.m. Columbus Hall
DESCRIPTION:Lady Knights Auxiliary Meeting\, Officers at 12:00 pm.\, Business meeting at 1:00 pm. at the Columbus Hall.
URL:https://koc9053.com/event/ladies-auxiliary-business-meeting-monday-16-february-at-100-p-m-columbus-hall/
LOCATION:Columbus Hall\, 9901 Caostal Hwy.\, Ocean City\, MD\, 21842-2604\, United States
CATEGORIES:Lady Knights
END:VEVENT
BEGIN:VEVENT
DTSTART;TZID=UTC:20251020T130000
DTEND;TZID=UTC:20251020T150000
DTSTAMP:20260423T212140
CREATED:20251017T232545Z
LAST-MODIFIED:20251018T143708Z
UID:6885-1760965200-1760972400@koc9053.com
SUMMARY:Ladies Auxiliary Business Meeting Monday 20 October Columbus Hall 1:00 p.m. to 3:00 p.m.
DESCRIPTION:Ladies Auxilliary Business Meeting – Boxes of Joy due
URL:https://koc9053.com/event/ladies-auxilliary-business-meeting/
LOCATION:Columbus Hall\, 9901 Caostal Hwy.\, Ocean City\, MD\, 21842-2604\, United States
CATEGORIES:Lady Knights
END:VEVENT
BEGIN:VEVENT
DTSTART;TZID=UTC:20250927T160000
DTEND;TZID=UTC:20250927T200000
DTSTAMP:20260423T212140
CREATED:20250826T135930Z
LAST-MODIFIED:20250826T135930Z
UID:6768-1758988800-1759003200@koc9053.com
SUMMARY:Annual Fall Deck Party
DESCRIPTION:Free Hamburgers and Hot Dogs along with all the fixings. \nBring something to share–see suggestions on the flyer
URL:https://koc9053.com/event/annual-fall-deck-party/
LOCATION:Columbus Hall\, 9901 Coastal Highway\, Ocean City\, MD\, 21842\, United States
CATEGORIES:Assembly Meeting,Council Event,Lady Knights
END:VEVENT
BEGIN:VEVENT
DTSTART;TZID=UTC:20250915T130000
DTEND;TZID=UTC:20250915T150000
DTSTAMP:20260423T212140
CREATED:20250815T210045Z
LAST-MODIFIED:20250815T210045Z
UID:6723-1757941200-1757948400@koc9053.com
SUMMARY:Lady Knights Auxiliary Business Meeting - Mon. Sept. 15th 1:00 pm
DESCRIPTION:Lady Knights Auxiliary Meeting\, Officers at 12:30 pm.\, Business meeting at 1:00 pm. at the Columbus Hall.
URL:https://koc9053.com/event/lady-knights-auxiliary-business-meeting-mon-sept-15th-100-pm/
LOCATION:Columbus Hall\, 9901 Caostal Hwy.\, Ocean City\, MD\, 21842-2604\, United States
CATEGORIES:Lady Knights
END:VEVENT
BEGIN:VEVENT
DTSTART;TZID=UTC:20250616T120000
DTEND;TZID=UTC:20250616T140000
DTSTAMP:20260423T212140
CREATED:20250506T180431Z
LAST-MODIFIED:20250515T185211Z
UID:6250-1750075200-1750082400@koc9053.com
SUMMARY:Lady Knights Auxiliary Meeting/Luncheon @ JRs Seafood - Mon. June 16th
DESCRIPTION:Lady Knights Auxiliary Meeting/Luncheon @ JRs Seafood – Mon. June 16th
URL:https://koc9053.com/event/lady-knights-auxiliary-meeting-luncheon-jrs-seafood-mon-june-16th/
LOCATION:Columbus Hall\, 9901 Caostal Hwy.\, Ocean City\, MD\, 21842-2604\, United States
CATEGORIES:Lady Knights
END:VEVENT
BEGIN:VEVENT
DTSTART;TZID=UTC:20250519T120000
DTEND;TZID=UTC:20250519T130000
DTSTAMP:20260423T212140
CREATED:20250325T195837Z
LAST-MODIFIED:20250325T195939Z
UID:5708-1747656000-1747659600@koc9053.com
SUMMARY:Lady Knights Auxiliary May Crowning May 19\, 12:00 pm - 1:00 pm
DESCRIPTION:
URL:https://koc9053.com/event/lady-knights-auxiliary-may-crowning-may-19-1200-pm-100-pm/
LOCATION:Columbus Hall\, 9901 Coastal Highway\, Ocean City\, MD\, 21842\, United States
CATEGORIES:Lady Knights
END:VEVENT
BEGIN:VEVENT
DTSTART;TZID=UTC:20250519T110000
DTEND;TZID=UTC:20250519T120000
DTSTAMP:20260423T212140
CREATED:20250407T210900Z
LAST-MODIFIED:20250407T211132Z
UID:5936-1747652400-1747656000@koc9053.com
SUMMARY:Lady Knights Auxiliary Meeting - Mon. May 19 Special Time 11:00 am
DESCRIPTION:Lady Knights Auxiliary Meeting\, Officers at 12:30 pm.\, Business meeting at 1:00 pm. at the Columbus Hall. \nSpecial Time – 11:00 am. May Crowning of the Blessed Mary to follow.
URL:https://koc9053.com/event/lady-knights-auxiliary-meeting-mon-may-19-special-time-1100-am/
LOCATION:Columbus Hall\, 9901 Coastal Highway\, Ocean City\, MD\, 21842\, United States
CATEGORIES:Lady Knights
END:VEVENT
BEGIN:VEVENT
DTSTART;TZID=UTC:20250518T130000
DTEND;TZID=UTC:20250518T143000
DTSTAMP:20260423T212140
CREATED:20250325T193244Z
LAST-MODIFIED:20250407T210127Z
UID:5705-1747573200-1747578600@koc9053.com
SUMMARY:Lady Knights Auxiliary Open House Sun. May 18
DESCRIPTION:
URL:https://koc9053.com/event/lady-knights-auxiliary-open-house-sun-may-18/
LOCATION:Columbus Hall\, 9901 Coastal Highway\, Ocean City\, MD\, 21842\, United States
CATEGORIES:Lady Knights
END:VEVENT
BEGIN:VEVENT
DTSTART;TZID=UTC:20250421T123000
DTEND;TZID=UTC:20250421T150000
DTSTAMP:20260423T212140
CREATED:20250326T184923Z
LAST-MODIFIED:20250326T184923Z
UID:5723-1745238600-1745247600@koc9053.com
SUMMARY:Lady Knights Auxiliary Meeting - Mon. Apr. 21
DESCRIPTION:Lady Knights Auxiliary Meeting\, Officers at 12:30 pm.\, Business meeting at 1:00 pm. at the Columbus Hall.
URL:https://koc9053.com/event/lady-knights-auxiliary-meeting-mon-apr-21/
LOCATION:Columbus Hall\, 9901 Coastal Highway\, Ocean City\, MD\, 21842\, United States
CATEGORIES:Lady Knights
END:VEVENT
BEGIN:VEVENT
DTSTART;TZID=UTC:20250317T123000
DTEND;TZID=UTC:20250317T150000
DTSTAMP:20260423T212140
CREATED:20250302T205420Z
LAST-MODIFIED:20250302T205519Z
UID:5540-1742214600-1742223600@koc9053.com
SUMMARY:Lady Knights Auxiliary Meeting - Mon. Mar. 17
DESCRIPTION:Lady Knights Auxiliary Meeting\, Officers at 12:30 pm.\, Business meeting at 1:00 pm. at the Columbus Hall.
URL:https://koc9053.com/event/lady-knights-auxiliary-meeting-mon-mar-17-2/
LOCATION:Columbus Hall\, 9901 Coastal Highway\, Ocean City\, MD\, 21842\, United States
CATEGORIES:Lady Knights
END:VEVENT
BEGIN:VEVENT
DTSTART;TZID=UTC:20250217T110000
DTEND;TZID=UTC:20250217T140000
DTSTAMP:20260423T212140
CREATED:20250114T190138Z
LAST-MODIFIED:20250302T205315Z
UID:5130-1739790000-1739800800@koc9053.com
SUMMARY:Lady Knights Auxiliary Meeting - Mon. Feb. 17
DESCRIPTION:Lady Knights Auxiliary Meeting\, Officers at 12:30 pm.\, Business meeting at 1:00 pm. at the Columbus Hall.
URL:https://koc9053.com/event/lady-knights-auxiliary-meeting-2/
LOCATION:Columbus Hall\, 9901 Coastal Highway\, Ocean City\, MD\, 21842\, United States
CATEGORIES:Lady Knights
END:VEVENT
BEGIN:VEVENT
DTSTART;TZID=UTC:20250120T110000
DTEND;TZID=UTC:20250120T140000
DTSTAMP:20260423T212140
CREATED:20241206T225419Z
LAST-MODIFIED:20250114T202830Z
UID:4903-1737370800-1737381600@koc9053.com
SUMMARY:Lady Knights Auxiliary Meeting - Mon. Jan. 20
DESCRIPTION:Lady Knights Auxiliary Officers Meeting is at 12:00 pm in the Columbus Hall. The Lady Knights Auxiliary Business Meeting follows at 1:00 pm.
URL:https://koc9053.com/event/lady-knights-auxiliary-meeting/
LOCATION:Columbus Hall\, 9901 Coastal Highway\, Ocean City\, MD\, 21842\, United States
CATEGORIES:Lady Knights
END:VEVENT
BEGIN:VEVENT
DTSTART;TZID=UTC:20250115T103000
DTEND;TZID=UTC:20250115T153000
DTSTAMP:20260423T212140
CREATED:20241206T230958Z
LAST-MODIFIED:20250114T201847Z
UID:4906-1736937000-1736955000@koc9053.com
SUMMARY:Bingo for Babies 2025 - Wed. Jan. 15
DESCRIPTION:Bingo for Babies 2025
URL:https://koc9053.com/event/bingo-for-babies/
LOCATION:MD
CATEGORIES:Bingo,Lady Knights
END:VEVENT
BEGIN:VEVENT
DTSTART;TZID=UTC:20250110T100000
DTEND;TZID=UTC:20250110T140000
DTSTAMP:20260423T212140
CREATED:20241209T011659Z
LAST-MODIFIED:20241209T011659Z
UID:4941-1736503200-1736517600@koc9053.com
SUMMARY:Ladies Aux wrapping Bingo Prizes
DESCRIPTION:
URL:https://koc9053.com/event/ladies-aux-wrapping-bingo-prizes/
LOCATION:Columbus Hall\, 9901 Coastal Highway\, Ocean City\, MD\, 21842\, United States
CATEGORIES:Lady Knights
END:VEVENT
BEGIN:VEVENT
DTSTART;TZID=UTC:20241209T120000
DTEND;TZID=UTC:20241209T150000
DTSTAMP:20260423T212140
CREATED:20241202T192512Z
LAST-MODIFIED:20241210T150106Z
UID:4760-1733745600-1733756400@koc9053.com
SUMMARY:Knights of Columbus Ladies Christmas Luncheon
DESCRIPTION:
URL:https://koc9053.com/event/knights-of-columbus-ladies-christmas-luncheon/
LOCATION:MD
CATEGORIES:Lady Knights
END:VEVENT
BEGIN:VEVENT
DTSTART;TZID=UTC:20241118T130000
DTEND;TZID=UTC:20241118T140000
DTSTAMP:20260423T212140
CREATED:20241016T010037Z
LAST-MODIFIED:20241031T135847Z
UID:3866-1731934800-1731938400@koc9053.com
SUMMARY:Lady Knights Business Meeting
DESCRIPTION:
URL:https://koc9053.com/event/lady-knights-business-meeting-1118/
LOCATION:Columbus Hall\, 9901 Coastal Highway\, Ocean City\, MD\, 21842\, United States
CATEGORIES:Lady Knights
ATTACH;FMTTYPE=image/png:https://koc9053.com/wp-content/uploads/2024/10/events-calendar-headers-lady-knights-1.png
END:VEVENT
BEGIN:VEVENT
DTSTART;TZID=UTC:20241118T120000
DTEND;TZID=UTC:20241118T130000
DTSTAMP:20260423T212140
CREATED:20241016T005923Z
LAST-MODIFIED:20241031T135944Z
UID:3864-1731931200-1731934800@koc9053.com
SUMMARY:Lady Knights Officers
DESCRIPTION:Officers Meeting
URL:https://koc9053.com/event/lady-knights-officers-1118/
LOCATION:Columbus Hall\, 9901 Coastal Highway\, Ocean City\, MD\, 21842\, United States
CATEGORIES:Lady Knights
ATTACH;FMTTYPE=image/png:https://koc9053.com/wp-content/uploads/2024/10/events-calendar-headers-lady-knights-1.png
END:VEVENT
END:VCALENDAR