BEGIN:VCALENDAR
VERSION:2.0
PRODID:-//Knights of Columbus #9053 Ocean City, Maryland - ECPv6.15.20//NONSGML v1.0//EN
CALSCALE:GREGORIAN
METHOD:PUBLISH
X-ORIGINAL-URL:https://koc9053.com
X-WR-CALDESC:Events for Knights of Columbus #9053 Ocean City, Maryland
REFRESH-INTERVAL;VALUE=DURATION:PT1H
X-Robots-Tag:noindex
X-PUBLISHED-TTL:PT1H
BEGIN:VTIMEZONE
TZID:UTC
BEGIN:STANDARD
TZOFFSETFROM:+0000
TZOFFSETTO:+0000
TZNAME:UTC
DTSTART:20240101T000000
END:STANDARD
END:VTIMEZONE
BEGIN:VEVENT
DTSTART;TZID=UTC:20250306T100000
DTEND;TZID=UTC:20250306T110000
DTSTAMP:20260424T123745
CREATED:20250207T014836Z
LAST-MODIFIED:20250302T210952Z
UID:4894-1741255200-1741258800@koc9053.com
SUMMARY:The Rosary Hour\, Thur. Mar. 6
DESCRIPTION:The Rosary Hour is on Thursdays at 10:00 a.m. at the Columbus Hall. The Rosary is followed by a reading and discussion of the next Sunday’s Gospel. To join us for Rosary Hour via Dial-In: 1-848-220-3100 Use ID 905300#
URL:https://koc9053.com/event/the-rosary-hour/
LOCATION:Columbus Hall\, 9901 Coastal Highway\, Ocean City\, MD\, 21842\, United States
CATEGORIES:Rosary
END:VEVENT
BEGIN:VEVENT
DTSTART;TZID=UTC:20250313T100000
DTEND;TZID=UTC:20250313T110000
DTSTAMP:20260424T123745
CREATED:20250207T020637Z
LAST-MODIFIED:20250302T210043Z
UID:5135-1741860000-1741863600@koc9053.com
SUMMARY:Rosary Hour\, Thur. Mar. 13
DESCRIPTION:The Rosary Hour is on Thursdays at 10:00 a.m. at the Columbus Hall. The Rosary is followed by a reading and discussion of the next Sunday’s Gospel. To join us for Rosary Hour via Dial-In: 1-848-220-3100 Use ID 905300#
URL:https://koc9053.com/event/rosary-hour-13/
LOCATION:Columbus Hall\, 9901 Coastal Highway\, Ocean City\, MD\, 21842\, United States
CATEGORIES:Rosary
END:VEVENT
BEGIN:VEVENT
DTSTART;TZID=UTC:20250320T100000
DTEND;TZID=UTC:20250320T110000
DTSTAMP:20260424T123745
CREATED:20250302T210337Z
LAST-MODIFIED:20250302T210337Z
UID:5546-1742464800-1742468400@koc9053.com
SUMMARY:Rosary Hour\, Thur. Mar. 20
DESCRIPTION:The Rosary Hour is on Thursdays at 10:00 a.m. at the Columbus Hall. The Rosary is followed by a reading and discussion of the next Sunday’s Gospel. To join us for Rosary Hour via Dial-In: 1-848-220-3100 Use ID 905300#
URL:https://koc9053.com/event/rosary-hour-thur-mar-20/
LOCATION:Columbus Hall\, 9901 Coastal Highway\, Ocean City\, MD\, 21842\, United States
CATEGORIES:Rosary
END:VEVENT
BEGIN:VEVENT
DTSTART;TZID=UTC:20250327T100000
DTEND;TZID=UTC:20250327T110000
DTSTAMP:20260424T123745
CREATED:20250302T212741Z
LAST-MODIFIED:20250302T212741Z
UID:5361-1743069600-1743073200@koc9053.com
SUMMARY:Rosary Hour - Thur. Mar. 27
DESCRIPTION:The Rosary Hour is back on Thursdays at 10:00 a.m. at the Columbus Hall. \nThe Rosary is followed by a reading and discussion of the next Sunday’s Gospel. \nTo join us for Rosary Hour via Dial-In: 1-848-220-3100 \nUse ID 905300#
URL:https://koc9053.com/event/rosary-hour-9-2/
LOCATION:Columbus Hall\, 9901 Coastal Highway\, Ocean City\, MD\, 21842\, United States
CATEGORIES:Rosary
END:VEVENT
END:VCALENDAR