BEGIN:VCALENDAR
VERSION:2.0
PRODID:-//Knights of Columbus #9053 Ocean City, Maryland - ECPv6.15.20//NONSGML v1.0//EN
CALSCALE:GREGORIAN
METHOD:PUBLISH
X-WR-CALNAME:Knights of Columbus #9053 Ocean City, Maryland
X-ORIGINAL-URL:https://koc9053.com
X-WR-CALDESC:Events for Knights of Columbus #9053 Ocean City, Maryland
REFRESH-INTERVAL;VALUE=DURATION:PT1H
X-Robots-Tag:noindex
X-PUBLISHED-TTL:PT1H
BEGIN:VTIMEZONE
TZID:UTC
BEGIN:STANDARD
TZOFFSETFROM:+0000
TZOFFSETTO:+0000
TZNAME:UTC
DTSTART:20240101T000000
END:STANDARD
END:VTIMEZONE
BEGIN:VEVENT
DTSTART;TZID=UTC:20250807T100000
DTEND;TZID=UTC:20250807T110000
DTSTAMP:20260424T055113
CREATED:20250706T200327Z
LAST-MODIFIED:20250706T200327Z
UID:6572-1754560800-1754564400@koc9053.com
SUMMARY:Rosary Hour - Thur. Aug. 7th
DESCRIPTION:The Rosary Hour is on Thursdays at 10:00 a.m. at the Columbus Hall. \nThe Rosary is followed by a reading and discussion of the next Sunday’s Gospel. \nTo join us for Rosary Hour via Dial-In: 1-848-220-3100. \nUse ID 905300#
URL:https://koc9053.com/event/rosary-hour-thur-aug-7th/
LOCATION:Columbus Hall\, 9901 Caostal Hwy.\, Ocean City\, MD\, 21842-2604\, United States
CATEGORIES:Rosary
END:VEVENT
BEGIN:VEVENT
DTSTART;TZID=UTC:20250814T100000
DTEND;TZID=UTC:20250814T110000
DTSTAMP:20260424T055113
CREATED:20250815T200047Z
LAST-MODIFIED:20250815T200047Z
UID:6695-1755165600-1755169200@koc9053.com
SUMMARY:Rosary Hour - Thur. Aug. 14th
DESCRIPTION:The Rosary Hour is on Thursdays at 10:00 a.m. at the Columbus Hall. \nThe Rosary is followed by a reading and discussion of the next Sunday’s Gospel. \nTo join us for Rosary Hour via Dial-In: 1-848-220-3100. \nUse ID 905300#
URL:https://koc9053.com/event/rosary-hour-thur-aug-14th/
LOCATION:Columbus Hall\, 9901 Caostal Hwy.\, Ocean City\, MD\, 21842-2604\, United States
CATEGORIES:Rosary
END:VEVENT
BEGIN:VEVENT
DTSTART;TZID=UTC:20250821T100000
DTEND;TZID=UTC:20250821T110000
DTSTAMP:20260424T055113
CREATED:20250815T200317Z
LAST-MODIFIED:20250815T200317Z
UID:6697-1755770400-1755774000@koc9053.com
SUMMARY:Rosary Hour - Thur. Aug. 21st
DESCRIPTION:The Rosary Hour is on Thursdays at 10:00 a.m. at the Columbus Hall. \nThe Rosary is followed by a reading and discussion of the next Sunday’s Gospel. \nTo join us for Rosary Hour via Dial-In: 1-848-220-3100. \nUse ID 905300#
URL:https://koc9053.com/event/rosary-hour-thur-aug-21st/
LOCATION:Columbus Hall\, 9901 Caostal Hwy.\, Ocean City\, MD\, 21842-2604\, United States
CATEGORIES:Rosary
END:VEVENT
BEGIN:VEVENT
DTSTART;TZID=UTC:20250828T100000
DTEND;TZID=UTC:20250828T110000
DTSTAMP:20260424T055113
CREATED:20250815T200515Z
LAST-MODIFIED:20250815T200515Z
UID:6699-1756375200-1756378800@koc9053.com
SUMMARY:Rosary Hour - Thur. Aug. 28th
DESCRIPTION:The Rosary Hour is on Thursdays at 10:00 a.m. at the Columbus Hall. \nThe Rosary is followed by a reading and discussion of the next Sunday’s Gospel. \nTo join us for Rosary Hour via Dial-In: 1-848-220-3100. \nUse ID 905300#
URL:https://koc9053.com/event/rosary-hour-thur-aug-28th/
LOCATION:Columbus Hall\, 9901 Caostal Hwy.\, Ocean City\, MD\, 21842-2604\, United States
CATEGORIES:Rosary
END:VEVENT
END:VCALENDAR