BEGIN:VCALENDAR
VERSION:2.0
PRODID:-//Knights of Columbus #9053 Ocean City, Maryland - ECPv6.15.20//NONSGML v1.0//EN
CALSCALE:GREGORIAN
METHOD:PUBLISH
X-ORIGINAL-URL:https://koc9053.com
X-WR-CALDESC:Events for Knights of Columbus #9053 Ocean City, Maryland
REFRESH-INTERVAL;VALUE=DURATION:PT1H
X-Robots-Tag:noindex
X-PUBLISHED-TTL:PT1H
BEGIN:VTIMEZONE
TZID:UTC
BEGIN:STANDARD
TZOFFSETFROM:+0000
TZOFFSETTO:+0000
TZNAME:UTC
DTSTART:20240101T000000
END:STANDARD
END:VTIMEZONE
BEGIN:VEVENT
DTSTART;TZID=UTC:20251023T100000
DTEND;TZID=UTC:20251023T110000
DTSTAMP:20260424T102647
CREATED:20251017T232809Z
LAST-MODIFIED:20251018T155831Z
UID:6887-1761213600-1761217200@koc9053.com
SUMMARY:Rosary Thursday 23 October 10:00 a.m. - 11:00 a.m. Columbus Hall
DESCRIPTION:10:00 a.m. – 11:00 a.m. Columbus Hall
URL:https://koc9053.com/event/rosary/
LOCATION:Columbus Hall\, 9901 Coastal Highway\, Ocean City\, MD\, 21842\, United States
CATEGORIES:Rosary
END:VEVENT
BEGIN:VEVENT
DTSTART;TZID=UTC:20251030T100000
DTEND;TZID=UTC:20251030T110000
DTSTAMP:20260424T102647
CREATED:20251017T233546Z
LAST-MODIFIED:20251018T131620Z
UID:6897-1761818400-1761822000@koc9053.com
SUMMARY:Rosary Thursday 30 October 10:00 a.m. to 11:00 a.m. Columbus Hall
DESCRIPTION: 
URL:https://koc9053.com/event/rosary-2/
LOCATION:Columbus Hall\, 9901 Caostal Hwy.\, Ocean City\, MD\, 21842-2604\, United States
CATEGORIES:Rosary
END:VEVENT
BEGIN:VEVENT
DTSTART;TZID=UTC:20251106T100000
DTEND;TZID=UTC:20251106T230000
DTSTAMP:20260424T102647
CREATED:20251018T151131Z
LAST-MODIFIED:20251018T151131Z
UID:6924-1762423200-1762470000@koc9053.com
SUMMARY:Rosary Thursday 06 November 10:00 a.m. - 11:00 a.m. Columbus Hall
DESCRIPTION:
URL:https://koc9053.com/event/rosary-thursday-06-november-1000-a-m-1100-a-m-columbus-hall/
LOCATION:Columbus Hall\, 9901 Caostal Hwy.\, Ocean City\, MD\, 21842-2604\, United States
CATEGORIES:Rosary
END:VEVENT
BEGIN:VEVENT
DTSTART;TZID=UTC:20251120T100000
DTEND;TZID=UTC:20251120T110000
DTSTAMP:20260424T102647
CREATED:20251018T161149Z
LAST-MODIFIED:20251018T161149Z
UID:6962-1763632800-1763636400@koc9053.com
SUMMARY:Rosary Thursday 20 November 10:00 a.m. - 11:00 a.m.  Columbus Hall
DESCRIPTION:10:00 a.m. – 11:00 a.m. Columbus Hall
URL:https://koc9053.com/event/rosary-thursday-20-november-1000-a-m-1100-a-m-columbus-hall/
LOCATION:Columbus Hall\, 9901 Coastal Highway\, Ocean City\, MD\, 21842\, United States
CATEGORIES:Rosary
END:VEVENT
BEGIN:VEVENT
DTSTART;TZID=UTC:20251204T100000
DTEND;TZID=UTC:20251204T110000
DTSTAMP:20260424T102647
CREATED:20251101T192020Z
LAST-MODIFIED:20251101T192020Z
UID:7048-1764842400-1764846000@koc9053.com
SUMMARY:Rosary Hour - Thur. Dec. 4th
DESCRIPTION:The Rosary Hour is on Thursdays at 10:00 a.m. at the Columbus Hall. \nThe Rosary is followed by a reading and discussion of the next Sunday’s Gospel. \nTo join us for Rosary Hour via Dial-In: 1-848-220-3100. \nUse ID 905300#
URL:https://koc9053.com/event/rosary-hour-thur-dec-4th/
LOCATION:Columbus Hall\, 9901 Caostal Hwy.\, Ocean City\, MD\, 21842-2604\, United States
CATEGORIES:Rosary
END:VEVENT
BEGIN:VEVENT
DTSTART;TZID=UTC:20251211T100000
DTEND;TZID=UTC:20251211T110000
DTSTAMP:20260424T102647
CREATED:20251101T192325Z
LAST-MODIFIED:20251101T192325Z
UID:7050-1765447200-1765450800@koc9053.com
SUMMARY:Rosary Hour - Thur. Dec. 11th
DESCRIPTION:The Rosary Hour is on Thursdays at 10:00 a.m. at the Columbus Hall. \nThe Rosary is followed by a reading and discussion of the next Sunday’s Gospel. \nTo join us for Rosary Hour via Dial-In: 1-848-220-3100. \nUse ID 905300#
URL:https://koc9053.com/event/rosary-hour-thur-dec-11th/
LOCATION:Columbus Hall\, 9901 Caostal Hwy.\, Ocean City\, MD\, 21842-2604\, United States
CATEGORIES:Rosary
END:VEVENT
BEGIN:VEVENT
DTSTART;TZID=UTC:20251218T100000
DTEND;TZID=UTC:20251218T110000
DTSTAMP:20260424T102647
CREATED:20251101T192602Z
LAST-MODIFIED:20251101T192602Z
UID:7052-1766052000-1766055600@koc9053.com
SUMMARY:Rosary Hour - Thur. Dec. 18th
DESCRIPTION:The Rosary Hour is on Thursdays at 10:00 a.m. at the Columbus Hall. \nThe Rosary is followed by a reading and discussion of the next Sunday’s Gospel. \nTo join us for Rosary Hour via Dial-In: 1-848-220-3100. \nUse ID 905300#
URL:https://koc9053.com/event/rosary-hour-thur-dec-18th/
LOCATION:Columbus Hall\, 9901 Caostal Hwy.\, Ocean City\, MD\, 21842-2604\, United States
CATEGORIES:Rosary
END:VEVENT
BEGIN:VEVENT
DTSTART;TZID=UTC:20260115T100000
DTEND;TZID=UTC:20260115T110000
DTSTAMP:20260424T102647
CREATED:20260113T200253Z
LAST-MODIFIED:20260113T200253Z
UID:7216-1768471200-1768474800@koc9053.com
SUMMARY:Rosary Hour - Thur. Jan. 15th 10:00 am
DESCRIPTION:The Rosary Hour is on Thursdays at 10:00 a.m. at the Columbus Hall. \nThe Rosary is followed by a reading and discussion of the next Sunday’s Gospel. \nTo join us for Rosary Hour via Dial-In: 1-848-220-3100. \nUse ID 905300#
URL:https://koc9053.com/event/rosary-hour-thur-jan-15th-1000-am/
LOCATION:Columbus Hall\, 9901 Caostal Hwy.\, Ocean City\, MD\, 21842-2604\, United States
CATEGORIES:Rosary
END:VEVENT
BEGIN:VEVENT
DTSTART;TZID=UTC:20260122T100000
DTEND;TZID=UTC:20260122T110000
DTSTAMP:20260424T102647
CREATED:20260113T203122Z
LAST-MODIFIED:20260113T203122Z
UID:7229-1769076000-1769079600@koc9053.com
SUMMARY:Rosary Hour - Thur. Jan. 22nd 10:00 am
DESCRIPTION:The Rosary Hour is on Thursdays at 10:00 a.m. at the Columbus Hall. \nThe Rosary is followed by a reading and discussion of the next Sunday’s Gospel. \nTo join us for Rosary Hour via Dial-In: 1-848-220-3100. \nUse ID 905300#
URL:https://koc9053.com/event/rosary-hour-thur-jan-22nd-1000-am/
LOCATION:Columbus Hall\, 9901 Caostal Hwy.\, Ocean City\, MD\, 21842-2604\, United States
CATEGORIES:Rosary
END:VEVENT
BEGIN:VEVENT
DTSTART;TZID=UTC:20260129T100000
DTEND;TZID=UTC:20260129T110000
DTSTAMP:20260424T102647
CREATED:20260113T204016Z
LAST-MODIFIED:20260113T204016Z
UID:7235-1769680800-1769684400@koc9053.com
SUMMARY:Rosary Hour - Thur. Jan. 29th 10:00 am
DESCRIPTION:The Rosary Hour is on Thursdays at 10:00 a.m. at the Columbus Hall. \nThe Rosary is followed by a reading and discussion of the next Sunday’s Gospel. \nTo join us for Rosary Hour via Dial-In: 1-848-220-3100. \nUse ID 905300#
URL:https://koc9053.com/event/rosary-hour-thur-jan-29th-1000-am/
LOCATION:Columbus Hall\, 9901 Caostal Hwy.\, Ocean City\, MD\, 21842-2604\, United States
CATEGORIES:Rosary
END:VEVENT
BEGIN:VEVENT
DTSTART;TZID=UTC:20260212T100000
DTEND;TZID=UTC:20260212T110000
DTSTAMP:20260424T102647
CREATED:20260209T235855Z
LAST-MODIFIED:20260209T235855Z
UID:7330-1770890400-1770894000@koc9053.com
SUMMARY:Rosary Hour - Thur. Feb. 12th 10:00 am
DESCRIPTION:The Rosary Hour is on Thursdays at 10:00 a.m. at the Columbus Hall. \nThe Rosary is followed by a reading and discussion of the next Sunday’s Gospel. \nTo join us for Rosary Hour via Dial-In: 1-848-220-3100. \nUse ID 905300#
URL:https://koc9053.com/event/rosary-hour-thur-feb-12th-1000-am/
LOCATION:Columbus Hall\, 9901 Caostal Hwy.\, Ocean City\, MD\, 21842-2604\, United States
CATEGORIES:Rosary
END:VEVENT
BEGIN:VEVENT
DTSTART;TZID=UTC:20260219T100000
DTEND;TZID=UTC:20260219T110000
DTSTAMP:20260424T102647
CREATED:20260210T002645Z
LAST-MODIFIED:20260210T002645Z
UID:7347-1771495200-1771498800@koc9053.com
SUMMARY:Rosary Hour - Thur. Feb. 19th 10:00 am
DESCRIPTION:The Rosary Hour is on Thursdays at 10:00 a.m. at the Columbus Hall. \nThe Rosary is followed by a reading and discussion of the next Sunday’s Gospel. \nTo join us for Rosary Hour via Dial-In: 1-848-220-3100. \nUse ID 905300#
URL:https://koc9053.com/event/rosary-hour-thur-feb-19th-1000-am/
LOCATION:Columbus Hall\, 9901 Caostal Hwy.\, Ocean City\, MD\, 21842-2604\, United States
CATEGORIES:Rosary
END:VEVENT
BEGIN:VEVENT
DTSTART;TZID=UTC:20260226T100000
DTEND;TZID=UTC:20260226T110000
DTSTAMP:20260424T102647
CREATED:20260210T004031Z
LAST-MODIFIED:20260210T004031Z
UID:7355-1772100000-1772103600@koc9053.com
SUMMARY:Rosary Hour - Thur. Feb. 26th 10:00 am
DESCRIPTION:The Rosary Hour is on Thursdays at 10:00 a.m. at the Columbus Hall. \nThe Rosary is followed by a reading and discussion of the next Sunday’s Gospel. \nTo join us for Rosary Hour via Dial-In: 1-848-220-3100. \nUse ID 905300#
URL:https://koc9053.com/event/rosary-hour-thur-feb-26th-1000-am/
LOCATION:Columbus Hall\, 9901 Caostal Hwy.\, Ocean City\, MD\, 21842-2604\, United States
CATEGORIES:Rosary
END:VEVENT
BEGIN:VEVENT
DTSTART;TZID=UTC:20260402T100000
DTEND;TZID=UTC:20260402T110000
DTSTAMP:20260424T102647
CREATED:20260327T200350Z
LAST-MODIFIED:20260327T200350Z
UID:7527-1775124000-1775127600@koc9053.com
SUMMARY:Rosary Hour - Thur. April 2nd 10:00 am
DESCRIPTION:The Rosary Hour is on Thursdays at 10:00 a.m. at the Columbus Hall. \nThe Rosary is followed by a reading and discussion of the next Sunday’s Gospel. \nTo join us for Rosary Hour via Dial-In: 1-848-220-3100. \nUse ID 905300#
URL:https://koc9053.com/event/rosary-hour-thur-april-2nd-1000-am/
LOCATION:Columbus Hall\, 9901 Caostal Hwy.\, Ocean City\, MD\, 21842-2604\, United States
CATEGORIES:Rosary
END:VEVENT
BEGIN:VEVENT
DTSTART;TZID=UTC:20260409T100000
DTEND;TZID=UTC:20260409T110000
DTSTAMP:20260424T102647
CREATED:20260327T201537Z
LAST-MODIFIED:20260327T201537Z
UID:7533-1775728800-1775732400@koc9053.com
SUMMARY:Rosary Hour - Thur. April 9th 10:00 am
DESCRIPTION:The Rosary Hour is on Thursdays at 10:00 a.m. at the Columbus Hall. \nThe Rosary is followed by a reading and discussion of the next Sunday’s Gospel. \nTo join us for Rosary Hour via Dial-In: 1-848-220-3100. \nUse ID 905300#
URL:https://koc9053.com/event/rosary-hour-thur-april-9th-1000-am/
LOCATION:Columbus Hall\, 9901 Caostal Hwy.\, Ocean City\, MD\, 21842-2604\, United States
CATEGORIES:Rosary
END:VEVENT
BEGIN:VEVENT
DTSTART;TZID=UTC:20260423T100000
DTEND;TZID=UTC:20260423T110000
DTSTAMP:20260424T102647
CREATED:20260420T181112Z
LAST-MODIFIED:20260420T181112Z
UID:7598-1776938400-1776942000@koc9053.com
SUMMARY:Rosary Hour - Thur. April 23rd 10:00 am @The Columbus Hall
DESCRIPTION:The Rosary Hour is on Thursdays at 10:00 a.m. at the Columbus Hall. \nThe Rosary is followed by a reading and discussion of the next Sunday’s Gospel. \nTo join us for Rosary Hour via Dial-In: 1-848-220-3100. \nUse ID 905300#
URL:https://koc9053.com/event/rosary-hour-thur-april-23rd-1000-am-the-columbus-hall/
LOCATION:Columbus Hall\, 9901 Caostal Hwy.\, Ocean City\, MD\, 21842-2604\, United States
CATEGORIES:Rosary
END:VEVENT
BEGIN:VEVENT
DTSTART;TZID=UTC:20260430T100000
DTEND;TZID=UTC:20260430T110000
DTSTAMP:20260424T102647
CREATED:20260420T182341Z
LAST-MODIFIED:20260420T182341Z
UID:7604-1777543200-1777546800@koc9053.com
SUMMARY:Rosary Hour - Thur. April 30th 10:00 am @The Columbus Hall
DESCRIPTION:The Rosary Hour is on Thursdays at 10:00 a.m. at the Columbus Hall. \nThe Rosary is followed by a reading and discussion of the next Sunday’s Gospel. \nTo join us for Rosary Hour via Dial-In: 1-848-220-3100. \nUse ID 905300#
URL:https://koc9053.com/event/rosary-hour-thur-april-30th-1000-am-the-columbus-hall/
LOCATION:Columbus Hall\, 9901 Caostal Hwy.\, Ocean City\, MD\, 21842-2604\, United States
CATEGORIES:Rosary
END:VEVENT
END:VCALENDAR