BEGIN:VCALENDAR
VERSION:2.0
PRODID:-//Knights of Columbus #9053 Ocean City, Maryland - ECPv6.15.20//NONSGML v1.0//EN
CALSCALE:GREGORIAN
METHOD:PUBLISH
X-ORIGINAL-URL:https://koc9053.com
X-WR-CALDESC:Events for Knights of Columbus #9053 Ocean City, Maryland
REFRESH-INTERVAL;VALUE=DURATION:PT1H
X-Robots-Tag:noindex
X-PUBLISHED-TTL:PT1H
BEGIN:VTIMEZONE
TZID:UTC
BEGIN:STANDARD
TZOFFSETFROM:+0000
TZOFFSETTO:+0000
TZNAME:UTC
DTSTART:20240101T000000
END:STANDARD
END:VTIMEZONE
BEGIN:VEVENT
DTSTART;TZID=UTC:20250807T183000
DTEND;TZID=UTC:20250807T210000
DTSTAMP:20260424T062622
CREATED:20250706T201416Z
LAST-MODIFIED:20250706T201416Z
UID:6574-1754591400-1754600400@koc9053.com
SUMMARY:Installation of Officers Thur. Aug. 7th
DESCRIPTION:Installation of Officers Thur. Aug. 7th. Council 9053\, Assembly 2454\, CCC and possibly the Lady Knights.
URL:https://koc9053.com/event/installation-of-officers-thur-aug-7th/
LOCATION:Columbus Hall\, 9901 Caostal Hwy.\, Ocean City\, MD\, 21842-2604\, United States
CATEGORIES:Special Event
END:VEVENT
END:VCALENDAR