BEGIN:VCALENDAR
VERSION:2.0
PRODID:-//Knights of Columbus #9053 Ocean City, Maryland - ECPv6.15.20//NONSGML v1.0//EN
CALSCALE:GREGORIAN
METHOD:PUBLISH
X-WR-CALNAME:Knights of Columbus #9053 Ocean City, Maryland
X-ORIGINAL-URL:https://koc9053.com
X-WR-CALDESC:Events for Knights of Columbus #9053 Ocean City, Maryland
REFRESH-INTERVAL;VALUE=DURATION:PT1H
X-Robots-Tag:noindex
X-PUBLISHED-TTL:PT1H
BEGIN:VTIMEZONE
TZID:UTC
BEGIN:STANDARD
TZOFFSETFROM:+0000
TZOFFSETTO:+0000
TZNAME:UTC
DTSTART:20240101T000000
END:STANDARD
END:VTIMEZONE
BEGIN:VEVENT
DTSTART;TZID=UTC:20251111T090000
DTEND;TZID=UTC:20251111T100000
DTSTAMP:20260424T015512
CREATED:20251018T153441Z
LAST-MODIFIED:20251029T152349Z
UID:6939-1762851600-1762855200@koc9053.com
SUMMARY:Veteran’s Service after 9:00 a.m. Mass at St. Luke's Tuesday 11 November
DESCRIPTION:Mass 9:00a.m. at St.Luke's\n\n\nCeremony after Mass
URL:https://koc9053.com/event/veterans-service-after-900-a-m-mass-at-st-lukes-11-november/
LOCATION:St. Luke’s Church
CATEGORIES:Special Event
END:VEVENT
END:VCALENDAR