BEGIN:VCALENDAR
VERSION:2.0
PRODID:-//Knights of Columbus #9053 Ocean City, Maryland - ECPv6.15.20//NONSGML v1.0//EN
CALSCALE:GREGORIAN
METHOD:PUBLISH
X-WR-CALNAME:Knights of Columbus #9053 Ocean City, Maryland
X-ORIGINAL-URL:https://koc9053.com
X-WR-CALDESC:Events for Knights of Columbus #9053 Ocean City, Maryland
REFRESH-INTERVAL;VALUE=DURATION:PT1H
X-Robots-Tag:noindex
X-PUBLISHED-TTL:PT1H
BEGIN:VTIMEZONE
TZID:UTC
BEGIN:STANDARD
TZOFFSETFROM:+0000
TZOFFSETTO:+0000
TZNAME:UTC
DTSTART:20240101T000000
END:STANDARD
END:VTIMEZONE
BEGIN:VEVENT
DTSTART;TZID=UTC:20250805T163000
DTEND;TZID=UTC:20250805T183000
DTSTAMP:20260424T115911
CREATED:20250706T190249Z
LAST-MODIFIED:20250706T190249Z
UID:6546-1754411400-1754418600@koc9053.com
SUMMARY:Tuesday Seafood Night - Aug.  5th. Team 3
DESCRIPTION:
URL:https://koc9053.com/event/tuesday-seafood-night-aug-5th-team-3/
LOCATION:Columbus Hall\, 9901 Caostal Hwy.\, Ocean City\, MD\, 21842-2604\, United States
CATEGORIES:Tuesday Seafood Night
END:VEVENT
BEGIN:VEVENT
DTSTART;TZID=UTC:20250812T163000
DTEND;TZID=UTC:20250812T180000
DTSTAMP:20260424T115911
CREATED:20250706T190635Z
LAST-MODIFIED:20250812T150204Z
UID:6548-1755016200-1755021600@koc9053.com
SUMMARY:Tuesday Seafood Night - Aug. 12th. Team 2
DESCRIPTION:
URL:https://koc9053.com/event/tuesday-seafood-night-aug-12th-team-1/
LOCATION:Columbus Hall\, 9901 Caostal Hwy.\, Ocean City\, MD\, 21842-2604\, United States
CATEGORIES:Tuesday Seafood Night
END:VEVENT
BEGIN:VEVENT
DTSTART;TZID=UTC:20250819T163000
DTEND;TZID=UTC:20250819T180000
DTSTAMP:20260424T115911
CREATED:20250706T190911Z
LAST-MODIFIED:20250812T145931Z
UID:6550-1755621000-1755626400@koc9053.com
SUMMARY:Tuesday Seafood Night - Aug. 19th Team 1
DESCRIPTION:
URL:https://koc9053.com/event/tuesday-seafood-night-aug-19th-team-2/
LOCATION:Columbus Hall\, 9901 Caostal Hwy.\, Ocean City\, MD\, 21842-2604\, United States
CATEGORIES:Tuesday Seafood Night
END:VEVENT
BEGIN:VEVENT
DTSTART;TZID=UTC:20250826T163000
DTEND;TZID=UTC:20250826T180000
DTSTAMP:20260424T115911
CREATED:20250706T191210Z
LAST-MODIFIED:20250706T191210Z
UID:6552-1756225800-1756231200@koc9053.com
SUMMARY:Tuesday Seafood Night - Aug. 26th. Team 3. Last one of the season.
DESCRIPTION:
URL:https://koc9053.com/event/tuesday-seafood-night-aug-26th-team-3-last-one-of-the-season/
LOCATION:Columbus Hall\, 9901 Caostal Hwy.\, Ocean City\, MD\, 21842-2604\, United States
CATEGORIES:Tuesday Seafood Night
END:VEVENT
END:VCALENDAR