BEGIN:VCALENDAR
VERSION:2.0
PRODID:-//Knights of Columbus #9053 Ocean City, Maryland - ECPv6.15.20//NONSGML v1.0//EN
CALSCALE:GREGORIAN
METHOD:PUBLISH
X-WR-CALNAME:Knights of Columbus #9053 Ocean City, Maryland
X-ORIGINAL-URL:https://koc9053.com
X-WR-CALDESC:Events for Knights of Columbus #9053 Ocean City, Maryland
REFRESH-INTERVAL;VALUE=DURATION:PT1H
X-Robots-Tag:noindex
X-PUBLISHED-TTL:PT1H
BEGIN:VTIMEZONE
TZID:UTC
BEGIN:STANDARD
TZOFFSETFROM:+0000
TZOFFSETTO:+0000
TZNAME:UTC
DTSTART:20240101T000000
END:STANDARD
END:VTIMEZONE
BEGIN:VEVENT
DTSTART;VALUE=DATE:20251130
DTEND;VALUE=DATE:20251207
DTSTAMP:20260423T192655
CREATED:20251105T011101Z
LAST-MODIFIED:20251105T011101Z
UID:7067-1764460800-1765065599@koc9053.com
SUMMARY:Advent\, Week 1 Sunday Nov. 30th
DESCRIPTION:First week of Advent. The week of Sunday November 30th.
URL:https://koc9053.com/event/advent-week-1-sunday-nov-30th/
LOCATION:MD
CATEGORIES:Holy Day
END:VEVENT
BEGIN:VEVENT
DTSTART;TZID=UTC:20251203T173000
DTEND;TZID=UTC:20251203T210000
DTSTAMP:20260423T192655
CREATED:20251101T191143Z
LAST-MODIFIED:20251101T191143Z
UID:7046-1764783000-1764795600@koc9053.com
SUMMARY:Council #9053 Meeting - Wed. Dec. 3rd
DESCRIPTION:Officers meet at 5:30 pm.\, business meeting at 6:30 pm. at the Columbus Hall.
URL:https://koc9053.com/event/council-9053-meeting-wed-dec-3rd/
LOCATION:Columbus Hall\, 9901 Caostal Hwy.\, Ocean City\, MD\, 21842-2604\, United States
CATEGORIES:Council Meeting
END:VEVENT
BEGIN:VEVENT
DTSTART;TZID=UTC:20251204T100000
DTEND;TZID=UTC:20251204T110000
DTSTAMP:20260423T192655
CREATED:20251101T192020Z
LAST-MODIFIED:20251101T192020Z
UID:7048-1764842400-1764846000@koc9053.com
SUMMARY:Rosary Hour - Thur. Dec. 4th
DESCRIPTION:The Rosary Hour is on Thursdays at 10:00 a.m. at the Columbus Hall. \nThe Rosary is followed by a reading and discussion of the next Sunday’s Gospel. \nTo join us for Rosary Hour via Dial-In: 1-848-220-3100. \nUse ID 905300#
URL:https://koc9053.com/event/rosary-hour-thur-dec-4th/
LOCATION:Columbus Hall\, 9901 Caostal Hwy.\, Ocean City\, MD\, 21842-2604\, United States
CATEGORIES:Rosary
END:VEVENT
BEGIN:VEVENT
DTSTART;TZID=UTC:20251205T170000
DTEND;TZID=UTC:20251205T210000
DTSTAMP:20260423T192655
CREATED:20251101T193133Z
LAST-MODIFIED:20251101T193133Z
UID:7054-1764954000-1764968400@koc9053.com
SUMMARY:Bingo Team 3 - Fri. Dec. 5th 5:00 pm
DESCRIPTION:Come enjoy Bingo Friday Nights! \nDoors open at 5 p.m. and Bingo begins at 6:30 p.m. \nLight Refreshments are available before BINGO and during intermission. \n* Each game night we award at least $1000 in prize money. \n* Play every game for $25. \n*Our end of evening Big Jackpot is now worth up to $1\,000.  Prizes lowered if less than 40 attendees. \nBenefits Knights of Columbus Council #9053 Charities.
URL:https://koc9053.com/event/bingo-team-3-fri-dec-5th-500-pm/
LOCATION:Columbus Hall\, 9901 Caostal Hwy.\, Ocean City\, MD\, 21842-2604\, United States
CATEGORIES:Bingo
END:VEVENT
BEGIN:VEVENT
DTSTART;VALUE=DATE:20251207
DTEND;VALUE=DATE:20251214
DTSTAMP:20260423T192655
CREATED:20251105T010534Z
LAST-MODIFIED:20251105T010534Z
UID:7065-1765065600-1765670399@koc9053.com
SUMMARY:Advent\, Week 2 Sunday Dec. 7th
DESCRIPTION:Second week of Advent. The week of Sunday December 7th.
URL:https://koc9053.com/event/advent-week-2-sunday-dec-7th/
LOCATION:MD
CATEGORIES:Holy Day
END:VEVENT
BEGIN:VEVENT
DTSTART;TZID=UTC:20251209T170000
DTEND;TZID=UTC:20251209T210000
DTSTAMP:20260423T192655
CREATED:20251010T031748Z
LAST-MODIFIED:20251010T031748Z
UID:6854-1765299600-1765314000@koc9053.com
SUMMARY:Joe Gangi Christmas Gala
DESCRIPTION:$45 per Individual / $90 per Couple
URL:https://koc9053.com/event/joe-gangi-christmas-gala/
LOCATION:Columbus Hall\, 9901 Coastal Highway\, Ocean City\, MD\, 21842\, United States
CATEGORIES:Special Event
END:VEVENT
BEGIN:VEVENT
DTSTART;TZID=UTC:20251211T100000
DTEND;TZID=UTC:20251211T110000
DTSTAMP:20260423T192655
CREATED:20251101T192325Z
LAST-MODIFIED:20251101T192325Z
UID:7050-1765447200-1765450800@koc9053.com
SUMMARY:Rosary Hour - Thur. Dec. 11th
DESCRIPTION:The Rosary Hour is on Thursdays at 10:00 a.m. at the Columbus Hall. \nThe Rosary is followed by a reading and discussion of the next Sunday’s Gospel. \nTo join us for Rosary Hour via Dial-In: 1-848-220-3100. \nUse ID 905300#
URL:https://koc9053.com/event/rosary-hour-thur-dec-11th/
LOCATION:Columbus Hall\, 9901 Caostal Hwy.\, Ocean City\, MD\, 21842-2604\, United States
CATEGORIES:Rosary
END:VEVENT
BEGIN:VEVENT
DTSTART;TZID=UTC:20251212T080000
DTEND;TZID=UTC:20251212T170000
DTSTAMP:20260423T192655
CREATED:20251101T193516Z
LAST-MODIFIED:20251101T193516Z
UID:7056-1765526400-1765558800@koc9053.com
SUMMARY:Bingo Team 4 - Fri. Dec. 12th 5:00 pm
DESCRIPTION:Come enjoy Bingo Friday Nights! \nDoors open at 5 p.m. and Bingo begins at 6:30 p.m. \nLight Refreshments are available before BINGO and during intermission. \n* Each game night we award at least $1000 in prize money. \n* Play every game for $25. \n*Our end of evening Big Jackpot is now worth up to $1\,000.  Prizes lowered if less than 40 attendees. \nBenefits Knights of Columbus Council #9053 Charities.
URL:https://koc9053.com/event/bingo-team-4-fri-dec-12th-500-pm/
LOCATION:Columbus Hall\, 9901 Caostal Hwy.\, Ocean City\, MD\, 21842-2604\, United States
CATEGORIES:Bingo
END:VEVENT
BEGIN:VEVENT
DTSTART;VALUE=DATE:20251214
DTEND;VALUE=DATE:20251221
DTSTAMP:20260423T192655
CREATED:20251105T011339Z
LAST-MODIFIED:20251105T011339Z
UID:7069-1765670400-1766275199@koc9053.com
SUMMARY:Advent\, Week 3 Sunday Dec. 14th
DESCRIPTION:Third week of Advent. The week of Sunday December 14th.
URL:https://koc9053.com/event/advent-week-3-sunday-dec-14th/
LOCATION:MD
CATEGORIES:Holy Day
END:VEVENT
BEGIN:VEVENT
DTSTART;TZID=UTC:20251218T100000
DTEND;TZID=UTC:20251218T110000
DTSTAMP:20260423T192655
CREATED:20251101T192602Z
LAST-MODIFIED:20251101T192602Z
UID:7052-1766052000-1766055600@koc9053.com
SUMMARY:Rosary Hour - Thur. Dec. 18th
DESCRIPTION:The Rosary Hour is on Thursdays at 10:00 a.m. at the Columbus Hall. \nThe Rosary is followed by a reading and discussion of the next Sunday’s Gospel. \nTo join us for Rosary Hour via Dial-In: 1-848-220-3100. \nUse ID 905300#
URL:https://koc9053.com/event/rosary-hour-thur-dec-18th/
LOCATION:Columbus Hall\, 9901 Caostal Hwy.\, Ocean City\, MD\, 21842-2604\, United States
CATEGORIES:Rosary
END:VEVENT
BEGIN:VEVENT
DTSTART;TZID=UTC:20251219T170000
DTEND;TZID=UTC:20251219T210000
DTSTAMP:20260423T192655
CREATED:20251101T193843Z
LAST-MODIFIED:20251101T193843Z
UID:7058-1766163600-1766178000@koc9053.com
SUMMARY:Bingo Team 1 - Fri. Dec. 19th 5:00 pm
DESCRIPTION:Come enjoy Bingo Friday Nights! \nDoors open at 5 p.m. and Bingo begins at 6:30 p.m. \nLight Refreshments are available before BINGO and during intermission. \n* Each game night we award at least $1000 in prize money. \n* Play every game for $25. \n*Our end of evening Big Jackpot is now worth up to $1\,000.  Prizes lowered if less than 40 attendees. \nBenefits Knights of Columbus Council #9053 Charities.
URL:https://koc9053.com/event/bingo-team-1-fri-dec-19th-500-pm/
LOCATION:Columbus Hall\, 9901 Caostal Hwy.\, Ocean City\, MD\, 21842-2604\, United States
CATEGORIES:Bingo
END:VEVENT
BEGIN:VEVENT
DTSTART;VALUE=DATE:20251221
DTEND;VALUE=DATE:20251228
DTSTAMP:20260423T192655
CREATED:20251105T011714Z
LAST-MODIFIED:20251105T011714Z
UID:7071-1766275200-1766879999@koc9053.com
SUMMARY:Advent\, Week 4 Sunday Dec. 21st
DESCRIPTION:Fourth week of Advent. The week of Sunday December 21st.
URL:https://koc9053.com/event/advent-week-4-sunday-dec-21st/
LOCATION:MD
CATEGORIES:Holy Day
END:VEVENT
BEGIN:VEVENT
DTSTART;TZID=UTC:20251226T170000
DTEND;TZID=UTC:20251226T210000
DTSTAMP:20260423T192655
CREATED:20251101T194138Z
LAST-MODIFIED:20251101T194138Z
UID:7060-1766768400-1766782800@koc9053.com
SUMMARY:Bingo Team 2 - Fri. Dec. 26th 5:00 pm
DESCRIPTION:Come enjoy Bingo Friday Nights! \nDoors open at 5 p.m. and Bingo begins at 6:30 p.m. \nLight Refreshments are available before BINGO and during intermission. \n* Each game night we award at least $1000 in prize money. \n* Play every game for $25. \n*Our end of evening Big Jackpot is now worth up to $1\,000.  Prizes lowered if less than 40 attendees. \nBenefits Knights of Columbus Council #9053 Charities.
URL:https://koc9053.com/event/bingo-team-2-fri-dec-26th-500-pm/
LOCATION:Columbus Hall\, 9901 Caostal Hwy.\, Ocean City\, MD\, 21842-2604\, United States
CATEGORIES:Bingo
END:VEVENT
BEGIN:VEVENT
DTSTART;TZID=UTC:20251230T100000
DTEND;TZID=UTC:20251230T120000
DTSTAMP:20260423T192655
CREATED:20251105T012151Z
LAST-MODIFIED:20251105T012151Z
UID:7073-1767088800-1767096000@koc9053.com
SUMMARY:Ways and Means Meeting Tuesday 30 December at 10 a.m. via  ZOOM
DESCRIPTION:Ways and Means Meeting via ZOOM 10:00 am
URL:https://koc9053.com/event/ways-and-means-meeting-tuesday-30-december-at-10-a-m-via-zoom/
LOCATION:ZOOM
CATEGORIES:Ways and Means
END:VEVENT
BEGIN:VEVENT
DTSTART;TZID=UTC:20260102T170000
DTEND;TZID=UTC:20260102T210000
DTSTAMP:20260423T192655
CREATED:20251110T201324Z
LAST-MODIFIED:20251123T224445Z
UID:7080-1767373200-1767387600@koc9053.com
SUMMARY:Bingo for Babies Team 1 - Fri Jan 2nd 5:00 pm
DESCRIPTION:Come enjoy Bingo Friday Nights! \nDoors open at 5 p.m. and Bingo begins at 6:30 p.m. \nLight Refreshments are available before BINGO and during intermission. \n* Each game night we award at least $1000 in prize money. \n* Play every game for $25. \n*Our end of evening Big Jackpot is now worth up to $1\,000.  Prizes lowered if less than 40 attendees. \nBenefits Knights of Columbus Council #9053 Charities.
URL:https://koc9053.com/event/bingo-team-1-fri-jan-2nd-500-pm/
LOCATION:Columbus Hall\, 9901 Caostal Hwy.\, Ocean City\, MD\, 21842-2604\, United States
CATEGORIES:Bingo
END:VEVENT
BEGIN:VEVENT
DTSTART;TZID=UTC:20260107T173000
DTEND;TZID=UTC:20260107T210000
DTSTAMP:20260423T192655
CREATED:20260113T195156Z
LAST-MODIFIED:20260113T195156Z
UID:7211-1767807000-1767819600@koc9053.com
SUMMARY:Council Business Meeting Wednesday 07 January 2026 6:30 p.m. Columbus Hall
DESCRIPTION:Officers meet at 5:30 pm.\, business meeting at 6:30 pm. at the Columbus Hall.
URL:https://koc9053.com/event/council-business-meeting-wednesday-07-january-2026-630-p-m-columbus-hall/
LOCATION:Columbus Hall\, 9901 Caostal Hwy.\, Ocean City\, MD\, 21842-2604\, United States
CATEGORIES:Council Meeting
END:VEVENT
BEGIN:VEVENT
DTSTART;TZID=UTC:20260113T080000
DTEND;TZID=UTC:20260113T170000
DTSTAMP:20260423T192655
CREATED:20260113T195930Z
LAST-MODIFIED:20260113T195930Z
UID:7214-1768291200-1768323600@koc9053.com
SUMMARY:Columbus Club Board of Directors Meeting -Wed. January 14th 10:00 am
DESCRIPTION:Monthly Columbus Club Board of Directors Meeting will be held on second Wednesday of the month beginning at 10:00 am in the Columbus Hall.
URL:https://koc9053.com/event/columbus-club-board-of-directors-meeting-wed-january-14th-1000-am/
LOCATION:Columbus Hall\, 9901 Caostal Hwy.\, Ocean City\, MD\, 21842-2604\, United States
CATEGORIES:Columbus Club
END:VEVENT
BEGIN:VEVENT
DTSTART;TZID=UTC:20260115T100000
DTEND;TZID=UTC:20260115T110000
DTSTAMP:20260423T192655
CREATED:20260113T200253Z
LAST-MODIFIED:20260113T200253Z
UID:7216-1768471200-1768474800@koc9053.com
SUMMARY:Rosary Hour - Thur. Jan. 15th 10:00 am
DESCRIPTION:The Rosary Hour is on Thursdays at 10:00 a.m. at the Columbus Hall. \nThe Rosary is followed by a reading and discussion of the next Sunday’s Gospel. \nTo join us for Rosary Hour via Dial-In: 1-848-220-3100. \nUse ID 905300#
URL:https://koc9053.com/event/rosary-hour-thur-jan-15th-1000-am/
LOCATION:Columbus Hall\, 9901 Caostal Hwy.\, Ocean City\, MD\, 21842-2604\, United States
CATEGORIES:Rosary
END:VEVENT
BEGIN:VEVENT
DTSTART;TZID=UTC:20260115T183000
DTEND;TZID=UTC:20260115T210000
DTSTAMP:20260423T192655
CREATED:20260113T200827Z
LAST-MODIFIED:20260113T200827Z
UID:7218-1768501800-1768510800@koc9053.com
SUMMARY:Assembly Business Meeting Thursday 15 January 6:30 pm. in Columbus Hall
DESCRIPTION:Monthly Assembly Meeting will be Thu. 15 Jan. 2026 beginning at 6:30 p.m. in Columbus Hall.
URL:https://koc9053.com/event/assembly-business-meeting-thursday-15-january-630-pm-in-columbus-hall/
LOCATION:Columbus Hall\, 9901 Caostal Hwy.\, Ocean City\, MD\, 21842-2604\, United States
CATEGORIES:Assembly Meeting
END:VEVENT
BEGIN:VEVENT
DTSTART;TZID=UTC:20260116T170000
DTEND;TZID=UTC:20260116T210000
DTSTAMP:20260423T192655
CREATED:20260113T201221Z
LAST-MODIFIED:20260113T201221Z
UID:7220-1768582800-1768597200@koc9053.com
SUMMARY:Bingo Team 1 - Fri. Jan. 16th 5:00 pm
DESCRIPTION:Come enjoy Bingo Friday Nights! \nDoors open at 5 p.m. and Bingo begins at 6:30 p.m. \nLight Refreshments are available before BINGO and during intermission. \n* Each game night we award at least $1000 in prize money. \n* Play every game for $25. \n*Our end of evening Big Jackpot is now worth up to $1\,000.  Prizes lowered if less than 40 attendees. \nBenefits Knights of Columbus Council #9053 Charities.
URL:https://koc9053.com/event/bingo-team-1-fri-jan-16th-500-pm/
LOCATION:Columbus Hall\, 9901 Caostal Hwy.\, Ocean City\, MD\, 21842-2604\, United States
CATEGORIES:Bingo
END:VEVENT
BEGIN:VEVENT
DTSTART;VALUE=DATE:20260119
DTEND;VALUE=DATE:20260120
DTSTAMP:20260423T192655
CREATED:20260113T201408Z
LAST-MODIFIED:20260113T201408Z
UID:7222-1768780800-1768867199@koc9053.com
SUMMARY:Matin Luther King Holiday Jan. 19th
DESCRIPTION:Matin Luther King Holiday Jan. 19th
URL:https://koc9053.com/event/matin-luther-king-holiday-jan-19th/
LOCATION:MD
CATEGORIES:Holidays
END:VEVENT
BEGIN:VEVENT
DTSTART;TZID=UTC:20260119T130000
DTEND;TZID=UTC:20260119T150000
DTSTAMP:20260423T192655
CREATED:20260113T201916Z
LAST-MODIFIED:20260113T201916Z
UID:7224-1768827600-1768834800@koc9053.com
SUMMARY:Ladies Auxiliary Business Meeting Monday 19 January at 1:00 p.m. Columbus Hall
DESCRIPTION:Lady Knights Auxiliary Meeting\, Officers at 12:30 pm.\, Business meeting at 1:00 pm. at the Columbus Hall.
URL:https://koc9053.com/event/ladies-auxiliary-business-meeting-monday-19-january-at-100-p-m-columbus-hall/
LOCATION:Columbus Hall\, 9901 Caostal Hwy.\, Ocean City\, MD\, 21842-2604\, United States
CATEGORIES:Ladies Auxiliary Business Meeting
END:VEVENT
BEGIN:VEVENT
DTSTART;TZID=UTC:20260121T100000
DTEND;TZID=UTC:20260121T150000
DTSTAMP:20260423T192655
CREATED:20251110T202630Z
LAST-MODIFIED:20260113T204044Z
UID:7085-1768989600-1769007600@koc9053.com
SUMMARY:Bingo for Babies  - Wed Jan 21st 10:00 am - 3:00 pm
DESCRIPTION:Bingo for Babies – Wed Jan 21st 10:00 am – 3:00 pm
URL:https://koc9053.com/event/bingo-team-2-fri-jan-9th-500-pm/
LOCATION:Columbus Hall\, 9901 Caostal Hwy.\, Ocean City\, MD\, 21842-2604\, United States
CATEGORIES:Bingo,Special Bingo
END:VEVENT
BEGIN:VEVENT
DTSTART;TZID=UTC:20260122T100000
DTEND;TZID=UTC:20260122T110000
DTSTAMP:20260423T192655
CREATED:20260113T203122Z
LAST-MODIFIED:20260113T203122Z
UID:7229-1769076000-1769079600@koc9053.com
SUMMARY:Rosary Hour - Thur. Jan. 22nd 10:00 am
DESCRIPTION:The Rosary Hour is on Thursdays at 10:00 a.m. at the Columbus Hall. \nThe Rosary is followed by a reading and discussion of the next Sunday’s Gospel. \nTo join us for Rosary Hour via Dial-In: 1-848-220-3100. \nUse ID 905300#
URL:https://koc9053.com/event/rosary-hour-thur-jan-22nd-1000-am/
LOCATION:Columbus Hall\, 9901 Caostal Hwy.\, Ocean City\, MD\, 21842-2604\, United States
CATEGORIES:Rosary
END:VEVENT
BEGIN:VEVENT
DTSTART;TZID=UTC:20260123T170000
DTEND;TZID=UTC:20260123T210000
DTSTAMP:20260423T192655
CREATED:20260113T203433Z
LAST-MODIFIED:20260113T203433Z
UID:7231-1769187600-1769202000@koc9053.com
SUMMARY:Bingo Team 2 - Fri. Jan. 23rd 5:00 pm
DESCRIPTION:Come enjoy Bingo Friday Nights! \nDoors open at 5 p.m. and Bingo begins at 6:30 p.m. \nLight Refreshments are available before BINGO and during intermission. \n* Each game night we award at least $1000 in prize money. \n* Play every game for $25. \n*Our end of evening Big Jackpot is now worth up to $1\,000.  Prizes lowered if less than 40 attendees. \nBenefits Knights of Columbus Council #9053 Charities.
URL:https://koc9053.com/event/bingo-team-2-fri-jan-23rd-500-pm/
LOCATION:Columbus Hall\, 9901 Caostal Hwy.\, Ocean City\, MD\, 21842-2604\, United States
CATEGORIES:Bingo
END:VEVENT
BEGIN:VEVENT
DTSTART;TZID=UTC:20260127T100000
DTEND;TZID=UTC:20260127T120000
DTSTAMP:20260423T192655
CREATED:20260113T203720Z
LAST-MODIFIED:20260113T203720Z
UID:7233-1769508000-1769515200@koc9053.com
SUMMARY:Ways and Means Meeting Tuesday 27 January at 10 a.m. via  ZOOM
DESCRIPTION:Ways and Means Meeting via ZOOM 10:00 am
URL:https://koc9053.com/event/ways-and-means-meeting-tuesday-27-january-at-10-a-m-via-zoom/
LOCATION:ZOOM
CATEGORIES:Ways and Means
END:VEVENT
BEGIN:VEVENT
DTSTART;TZID=UTC:20260129T100000
DTEND;TZID=UTC:20260129T110000
DTSTAMP:20260423T192655
CREATED:20260113T204016Z
LAST-MODIFIED:20260113T204016Z
UID:7235-1769680800-1769684400@koc9053.com
SUMMARY:Rosary Hour - Thur. Jan. 29th 10:00 am
DESCRIPTION:The Rosary Hour is on Thursdays at 10:00 a.m. at the Columbus Hall. \nThe Rosary is followed by a reading and discussion of the next Sunday’s Gospel. \nTo join us for Rosary Hour via Dial-In: 1-848-220-3100. \nUse ID 905300#
URL:https://koc9053.com/event/rosary-hour-thur-jan-29th-1000-am/
LOCATION:Columbus Hall\, 9901 Caostal Hwy.\, Ocean City\, MD\, 21842-2604\, United States
CATEGORIES:Rosary
END:VEVENT
BEGIN:VEVENT
DTSTART;TZID=UTC:20260129T150000
DTEND;TZID=UTC:20260129T180000
DTSTAMP:20260423T192655
CREATED:20260113T204303Z
LAST-MODIFIED:20260113T204303Z
UID:7237-1769698800-1769709600@koc9053.com
SUMMARY:Polish Club Dinner Thur. Jan. 29th 3:00 pm - 6:00pm
DESCRIPTION:Polish Club Dinner Thur. Jan. 29th 3:00 pm – 6:00pm
URL:https://koc9053.com/event/polish-club-dinner-thur-jan-29th-300-pm-600pm/
LOCATION:Columbus Hall\, 9901 Caostal Hwy.\, Ocean City\, MD\, 21842-2604\, United States
CATEGORIES:Special Event
END:VEVENT
BEGIN:VEVENT
DTSTART;TZID=UTC:20260130T170000
DTEND;TZID=UTC:20260130T210000
DTSTAMP:20260423T192655
CREATED:20260113T204555Z
LAST-MODIFIED:20260113T204555Z
UID:7239-1769792400-1769806800@koc9053.com
SUMMARY:Bingo Team 3 - Fri. Jan. 30th 5:00 pm
DESCRIPTION:Come enjoy Bingo Friday Nights! \nDoors open at 5 p.m. and Bingo begins at 6:30 p.m. \nLight Refreshments are available before BINGO and during intermission. \n* Each game night we award at least $1000 in prize money. \n* Play every game for $25. \n*Our end of evening Big Jackpot is now worth up to $1\,000.  Prizes lowered if less than 40 attendees. \nBenefits Knights of Columbus Council #9053 Charities.
URL:https://koc9053.com/event/bingo-team-3-fri-jan-30th-500-pm/
LOCATION:Columbus Hall\, 9901 Caostal Hwy.\, Ocean City\, MD\, 21842-2604\, United States
CATEGORIES:Bingo
END:VEVENT
BEGIN:VEVENT
DTSTART;TZID=UTC:20260209T080000
DTEND;TZID=UTC:20260209T170000
DTSTAMP:20260423T192655
CREATED:20260210T000302Z
LAST-MODIFIED:20260210T000302Z
UID:7332-1770624000-1770656400@koc9053.com
SUMMARY:Kitchen Meeting Thur. Feb. 12th @11:00 a.m.
DESCRIPTION:Kitchen Meeting Thur. Feb. 12th @11:00 a.m.
URL:https://koc9053.com/event/kitchen-meeting-thur-feb-12th-1100-a-m/
LOCATION:Columbus Hall\, 9901 Caostal Hwy.\, Ocean City\, MD\, 21842-2604\, United States
CATEGORIES:Kitchen Meeting
END:VEVENT
END:VCALENDAR