BEGIN:VCALENDAR
VERSION:2.0
PRODID:-//Knights of Columbus #9053 Ocean City, Maryland - ECPv6.15.20//NONSGML v1.0//EN
CALSCALE:GREGORIAN
METHOD:PUBLISH
X-WR-CALNAME:Knights of Columbus #9053 Ocean City, Maryland
X-ORIGINAL-URL:https://koc9053.com
X-WR-CALDESC:Events for Knights of Columbus #9053 Ocean City, Maryland
REFRESH-INTERVAL;VALUE=DURATION:PT1H
X-Robots-Tag:noindex
X-PUBLISHED-TTL:PT1H
BEGIN:VTIMEZONE
TZID:UTC
BEGIN:STANDARD
TZOFFSETFROM:+0000
TZOFFSETTO:+0000
TZNAME:UTC
DTSTART:20230101T000000
END:STANDARD
END:VTIMEZONE
BEGIN:VEVENT
DTSTART;TZID=UTC:20241118T120000
DTEND;TZID=UTC:20241118T130000
DTSTAMP:20260424T152415
CREATED:20241016T005923Z
LAST-MODIFIED:20241031T135944Z
UID:3864-1731931200-1731934800@koc9053.com
SUMMARY:Lady Knights Officers
DESCRIPTION:Officers Meeting
URL:https://koc9053.com/event/lady-knights-officers-1118/
LOCATION:Columbus Hall\, 9901 Coastal Highway\, Ocean City\, MD\, 21842\, United States
CATEGORIES:Lady Knights
ATTACH;FMTTYPE=image/png:https://koc9053.com/wp-content/uploads/2024/10/events-calendar-headers-lady-knights-1.png
END:VEVENT
BEGIN:VEVENT
DTSTART;TZID=UTC:20241118T130000
DTEND;TZID=UTC:20241118T140000
DTSTAMP:20260424T152415
CREATED:20241016T010037Z
LAST-MODIFIED:20241031T135847Z
UID:3866-1731934800-1731938400@koc9053.com
SUMMARY:Lady Knights Business Meeting
DESCRIPTION:
URL:https://koc9053.com/event/lady-knights-business-meeting-1118/
LOCATION:Columbus Hall\, 9901 Coastal Highway\, Ocean City\, MD\, 21842\, United States
CATEGORIES:Lady Knights
ATTACH;FMTTYPE=image/png:https://koc9053.com/wp-content/uploads/2024/10/events-calendar-headers-lady-knights-1.png
END:VEVENT
BEGIN:VEVENT
DTSTART;TZID=UTC:20241121T100000
DTEND;TZID=UTC:20241121T110000
DTSTAMP:20260424T152415
CREATED:20241016T005542Z
LAST-MODIFIED:20241016T005542Z
UID:3852-1732183200-1732186800@koc9053.com
SUMMARY:Rosary Hour
DESCRIPTION:The Rosary Hour is back on Thursdays at 10:00 a.m. at the Columbus Hall. \nThe Rosary is followed by a reading of the next Sunday’s Gospel and a discussion about this Sunday’s Gospel. \nTo join us for Rosary Hour via Dial-In: 1-848-220-3100 \nUse ID 905300#
URL:https://koc9053.com/event/rosary-hour-1121/
LOCATION:Columbus Hall\, 9901 Coastal Highway\, Ocean City\, MD\, 21842\, United States
CATEGORIES:Rosary
ATTACH;FMTTYPE=image/jpeg:https://koc9053.com/wp-content/uploads/2024/09/lennon-caranzo-xv4MlLRt6sw-unsplash-scaled.jpg
END:VEVENT
BEGIN:VEVENT
DTSTART;TZID=UTC:20241126T100000
DTEND;TZID=UTC:20241126T110000
DTSTAMP:20260424T152415
CREATED:20241016T005818Z
LAST-MODIFIED:20241031T135729Z
UID:3862-1732615200-1732618800@koc9053.com
SUMMARY:Ways and Means
DESCRIPTION:via Zoom
URL:https://koc9053.com/event/ways-and-means-1126/
LOCATION:Columbus Hall\, 9901 Coastal Highway\, Ocean City\, MD\, 21842\, United States
CATEGORIES:Ways and Means
ATTACH;FMTTYPE=image/png:https://koc9053.com/wp-content/uploads/2024/10/events-calendar-headers-ways-and-means-1.png
END:VEVENT
BEGIN:VEVENT
DTSTART;TZID=UTC:20241127T090000
DTEND;TZID=UTC:20241127T140000
DTSTAMP:20260424T152415
CREATED:20241016T011656Z
LAST-MODIFIED:20241107T203105Z
UID:3881-1732698000-1732716000@koc9053.com
SUMMARY:Blood Drive
DESCRIPTION:
URL:https://koc9053.com/event/blood-drive/
LOCATION:Columbus Hall\, 9901 Coastal Highway\, Ocean City\, MD\, 21842\, United States
CATEGORIES:Community Events
ATTACH;FMTTYPE=image/png:https://koc9053.com/wp-content/uploads/2024/10/events-calendar-headers-community-meals-1.png
END:VEVENT
BEGIN:VEVENT
DTSTART;VALUE=DATE:20241128
DTEND;VALUE=DATE:20241129
DTSTAMP:20260424T152415
CREATED:20241016T005609Z
LAST-MODIFIED:20241101T233229Z
UID:3859-1732752000-1732838399@koc9053.com
SUMMARY:Thanksgiving Day
DESCRIPTION:
URL:https://koc9053.com/event/thanksgiving-day/
LOCATION:MD
CATEGORIES:Holidays
ATTACH;FMTTYPE=image/png:https://koc9053.com/wp-content/uploads/2024/10/Screen-Shot-2022-11-21-at-8.02.48-AM-1064x1000-1.png
END:VEVENT
BEGIN:VEVENT
DTSTART;TZID=UTC:20241129T183000
DTEND;TZID=UTC:20241129T213000
DTSTAMP:20260424T152415
CREATED:20241016T013720Z
LAST-MODIFIED:20241016T013738Z
UID:3899-1732905000-1732915800@koc9053.com
SUMMARY:BINGO - Team 4
DESCRIPTION:Come enjoy Bingo Friday Nights! \nDoors open at 5 p.m. and Bingo begins at 6:30 p.m. \nLight Refreshments are available before BINGO and during intermission. \n* Each game night we award at least $1000 in prize money. \n* Play every game for $25. \n*Our end of evening Big Jackpot is now worth up to $1\,000.  Prizes lowered if less than 40 attendees. \nBenefits Knights of Columbus Council #9053 Charities.
URL:https://koc9053.com/event/bingo-1129t4/
LOCATION:Columbus Hall\, 9901 Coastal Highway\, Ocean City\, MD\, 21842\, United States
CATEGORIES:Bingo
ATTACH;FMTTYPE=image/png:https://koc9053.com/wp-content/uploads/2024/09/Bingo-for-Website-2.png
END:VEVENT
BEGIN:VEVENT
DTSTART;VALUE=DATE:20241201
DTEND;VALUE=DATE:20241202
DTSTAMP:20260424T152415
CREATED:20241124T003154Z
LAST-MODIFIED:20241124T010312Z
UID:4678-1733011200-1733097599@koc9053.com
SUMMARY:First Sunday of Advent
DESCRIPTION:
URL:https://koc9053.com/event/first-sunday-of-advent/
LOCATION:MD
END:VEVENT
BEGIN:VEVENT
DTSTART;TZID=UTC:20241204T173000
DTEND;TZID=UTC:20241204T213000
DTSTAMP:20260424T152415
CREATED:20241124T001158Z
LAST-MODIFIED:20241124T003430Z
UID:4673-1733333400-1733347800@koc9053.com
SUMMARY:Council #9053-Assembly #2454 Annual Christmas Dinner-Dance
DESCRIPTION:See Flyer on Event Flyers Page for Additional Information
URL:https://koc9053.com/event/christmas-dinner-dance/
LOCATION:Columbus Hall\, 9901 Coastal Highway\, Ocean City\, MD\, 21842\, United States
END:VEVENT
BEGIN:VEVENT
DTSTART;TZID=UTC:20241205T080000
DTEND;TZID=UTC:20241205T170000
DTSTAMP:20260424T152415
CREATED:20241202T191818Z
LAST-MODIFIED:20241202T191818Z
UID:4754-1733385600-1733418000@koc9053.com
SUMMARY:Trustee Audit
DESCRIPTION:Council 9053 Financial Audit by Council Trustees
URL:https://koc9053.com/event/trustee-audit/
LOCATION:MD
END:VEVENT
BEGIN:VEVENT
DTSTART;TZID=UTC:20241205T100000
DTEND;TZID=UTC:20241205T110000
DTSTAMP:20260424T152415
CREATED:20241124T235929Z
LAST-MODIFIED:20250116T203438Z
UID:4721-1733392800-1733396400@koc9053.com
SUMMARY:Rosary Hour Thur. Dec. 5
DESCRIPTION:The Rosary Hour is back on Thursdays at 10:00 a.m. at the Columbus Hall. \nThe Rosary is followed by a reading of the next Sunday’s Gospel and a discussion about this Sunday’s Gospel. \nTo join us for Rosary Hour via Dial-In: 1-848-220-3100 \nUse ID 905300#
URL:https://koc9053.com/event/rosary-hour/
LOCATION:Columbus Hall\, 9901 Coastal Highway\, Ocean City\, MD\, 21842\, United States
CATEGORIES:Bingo,Rosary
END:VEVENT
BEGIN:VEVENT
DTSTART;TZID=UTC:20241206T170000
DTEND;TZID=UTC:20241206T213000
DTSTAMP:20260424T152415
CREATED:20241124T215559Z
LAST-MODIFIED:20241206T231949Z
UID:4699-1733504400-1733520600@koc9053.com
SUMMARY:Bingo - Team 1
DESCRIPTION:  \nCome enjoy Bingo Friday Nights! \nDoors open at 5 p.m. and Bingo begins at 6:30 p.m. \nLight Refreshments are available before BINGO and during intermission. \n* Each game night we award at least $1000 in prize money. \n* Play every game for $25. \n*Our end of evening Big Jackpot is now worth up to $1\,000.  Prizes lowered if less than 40 attendees. \nBenefits Knights of Columbus Council #9053 Charities.
URL:https://koc9053.com/event/bingo-team-1-3/
LOCATION:Columbus Hall\, 9901 Coastal Highway\, Ocean City\, MD\, 21842\, United States
CATEGORIES:Bingo
END:VEVENT
BEGIN:VEVENT
DTSTART;VALUE=DATE:20241208
DTEND;VALUE=DATE:20241209
DTSTAMP:20260424T152415
CREATED:20241202T192039Z
LAST-MODIFIED:20241202T192146Z
UID:4758-1733616000-1733702399@koc9053.com
SUMMARY:2nd Sunday of Advent
DESCRIPTION:
URL:https://koc9053.com/event/2nd-sunday-of-advent/
LOCATION:MD
END:VEVENT
BEGIN:VEVENT
DTSTART;TZID=UTC:20241209T120000
DTEND;TZID=UTC:20241209T150000
DTSTAMP:20260424T152415
CREATED:20241202T192512Z
LAST-MODIFIED:20241210T150106Z
UID:4760-1733745600-1733756400@koc9053.com
SUMMARY:Knights of Columbus Ladies Christmas Luncheon
DESCRIPTION:
URL:https://koc9053.com/event/knights-of-columbus-ladies-christmas-luncheon/
LOCATION:MD
CATEGORIES:Lady Knights
END:VEVENT
BEGIN:VEVENT
DTSTART;TZID=UTC:20241211T140000
DTEND;TZID=UTC:20241211T170000
DTSTAMP:20260424T152415
CREATED:20241202T192814Z
LAST-MODIFIED:20241202T192814Z
UID:4762-1733925600-1733936400@koc9053.com
SUMMARY:Polish American Club
DESCRIPTION:Polish American Club Meeting\, 2:00 pm @ the Columbus Hall.
URL:https://koc9053.com/event/polish-american-club/
LOCATION:MD
END:VEVENT
BEGIN:VEVENT
DTSTART;TZID=UTC:20241212T100000
DTEND;TZID=UTC:20241212T110000
DTSTAMP:20260424T152415
CREATED:20241125T000128Z
LAST-MODIFIED:20241210T152412Z
UID:4723-1733997600-1734001200@koc9053.com
SUMMARY:Rosary Hour
DESCRIPTION:The Rosary Hour is back on Thursdays at 10:00 a.m. at the Columbus Hall. \nThe Rosary is followed by a reading of the next Sunday’s Gospel and a discussion about this Sunday’s Gospel. \nTo join us for Rosary Hour via Dial-In: 1-848-220-3100 \nUse ID 905300#
URL:https://koc9053.com/event/rosary-hour-2/
LOCATION:Columbus Hall\, 9901 Coastal Highway\, Ocean City\, MD\, 21842\, United States
CATEGORIES:Rosary
ATTACH;FMTTYPE=image/png:https://koc9053.com/wp-content/uploads/2024/10/events-calendar-headers-rosary-hour.png
END:VEVENT
BEGIN:VEVENT
DTSTART;TZID=UTC:20241213T170000
DTEND;TZID=UTC:20241213T213000
DTSTAMP:20260424T152415
CREATED:20241124T003226Z
LAST-MODIFIED:20241210T152314Z
UID:4670-1734109200-1734125400@koc9053.com
SUMMARY:Bingo - Team 2
DESCRIPTION:  \nCome enjoy Bingo Friday Nights! \nDoors open at 5 p.m. and Bingo begins at 6:30 p.m. \nLight Refreshments are available before BINGO and during intermission. \n* Each game night we award at least $1000 in prize money. \n* Play every game for $25. \n*Our end of evening Big Jackpot is now worth up to $1\,000.  Prizes lowered if less than 40 attendees. \nBenefits Knights of Columbus Council #9053 Charities.
URL:https://koc9053.com/event/bingo-team-1-2/
LOCATION:Columbus Hall\, 9901 Coastal Highway\, Ocean City\, MD\, 21842\, United States
CATEGORIES:Bingo
ATTACH;FMTTYPE=image/jpeg:https://koc9053.com/wp-content/uploads/2024/09/Friday-Night-Bingo_Revised-11-May-2023-scaled.jpg
END:VEVENT
BEGIN:VEVENT
DTSTART;TZID=UTC:20241214T100000
DTEND;TZID=UTC:20241214T130000
DTSTAMP:20260424T152415
CREATED:20241209T221727Z
LAST-MODIFIED:20241210T152149Z
UID:4969-1734170400-1734181200@koc9053.com
SUMMARY:Wreaths Across America
DESCRIPTION:If carpooling\, meet at Harris Teeter NTL 8:45 a.m. \nPark on right hand side of parking lot as you enter Harris Teeter
URL:https://koc9053.com/event/wreaths-across-america/
LOCATION:MD
CATEGORIES:Community Events
ATTACH;FMTTYPE=image/png:https://koc9053.com/wp-content/uploads/2024/12/Wreaths-across-America.png
END:VEVENT
BEGIN:VEVENT
DTSTART;VALUE=DATE:20241215
DTEND;VALUE=DATE:20241216
DTSTAMP:20260424T152415
CREATED:20241125T001205Z
LAST-MODIFIED:20241125T001205Z
UID:4731-1734220800-1734307199@koc9053.com
SUMMARY:Third Sunday of Advent
DESCRIPTION:
URL:https://koc9053.com/event/third-sunday-of-advent/
LOCATION:MD
END:VEVENT
BEGIN:VEVENT
DTSTART;TZID=UTC:20241219T100000
DTEND;TZID=UTC:20241219T110000
DTSTAMP:20260424T152415
CREATED:20241125T000240Z
LAST-MODIFIED:20250116T203319Z
UID:4725-1734602400-1734606000@koc9053.com
SUMMARY:Rosary Hour Thur. Dec. 19
DESCRIPTION:The Rosary Hour is back on Thursdays at 10:00 a.m. at the Columbus Hall. \nThe Rosary is followed by a reading and discussion of the next Sunday’s Gospel. \nTo join us for Rosary Hour via Dial-In: 1-848-220-3100 \nUse ID 905300#
URL:https://koc9053.com/event/rosary-hour-3/
LOCATION:Columbus Hall\, 9901 Coastal Highway\, Ocean City\, MD\, 21842\, United States
CATEGORIES:Rosary
END:VEVENT
BEGIN:VEVENT
DTSTART;TZID=UTC:20241220T170000
DTEND;TZID=UTC:20241220T213000
DTSTAMP:20260424T152415
CREATED:20241124T221834Z
LAST-MODIFIED:20241210T153523Z
UID:4709-1734714000-1734730200@koc9053.com
SUMMARY:Bingo - Team 3
DESCRIPTION:  \nCome enjoy Bingo Friday Nights! \nDoors open at 5 p.m. and Bingo begins at 6:30 p.m. \nLight Refreshments are available before BINGO and during intermission. \n* Each game night we award at least $1000 in prize money. \n* Play every game for $25. \n*Our end of evening Big Jackpot is now worth up to $1\,000.  Prizes lowered if less than 40 attendees. \nBenefits Knights of Columbus Council #9053 Charities.
URL:https://koc9053.com/event/bingo-team-3/
LOCATION:Columbus Hall\, 9901 Coastal Highway\, Ocean City\, MD\, 21842\, United States
CATEGORIES:Bingo
ATTACH;FMTTYPE=image/jpeg:https://koc9053.com/wp-content/uploads/2024/09/Friday-Night-Bingo_Revised-11-May-2023-scaled.jpg
END:VEVENT
BEGIN:VEVENT
DTSTART;VALUE=DATE:20241222
DTEND;VALUE=DATE:20241223
DTSTAMP:20260424T152415
CREATED:20241125T001252Z
LAST-MODIFIED:20241125T001354Z
UID:4733-1734825600-1734911999@koc9053.com
SUMMARY:Fourth Sunday of Advent
DESCRIPTION:
URL:https://koc9053.com/event/4th-sunday-of-advent/
LOCATION:MD
END:VEVENT
BEGIN:VEVENT
DTSTART;VALUE=DATE:20241225
DTEND;VALUE=DATE:20241226
DTSTAMP:20260424T152415
CREATED:20241124T164523Z
LAST-MODIFIED:20241210T223745Z
UID:4687-1735084800-1735171199@koc9053.com
SUMMARY:Christmas 2024
DESCRIPTION:Merry Christmas to All!
URL:https://koc9053.com/event/christmas-2024/
LOCATION:MD
CATEGORIES:Holidays
ATTACH;FMTTYPE=image/png:https://koc9053.com/wp-content/uploads/2024/12/Christmas-Scene.png
END:VEVENT
BEGIN:VEVENT
DTSTART;TZID=UTC:20241226T100000
DTEND;TZID=UTC:20241226T110000
DTSTAMP:20260424T152415
CREATED:20241125T000537Z
LAST-MODIFIED:20250116T203217Z
UID:4727-1735207200-1735210800@koc9053.com
SUMMARY:Rosary Hour Thur. Dec. 26
DESCRIPTION:The Rosary Hour is back on Thursdays at 10:00 a.m. at the Columbus Hall. \nThe Rosary is followed by a reading and discussion of the next Sunday’s Gospel. \nTo join us for Rosary Hour via Dial-In: 1-848-220-3100 \nUse ID 905300#
URL:https://koc9053.com/event/rosary-hour-4/
LOCATION:Columbus Hall\, 9901 Coastal Highway\, Ocean City\, MD\, 21842\, United States
CATEGORIES:Rosary
ATTACH;FMTTYPE=image/png:https://koc9053.com/wp-content/uploads/2024/10/events-calendar-headers-rosary-hour-1.png
END:VEVENT
BEGIN:VEVENT
DTSTART;TZID=UTC:20241227T170000
DTEND;TZID=UTC:20241227T213000
DTSTAMP:20260424T152415
CREATED:20241124T232941Z
LAST-MODIFIED:20241210T153444Z
UID:4713-1735318800-1735335000@koc9053.com
SUMMARY:Bingo - Team 4
DESCRIPTION:  \n  \nCome enjoy Bingo Friday Nights! \nDoors open at 5 p.m. and Bingo begins at 6:30 p.m. \nLight Refreshments are available before BINGO and during intermission. \n* Each game night we award at least $1000 in prize money. \n* Play every game for $25. \n*Our end of evening Big Jackpot is now worth up to $1\,000.  Prizes lowered if less than 40 attendees. \nBenefits Knights of Columbus Council #9053 Charities.
URL:https://koc9053.com/event/bingo-team-4/
LOCATION:Columbus Hall\, 9901 Coastal Highway\, Ocean City\, MD\, 21842\, United States
CATEGORIES:Bingo
ATTACH;FMTTYPE=image/jpeg:https://koc9053.com/wp-content/uploads/2024/09/Friday-Night-Bingo_Revised-11-May-2023-scaled.jpg
END:VEVENT
BEGIN:VEVENT
DTSTART;TZID=UTC:20241230T100000
DTEND;TZID=UTC:20241230T110000
DTSTAMP:20260424T152415
CREATED:20241125T003004Z
LAST-MODIFIED:20241210T145906Z
UID:4736-1735552800-1735556400@koc9053.com
SUMMARY:Ways and Means VIA Zoom
DESCRIPTION:Ways and Means Meeting 10:00 am via ZOOM
URL:https://koc9053.com/event/ways-and-means-2/
LOCATION:Columbus Hall\, 9901 Coastal Highway\, Ocean City\, MD\, 21842\, United States
CATEGORIES:Ways and Means
END:VEVENT
BEGIN:VEVENT
DTSTART;VALUE=DATE:20250101
DTEND;VALUE=DATE:20250102
DTSTAMP:20260424T152415
CREATED:20241124T171519Z
LAST-MODIFIED:20241210T224158Z
UID:4691-1735689600-1735775999@koc9053.com
SUMMARY:Happy New Year 2025!
DESCRIPTION:Happy and Healthy New Year to All!
URL:https://koc9053.com/event/happy-new-year-2025/
LOCATION:MD
CATEGORIES:Holidays
END:VEVENT
BEGIN:VEVENT
DTSTART;TZID=UTC:20250102T100000
DTEND;TZID=UTC:20250102T110000
DTSTAMP:20260424T152415
CREATED:20241202T211944Z
LAST-MODIFIED:20250116T202950Z
UID:4780-1735812000-1735815600@koc9053.com
SUMMARY:Rosery Hour Fri. Jan. 2
DESCRIPTION:The Rosary Hour is back on Thursdays at 10:00 a.m. at the Columbus Hall. \nThe Rosary is followed by a reading and discussion of the next Sunday’s Gospel. \nTo join us for Rosary Hour via Dial-In: 1-848-220-3100 \nUse ID 905300#
URL:https://koc9053.com/event/rosery-hour/
LOCATION:Columbus Hall\, 9901 Coastal Highway\, Ocean City\, MD\, 21842\, United States
CATEGORIES:Rosary
END:VEVENT
BEGIN:VEVENT
DTSTART;TZID=UTC:20250102T173000
DTEND;TZID=UTC:20250102T210000
DTSTAMP:20260424T152415
CREATED:20241202T205740Z
LAST-MODIFIED:20241202T205918Z
UID:4775-1735839000-1735851600@koc9053.com
SUMMARY:Sons of Italy Meeting 5:30 pm
DESCRIPTION:
URL:https://koc9053.com/event/sons-of-italy-meeting-530-pm/
LOCATION:Columbus Hall\, 9901 Coastal Highway\, Ocean City\, MD\, 21842\, United States
CATEGORIES:Club Meeting
END:VEVENT
BEGIN:VEVENT
DTSTART;TZID=UTC:20250103T170000
DTEND;TZID=UTC:20250103T213000
DTSTAMP:20260424T152415
CREATED:20241124T234011Z
LAST-MODIFIED:20250116T202841Z
UID:4716-1735923600-1735939800@koc9053.com
SUMMARY:Bingo - Team 1 Fri. Jan. 3
DESCRIPTION:  \n  \nCome enjoy Bingo Friday Nights! \nDoors open at 5 p.m. and Bingo begins at 6:30 p.m. \nLight Refreshments are available before BINGO and during intermission. \n* Each game night we award at least $1000 in prize money. \n* Play every game for $25. \n*Our end of evening Big Jackpot is now worth up to $1\,000.  Prizes lowered if less than 40 attendees. \nBenefits Knights of Columbus Council #9053 Charities.
URL:https://koc9053.com/event/bingo-team-4-2/
LOCATION:Columbus Hall\, 9901 Coastal Highway\, Ocean City\, MD\, 21842\, United States
CATEGORIES:Bingo
ATTACH;FMTTYPE=image/jpeg:https://koc9053.com/wp-content/uploads/2024/09/Friday-Night-Bingo_Revised-11-May-2023-scaled.jpg
END:VEVENT
END:VCALENDAR