BEGIN:VCALENDAR
VERSION:2.0
PRODID:-//Knights of Columbus #9053 Ocean City, Maryland - ECPv6.15.20//NONSGML v1.0//EN
CALSCALE:GREGORIAN
METHOD:PUBLISH
X-WR-CALNAME:Knights of Columbus #9053 Ocean City, Maryland
X-ORIGINAL-URL:https://koc9053.com
X-WR-CALDESC:Events for Knights of Columbus #9053 Ocean City, Maryland
REFRESH-INTERVAL;VALUE=DURATION:PT1H
X-Robots-Tag:noindex
X-PUBLISHED-TTL:PT1H
BEGIN:VTIMEZONE
TZID:UTC
BEGIN:STANDARD
TZOFFSETFROM:+0000
TZOFFSETTO:+0000
TZNAME:UTC
DTSTART:20230101T000000
END:STANDARD
END:VTIMEZONE
BEGIN:VEVENT
DTSTART;TZID=UTC:20241112T093000
DTEND;TZID=UTC:20241112T093000
DTSTAMP:20260425T110632
CREATED:20241016T011421Z
LAST-MODIFIED:20241016T011436Z
UID:3875-1731403800-1731403800@koc9053.com
SUMMARY:LAOH
DESCRIPTION:
URL:https://koc9053.com/event/laoh-1112/
LOCATION:Columbus Hall\, 9901 Coastal Highway\, Ocean City\, MD\, 21842\, United States
END:VEVENT
BEGIN:VEVENT
DTSTART;TZID=UTC:20241110T083000
DTEND;TZID=UTC:20241110T110000
DTSTAMP:20260425T110632
CREATED:20241016T011306Z
LAST-MODIFIED:20241031T140146Z
UID:3873-1731227400-1731236400@koc9053.com
SUMMARY:Parish Community Breakfast
DESCRIPTION:
URL:https://koc9053.com/event/parish-community-breakfast/
LOCATION:Columbus Hall\, 9901 Coastal Highway\, Ocean City\, MD\, 21842\, United States
CATEGORIES:Community Breakfasts
ATTACH;FMTTYPE=image/png:https://koc9053.com/wp-content/uploads/2024/10/events-calendar-headers-community-meals-1.png
END:VEVENT
BEGIN:VEVENT
DTSTART;TZID=UTC:20241109T130000
DTEND;TZID=UTC:20241109T180000
DTSTAMP:20260425T110632
CREATED:20241016T012250Z
LAST-MODIFIED:20241031T140851Z
UID:3895-1731157200-1731175200@koc9053.com
SUMMARY:Anniversary Party Rental
DESCRIPTION:
URL:https://koc9053.com/event/anniversary-party-rental-119/
LOCATION:Columbus Hall\, 9901 Coastal Highway\, Ocean City\, MD\, 21842\, United States
CATEGORIES:Rental
ATTACH;FMTTYPE=image/png:https://koc9053.com/wp-content/uploads/2024/10/events-calendar-headers-private-event-1.png
END:VEVENT
BEGIN:VEVENT
DTSTART;TZID=UTC:20241108T183000
DTEND;TZID=UTC:20241108T183000
DTSTAMP:20260425T110632
CREATED:20241016T012814Z
LAST-MODIFIED:20241016T013416Z
UID:3902-1731090600-1731090600@koc9053.com
SUMMARY:BINGO - Team 1
DESCRIPTION:Come enjoy Bingo Friday Nights! \nDoors open at 5 p.m. and Bingo begins at 6:30 p.m. \nLight Refreshments are available before BINGO and during intermission. \n* Each game night we award at least $1000 in prize money. \n* Play every game for $25. \n*Our end of evening Big Jackpot is now worth up to $1\,000.  Prizes lowered if less than 40 attendees. \nBenefits Knights of Columbus Council #9053 Charities.
URL:https://koc9053.com/event/bingo-118t1/
LOCATION:Columbus Hall\, 9901 Coastal Highway\, Ocean City\, MD\, 21842\, United States
CATEGORIES:Bingo
ATTACH;FMTTYPE=image/png:https://koc9053.com/wp-content/uploads/2024/09/Bingo-for-Website-2.png
END:VEVENT
BEGIN:VEVENT
DTSTART;TZID=UTC:20241107T170000
DTEND;TZID=UTC:20241107T210000
DTSTAMP:20260425T110632
CREATED:20241016T012101Z
LAST-MODIFIED:20241124T234537Z
UID:3891-1730998800-1731013200@koc9053.com
SUMMARY:Sons of Italy
DESCRIPTION:
URL:https://koc9053.com/event/sons-of-italy-117/
LOCATION:Columbus Hall\, 9901 Coastal Highway\, Ocean City\, MD\, 21842\, United States
CATEGORIES:Club Meeting
ATTACH;FMTTYPE=image/png:https://koc9053.com/wp-content/uploads/2024/10/events-calendar-headers-club-meetings-1.png
END:VEVENT
BEGIN:VEVENT
DTSTART;TZID=UTC:20241107T100000
DTEND;TZID=UTC:20241107T110000
DTSTAMP:20260425T110632
CREATED:20241016T005338Z
LAST-MODIFIED:20241016T005349Z
UID:3850-1730973600-1730977200@koc9053.com
SUMMARY:Rosary Hour
DESCRIPTION:The Rosary Hour is back on Thursdays at 10:00 a.m. at the Columbus Hall. \nThe Rosary is followed by a reading of the next Sunday’s Gospel and a discussion about this Sunday’s Gospel. \nTo join us for Rosary Hour via Dial-In: 1-848-220-3100 \nUse ID 905300#
URL:https://koc9053.com/event/rosary-hour-117/
LOCATION:Columbus Hall\, 9901 Coastal Highway\, Ocean City\, MD\, 21842\, United States
CATEGORIES:Rosary
ATTACH;FMTTYPE=image/jpeg:https://koc9053.com/wp-content/uploads/2024/09/lennon-caranzo-xv4MlLRt6sw-unsplash-scaled.jpg
END:VEVENT
BEGIN:VEVENT
DTSTART;TZID=UTC:20241106T183000
DTEND;TZID=UTC:20241106T183000
DTSTAMP:20260425T110632
CREATED:20241016T011849Z
LAST-MODIFIED:20241031T135319Z
UID:3885-1730917800-1730917800@koc9053.com
SUMMARY:Council #9053 Meeting
DESCRIPTION:
URL:https://koc9053.com/event/council-9053-meeting-1113/
LOCATION:Columbus Hall\, 9901 Coastal Highway\, Ocean City\, MD\, 21842\, United States
CATEGORIES:Club Meeting
ATTACH;FMTTYPE=image/png:https://koc9053.com/wp-content/uploads/2024/10/events-calendar-headers-councilassembly-meeting-1.png
END:VEVENT
BEGIN:VEVENT
DTSTART;TZID=UTC:20241106T173000
DTEND;TZID=UTC:20241106T173000
DTSTAMP:20260425T110632
CREATED:20241016T011749Z
LAST-MODIFIED:20241031T135312Z
UID:3883-1730914200-1730914200@koc9053.com
SUMMARY:Officers Meeting
DESCRIPTION:
URL:https://koc9053.com/event/officers-meeting-116/
LOCATION:Columbus Hall\, 9901 Coastal Highway\, Ocean City\, MD\, 21842\, United States
CATEGORIES:Club Meeting
ATTACH;FMTTYPE=image/png:https://koc9053.com/wp-content/uploads/2024/10/events-calendar-headers-club-meetings-1.png
END:VEVENT
BEGIN:VEVENT
DTSTART;TZID=UTC:20241031T100000
DTEND;TZID=UTC:20241031T110000
DTSTAMP:20260425T110632
CREATED:20241015T000009Z
LAST-MODIFIED:20241016T005245Z
UID:3849-1730368800-1730372400@koc9053.com
SUMMARY:Rosary Hour
DESCRIPTION:The Rosary Hour is back on Thursdays at 10:00 a.m. at the Columbus Hall. \nThe Rosary is followed by a reading of the next Sunday’s Gospel and a discussion about this Sunday’s Gospel. \nTo join us for Rosary Hour via Dial-In: 1-848-220-3100 \nUse ID 905300#
URL:https://koc9053.com/event/rosary-hour-1031/
LOCATION:Columbus Hall\, 9901 Coastal Highway\, Ocean City\, MD\, 21842\, United States
CATEGORIES:Rosary
ATTACH;FMTTYPE=image/jpeg:https://koc9053.com/wp-content/uploads/2024/09/lennon-caranzo-xv4MlLRt6sw-unsplash-scaled.jpg
END:VEVENT
END:VCALENDAR