BEGIN:VCALENDAR
VERSION:2.0
PRODID:-//Knights of Columbus #9053 Ocean City, Maryland - ECPv6.15.20//NONSGML v1.0//EN
CALSCALE:GREGORIAN
METHOD:PUBLISH
X-WR-CALNAME:Knights of Columbus #9053 Ocean City, Maryland
X-ORIGINAL-URL:https://koc9053.com
X-WR-CALDESC:Events for Knights of Columbus #9053 Ocean City, Maryland
REFRESH-INTERVAL;VALUE=DURATION:PT1H
X-Robots-Tag:noindex
X-PUBLISHED-TTL:PT1H
BEGIN:VTIMEZONE
TZID:UTC
BEGIN:STANDARD
TZOFFSETFROM:+0000
TZOFFSETTO:+0000
TZNAME:UTC
DTSTART:20240101T000000
END:STANDARD
END:VTIMEZONE
BEGIN:VEVENT
DTSTART;TZID=UTC:20250422T093000
DTEND;TZID=UTC:20250422T113000
DTSTAMP:20260424T133619
CREATED:20250326T185607Z
LAST-MODIFIED:20250326T185607Z
UID:5725-1745314200-1745321400@koc9053.com
SUMMARY:LAOH Ladies Ancient Order of Hibernians Meeting -Tue. Apr. 22
DESCRIPTION:LAOH Ladies Ancient Order of Hibernians Meeting 9:30 am
URL:https://koc9053.com/event/laoh-ladies-ancient-order-of-hibernians-meeting-tue-apr-22/
LOCATION:Columbus Hall\, 9901 Coastal Highway\, Ocean City\, MD\, 21842\, United States
CATEGORIES:Club Meeting
END:VEVENT
BEGIN:VEVENT
DTSTART;TZID=UTC:20250424T100000
DTEND;TZID=UTC:20250424T110000
DTSTAMP:20260424T133619
CREATED:20250326T190521Z
LAST-MODIFIED:20250326T190521Z
UID:5727-1745488800-1745492400@koc9053.com
SUMMARY:Rosary Hour - Thur. Apr. 24
DESCRIPTION:The Rosary Hour is back on Thursdays at 10:00 a.m. at the Columbus Hall. \nThe Rosary is followed by a reading and discussion of the next Sunday’s Gospel. \nTo join us for Rosary Hour via Dial-In: 1-848-220-3100 \nUse ID 905300#
URL:https://koc9053.com/event/rosary-hour-thur-apr-24/
LOCATION:Columbus Hall\, 9901 Coastal Highway\, Ocean City\, MD\, 21842\, United States
CATEGORIES:Rosary
END:VEVENT
BEGIN:VEVENT
DTSTART;TZID=UTC:20250425T170000
DTEND;TZID=UTC:20250425T213000
DTSTAMP:20260424T133619
CREATED:20250407T195900Z
LAST-MODIFIED:20250429T212801Z
UID:5907-1745600400-1745616600@koc9053.com
SUMMARY:Bingo Team 4 - Fri. Apr. 25
DESCRIPTION:  \nCome enjoy Bingo Friday Nights! \nDoors open at 5 p.m. and Bingo begins at 6:30 p.m. \nLight Refreshments are available before BINGO and during intermission. \n* Each game night we award at least $1000 in prize money. \n* Play every game for $25. \n*Our end of evening Big Jackpot is now worth up to $1\,000.  Prizes lowered if less than 40 attendees. \nBenefits Knights of Columbus Council #9053 Charities.
URL:https://koc9053.com/event/bingo-team-3-fri-apr-25-2/
LOCATION:Columbus Hall\, 9901 Coastal Highway\, Ocean City\, MD\, 21842\, United States
CATEGORIES:Bingo
END:VEVENT
BEGIN:VEVENT
DTSTART;TZID=UTC:20250429T100000
DTEND;TZID=UTC:20250429T110000
DTSTAMP:20260424T133619
CREATED:20250326T191234Z
LAST-MODIFIED:20250326T191234Z
UID:5731-1745920800-1745924400@koc9053.com
SUMMARY:Ways and Means Meeting VIA ZOOM - Tue. Apr. 29
DESCRIPTION:Ways and Means Meeting VIA ZOOM – Tue. Apr. 29
URL:https://koc9053.com/event/ways-and-means-meeting-via-zoom-tue-apr-29/
LOCATION:ZOOM
CATEGORIES:Ways and Means
END:VEVENT
BEGIN:VEVENT
DTSTART;TZID=UTC:20250429T170000
DTEND;TZID=UTC:20250429T213000
DTSTAMP:20260424T133619
CREATED:20250429T174803Z
LAST-MODIFIED:20250429T174803Z
UID:6139-1745946000-1745962200@koc9053.com
SUMMARY:Bingo Team 4 - Fri. May 23
DESCRIPTION:  \nCome enjoy Bingo Friday Nights! \nDoors open at 5 p.m. and Bingo begins at 6:30 p.m. \nLight Refreshments are available before BINGO and during intermission. \n* Each game night we award at least $1000 in prize money. \n* Play every game for $25. \n*Our end of evening Big Jackpot is now worth up to $1\,000.  Prizes lowered if less than 40 attendees. \nBenefits Knights of Columbus Council #9053 Charities.
URL:https://koc9053.com/event/bingo-team-4-fri-may-23/
LOCATION:Columbus Hall\, 9901 Coastal Highway\, Ocean City\, MD\, 21842\, United States
CATEGORIES:Bingo
END:VEVENT
BEGIN:VEVENT
DTSTART;TZID=UTC:20250429T170000
DTEND;TZID=UTC:20250429T213000
DTSTAMP:20260424T133619
CREATED:20250429T175022Z
LAST-MODIFIED:20250429T175022Z
UID:6141-1745946000-1745962200@koc9053.com
SUMMARY:Bingo Team 3 - Fri. May 30
DESCRIPTION:  \nCome enjoy Bingo Friday Nights! \nDoors open at 5 p.m. and Bingo begins at 6:30 p.m. \nLight Refreshments are available before BINGO and during intermission. \n* Each game night we award at least $1000 in prize money. \n* Play every game for $25. \n*Our end of evening Big Jackpot is now worth up to $1\,000.  Prizes lowered if less than 40 attendees. \nBenefits Knights of Columbus Council #9053 Charities.
URL:https://koc9053.com/event/bingo-team-3-fri-may-30/
LOCATION:Columbus Hall\, 9901 Coastal Highway\, Ocean City\, MD\, 21842\, United States
CATEGORIES:Bingo
END:VEVENT
BEGIN:VEVENT
DTSTART;TZID=UTC:20250430T103000
DTEND;TZID=UTC:20250430T160000
DTSTAMP:20260424T133619
CREATED:20250326T193058Z
LAST-MODIFIED:20250326T193626Z
UID:5733-1746009000-1746028800@koc9053.com
SUMMARY:O. C. Lady Knights Luncheon Bingo for St. Joseph House Wed. Apr. 30
DESCRIPTION:
URL:https://koc9053.com/event/o-c-lady-knights-luncheon-bingo-for-st-joseph-house-we-apr-30/
LOCATION:Columbus Hall\, 9901 Coastal Highway\, Ocean City\, MD\, 21842\, United States
CATEGORIES:Special Bingo
END:VEVENT
BEGIN:VEVENT
DTSTART;TZID=UTC:20250501T100000
DTEND;TZID=UTC:20250501T110000
DTSTAMP:20260424T133619
CREATED:20250407T195142Z
LAST-MODIFIED:20250407T195142Z
UID:5905-1746093600-1746097200@koc9053.com
SUMMARY:Rosary Hour - Thur. May 1
DESCRIPTION:The Rosary Hour is on Thursdays at 10:00 a.m. at the Columbus Hall. \nThe Rosary is followed by a reading and discussion of the next Sunday’s Gospel. \nTo join us for Rosary Hour via Dial-In: 1-848-220-3100 \nUse ID 905300#
URL:https://koc9053.com/event/rosary-hour-thur-may-1-2/
LOCATION:Columbus Hall\, 9901 Coastal Highway\, Ocean City\, MD\, 21842\, United States
CATEGORIES:Rosary
END:VEVENT
BEGIN:VEVENT
DTSTART;TZID=UTC:20250501T173000
DTEND;TZID=UTC:20250501T210000
DTSTAMP:20260424T133619
CREATED:20250405T195629Z
LAST-MODIFIED:20250405T195629Z
UID:5886-1746120600-1746133200@koc9053.com
SUMMARY:Sons of Italy Meeting 5:30 pm - Thur. May 1
DESCRIPTION:Sons of Italy monthly officers meeting starts at 5:30 pm.\, business meeting starts at 7:00 pm.
URL:https://koc9053.com/event/sons-of-italy-meeting-530-pm-thur-may-1/
LOCATION:Columbus Hall\, 9901 Coastal Highway\, Ocean City\, MD\, 21842\, United States
CATEGORIES:Club Meeting
END:VEVENT
BEGIN:VEVENT
DTSTART;VALUE=DATE:20250502
DTEND;VALUE=DATE:20250503
DTSTAMP:20260424T133619
CREATED:20250503T175903Z
LAST-MODIFIED:20250503T175903Z
UID:6189-1746144000-1746230399@koc9053.com
SUMMARY:Maryland State Convention Fri. May 2\, Annapolis/ Day 1
DESCRIPTION:Maryland State Convention Fri. May 2\, Annapolis/ Day 1
URL:https://koc9053.com/event/maryland-state-convention-fri-may-2-annapolis-day-1/
CATEGORIES:State Functions
END:VEVENT
BEGIN:VEVENT
DTSTART;TZID=UTC:20250502T170000
DTEND;TZID=UTC:20250502T213000
DTSTAMP:20260424T133619
CREATED:20250407T200038Z
LAST-MODIFIED:20250429T212709Z
UID:5910-1746205200-1746221400@koc9053.com
SUMMARY:Bingo Team 1 - Fri. May 2
DESCRIPTION:  \nCome enjoy Bingo Friday Nights! \nDoors open at 5 p.m. and Bingo begins at 6:30 p.m. \nLight Refreshments are available before BINGO and during intermission. \n* Each game night we award at least $1000 in prize money. \n* Play every game for $25. \n*Our end of evening Big Jackpot is now worth up to $1\,000.  Prizes lowered if less than 40 attendees. \nBenefits Knights of Columbus Council #9053 Charities.
URL:https://koc9053.com/event/5910/
LOCATION:Columbus Hall\, 9901 Coastal Highway\, Ocean City\, MD\, 21842\, United States
CATEGORIES:Bingo
END:VEVENT
BEGIN:VEVENT
DTSTART;VALUE=DATE:20250503
DTEND;VALUE=DATE:20250504
DTSTAMP:20260424T133619
CREATED:20250503T180113Z
LAST-MODIFIED:20250503T180702Z
UID:6192-1746230400-1746316799@koc9053.com
SUMMARY:Maryland State Convention Sat. May 3\, Annapolis/ Day 2
DESCRIPTION:Maryland State Convention Sat. May 3\, Annapolis/ Day 2
URL:https://koc9053.com/event/maryland-state-convention-fri-may-3-annapolis-day-2/
CATEGORIES:State Functions
END:VEVENT
BEGIN:VEVENT
DTSTART;VALUE=DATE:20250504
DTEND;VALUE=DATE:20250505
DTSTAMP:20260424T133619
CREATED:20250503T180309Z
LAST-MODIFIED:20250503T180546Z
UID:6194-1746316800-1746403199@koc9053.com
SUMMARY:Maryland State Convention Sun. May 4\, Annapolis/ Day 3
DESCRIPTION:Maryland State Convention Sun. May 4\, Annapolis/ Day 3
URL:https://koc9053.com/event/maryland-state-convention-fri-may-4-annapolis-day-3/
CATEGORIES:State Functions
END:VEVENT
BEGIN:VEVENT
DTSTART;VALUE=DATE:20250506
DTEND;VALUE=DATE:20250507
DTSTAMP:20260424T133619
CREATED:20250506T175433Z
LAST-MODIFIED:20250506T175433Z
UID:6246-1746489600-1746575999@koc9053.com
SUMMARY:Flag Day June 14th 2025
DESCRIPTION:Flag Day June 14th 2025
URL:https://koc9053.com/event/flag-day-june-14th-2025/
CATEGORIES:Holidays
END:VEVENT
BEGIN:VEVENT
DTSTART;VALUE=DATE:20250506
DTEND;VALUE=DATE:20250507
DTSTAMP:20260424T133619
CREATED:20250506T175746Z
LAST-MODIFIED:20250506T175944Z
UID:6248-1746489600-1746575999@koc9053.com
SUMMARY:Father's Day Sunday June 15th
DESCRIPTION:Father’s Day Sunday June 15th
URL:https://koc9053.com/event/fathers-day-sunday-june-15th/
CATEGORIES:Holidays
END:VEVENT
BEGIN:VEVENT
DTSTART;TZID=UTC:20250507T173000
DTEND;TZID=UTC:20250507T210000
DTSTAMP:20260424T133619
CREATED:20250407T200913Z
LAST-MODIFIED:20250503T180947Z
UID:5914-1746639000-1746651600@koc9053.com
SUMMARY:Council #9053 Meeting - Wed. May 7/Second Reading of Slate
DESCRIPTION:Officers meet at 5:30 pm.\, business meeting at 6:30 pm. Second reading of the 2025 – 2026 Slate.
URL:https://koc9053.com/event/council-9053-meeting-wed-may-7/
LOCATION:Columbus Hall\, 9901 Coastal Highway\, Ocean City\, MD\, 21842\, United States
CATEGORIES:Council Meeting
END:VEVENT
BEGIN:VEVENT
DTSTART;TZID=UTC:20250508T100000
DTEND;TZID=UTC:20250508T110000
DTSTAMP:20260424T133619
CREATED:20250407T201417Z
LAST-MODIFIED:20250407T201417Z
UID:5916-1746698400-1746702000@koc9053.com
SUMMARY:Rosary Hour - Thur. May 8
DESCRIPTION:The Rosary Hour is on Thursdays at 10:00 a.m. at the Columbus Hall. \nThe Rosary is followed by a reading and discussion of the next Sunday’s Gospel. \nTo join us for Rosary Hour via Dial-In: 1-848-220-3100 \nUse ID 905300#
URL:https://koc9053.com/event/rosary-hour-thur-may-8/
LOCATION:Columbus Hall\, 9901 Coastal Highway\, Ocean City\, MD\, 21842\, United States
CATEGORIES:Rosary
END:VEVENT
BEGIN:VEVENT
DTSTART;TZID=UTC:20250509T170000
DTEND;TZID=UTC:20250509T213000
DTSTAMP:20260424T133619
CREATED:20250407T201827Z
LAST-MODIFIED:20250429T212634Z
UID:5918-1746810000-1746826200@koc9053.com
SUMMARY:Bingo Team 2 - Fri. May 9
DESCRIPTION:  \nCome enjoy Bingo Friday Nights! \nDoors open at 5 p.m. and Bingo begins at 6:30 p.m. \nLight Refreshments are available before BINGO and during intermission. \n* Each game night we award at least $1000 in prize money. \n* Play every game for $25. \n*Our end of evening Big Jackpot is now worth up to $1\,000.  Prizes lowered if less than 40 attendees. \nBenefits Knights of Columbus Council #9053 Charities.
URL:https://koc9053.com/event/bingo-team-2-fri-may-8/
LOCATION:Columbus Hall\, 9901 Coastal Highway\, Ocean City\, MD\, 21842\, United States
CATEGORIES:Bingo
END:VEVENT
BEGIN:VEVENT
DTSTART;VALUE=DATE:20250511
DTEND;VALUE=DATE:20250512
DTSTAMP:20260424T133619
CREATED:20250407T202223Z
LAST-MODIFIED:20250407T202223Z
UID:5920-1746921600-1747007999@koc9053.com
SUMMARY:Mother's Day
DESCRIPTION:Mother’s Day
URL:https://koc9053.com/event/mothers-day/
CATEGORIES:Holidays
END:VEVENT
BEGIN:VEVENT
DTSTART;TZID=UTC:20250513T103000
DTEND;TZID=UTC:20250513T113000
DTSTAMP:20260424T133619
CREATED:20250407T203328Z
LAST-MODIFIED:20250407T203328Z
UID:5922-1747132200-1747135800@koc9053.com
SUMMARY:Charity Committee Meeting Tue. May 13
DESCRIPTION:Charity Committee Meeting at 10:30 am in the Columbus Hall.
URL:https://koc9053.com/event/charity-committee-meeting-tue-may-13/
LOCATION:Columbus Hall\, 9901 Coastal Highway\, Ocean City\, MD\, 21842\, United States
CATEGORIES:Committee Meeting
END:VEVENT
BEGIN:VEVENT
DTSTART;TZID=UTC:20250513T163000
DTEND;TZID=UTC:20250513T180000
DTSTAMP:20260424T133619
CREATED:20250413T200551Z
LAST-MODIFIED:20250413T200551Z
UID:6078-1747153800-1747159200@koc9053.com
SUMMARY:Parish Community Supper\, Sliced Tender Loin or Fried Seafood Options Tuesday\, 13 May
DESCRIPTION:Postponed from 22 April – Same Menu \nPlease see note on Flyer about Reservations
URL:https://koc9053.com/event/parish-community-supper-sliced-tender-loin-or-fried-seafood-options-tuesday-13-may/
LOCATION:Columbus Hall\, 9901 Coastal Highway\, Ocean City\, MD\, 21842\, United States
CATEGORIES:Community Dinners
END:VEVENT
BEGIN:VEVENT
DTSTART;TZID=UTC:20250514T100000
DTEND;TZID=UTC:20250514T120000
DTSTAMP:20260424T133619
CREATED:20250407T204112Z
LAST-MODIFIED:20250407T204112Z
UID:5924-1747216800-1747224000@koc9053.com
SUMMARY:Columbus Club Board of Directors Meeting -Wed. May 14
DESCRIPTION:Monthly Columbus Club Board of Directors Meeting will be held on Wed. 14 May 2025 beginning at 10:00 am in the Columbus Hall
URL:https://koc9053.com/event/columbus-club-board-of-directors-meeting-wed-may-14/
LOCATION:Columbus Hall\, 9901 Coastal Highway\, Ocean City\, MD\, 21842\, United States
CATEGORIES:Columbus Club
END:VEVENT
BEGIN:VEVENT
DTSTART;TZID=UTC:20250514T140000
DTEND;TZID=UTC:20250514T160000
DTSTAMP:20260424T133619
CREATED:20250407T204354Z
LAST-MODIFIED:20250407T204354Z
UID:5926-1747231200-1747238400@koc9053.com
SUMMARY:Polish American Club Meeting - Wed. May 14
DESCRIPTION:Polish American Club Meeting\, 2:00 pm @ the Columbus Hall.
URL:https://koc9053.com/event/polish-american-club-meeting-wed-may-14/
LOCATION:Columbus Hall\, 9901 Coastal Highway\, Ocean City\, MD\, 21842\, United States
CATEGORIES:Club Meeting
END:VEVENT
BEGIN:VEVENT
DTSTART;TZID=UTC:20250515T100000
DTEND;TZID=UTC:20250515T110000
DTSTAMP:20260424T133619
CREATED:20250407T204703Z
LAST-MODIFIED:20250515T185441Z
UID:5928-1747303200-1747306800@koc9053.com
SUMMARY:Rosary Hour - Thur. May 15
DESCRIPTION:The Rosary Hour is on Thursdays at 10:00 a.m. at the Columbus Hall. \nThe Rosary is followed by a reading and discussion of the next Sunday’s Gospel. \nTo join us for Rosary Hour via Dial-In: 1-848-220-3100 \nUse ID 905300#
URL:https://koc9053.com/event/rosary-hour-thur-may-15/
LOCATION:Columbus Hall\, 9901 Caostal Hwy.\, Ocean City\, MD\, 21842-2604\, United States
CATEGORIES:Rosary
END:VEVENT
BEGIN:VEVENT
DTSTART;TZID=UTC:20250515T183000
DTEND;TZID=UTC:20250515T210000
DTSTAMP:20260424T133619
CREATED:20250407T205228Z
LAST-MODIFIED:20250503T181630Z
UID:5930-1747333800-1747342800@koc9053.com
SUMMARY:Assembly Meeting Thu. May 15/Elections
DESCRIPTION:Monthly Assembly Meeting will be Thu. 15 May\, 2025 beginning at 6:30 p.m. in Columbus Hall. Third Reading of the 2025 – 2026 Slate of Officers and Election.
URL:https://koc9053.com/event/assembly-meeting-thu-may-15/
LOCATION:Columbus Hall\, 9901 Coastal Highway\, Ocean City\, MD\, 21842\, United States
CATEGORIES:Assembly Meeting
END:VEVENT
BEGIN:VEVENT
DTSTART;TZID=UTC:20250516T170000
DTEND;TZID=UTC:20250516T213000
DTSTAMP:20260424T133619
CREATED:20250407T210017Z
LAST-MODIFIED:20250429T212558Z
UID:5933-1747414800-1747431000@koc9053.com
SUMMARY:Bingo Team 3 - Fri. May 16
DESCRIPTION:  \nCome enjoy Bingo Friday Nights! \nDoors open at 5 p.m. and Bingo begins at 6:30 p.m. \nLight Refreshments are available before BINGO and during intermission. \n* Each game night we award at least $1000 in prize money. \n* Play every game for $25. \n*Our end of evening Big Jackpot is now worth up to $1\,000.  Prizes lowered if less than 40 attendees. \nBenefits Knights of Columbus Council #9053 Charities.
URL:https://koc9053.com/event/bingo-team-3-fri-may-16/
LOCATION:Columbus Hall\, 9901 Coastal Highway\, Ocean City\, MD\, 21842\, United States
CATEGORIES:Bingo
END:VEVENT
BEGIN:VEVENT
DTSTART;VALUE=DATE:20250517
DTEND;VALUE=DATE:20250518
DTSTAMP:20260424T133619
CREATED:20250503T182353Z
LAST-MODIFIED:20250503T182410Z
UID:6200-1747440000-1747526399@koc9053.com
SUMMARY:Council 9053 Membership Drive\, Sat. 17 @St. John Neumann & Holy Savior
DESCRIPTION:Council 9053 Membership Drive\, Sat. 17 @St. John Neumann & Holy Savior
URL:https://koc9053.com/event/council-9053-membership-drive-sat-17-st-john-neumann-holy-savior/
CATEGORIES:Membership Drive
END:VEVENT
BEGIN:VEVENT
DTSTART;VALUE=DATE:20250518
DTEND;VALUE=DATE:20250519
DTSTAMP:20260424T133619
CREATED:20250503T182711Z
LAST-MODIFIED:20250503T182711Z
UID:6204-1747526400-1747612799@koc9053.com
SUMMARY:Council 9053 Membership Drive\, Sun. 18 @St. John Neumann & Holy Savior
DESCRIPTION:Council 9053 Membership Drive\, Sun. 18 @St. John Neumann & Holy Savior
URL:https://koc9053.com/event/council-9053-membership-drive-sun-18-st-john-neumann-holy-savior/
CATEGORIES:Membership Drive
END:VEVENT
BEGIN:VEVENT
DTSTART;TZID=UTC:20250518T130000
DTEND;TZID=UTC:20250518T143000
DTSTAMP:20260424T133619
CREATED:20250325T193244Z
LAST-MODIFIED:20250407T210127Z
UID:5705-1747573200-1747578600@koc9053.com
SUMMARY:Lady Knights Auxiliary Open House Sun. May 18
DESCRIPTION:
URL:https://koc9053.com/event/lady-knights-auxiliary-open-house-sun-may-18/
LOCATION:Columbus Hall\, 9901 Coastal Highway\, Ocean City\, MD\, 21842\, United States
CATEGORIES:Lady Knights
END:VEVENT
BEGIN:VEVENT
DTSTART;TZID=UTC:20250519T110000
DTEND;TZID=UTC:20250519T120000
DTSTAMP:20260424T133619
CREATED:20250407T210900Z
LAST-MODIFIED:20250407T211132Z
UID:5936-1747652400-1747656000@koc9053.com
SUMMARY:Lady Knights Auxiliary Meeting - Mon. May 19 Special Time 11:00 am
DESCRIPTION:Lady Knights Auxiliary Meeting\, Officers at 12:30 pm.\, Business meeting at 1:00 pm. at the Columbus Hall. \nSpecial Time – 11:00 am. May Crowning of the Blessed Mary to follow.
URL:https://koc9053.com/event/lady-knights-auxiliary-meeting-mon-may-19-special-time-1100-am/
LOCATION:Columbus Hall\, 9901 Coastal Highway\, Ocean City\, MD\, 21842\, United States
CATEGORIES:Lady Knights
END:VEVENT
END:VCALENDAR