BEGIN:VCALENDAR
VERSION:2.0
PRODID:-//Knights of Columbus #9053 Ocean City, Maryland - ECPv6.15.20//NONSGML v1.0//EN
CALSCALE:GREGORIAN
METHOD:PUBLISH
X-WR-CALNAME:Knights of Columbus #9053 Ocean City, Maryland
X-ORIGINAL-URL:https://koc9053.com
X-WR-CALDESC:Events for Knights of Columbus #9053 Ocean City, Maryland
REFRESH-INTERVAL;VALUE=DURATION:PT1H
X-Robots-Tag:noindex
X-PUBLISHED-TTL:PT1H
BEGIN:VTIMEZONE
TZID:UTC
BEGIN:STANDARD
TZOFFSETFROM:+0000
TZOFFSETTO:+0000
TZNAME:UTC
DTSTART:20240101T000000
END:STANDARD
END:VTIMEZONE
BEGIN:VEVENT
DTSTART;TZID=UTC:20250304T173000
DTEND;TZID=UTC:20250304T190000
DTSTAMP:20260424T064216
CREATED:20250206T141452Z
LAST-MODIFIED:20250207T015627Z
UID:5381-1741109400-1741114800@koc9053.com
SUMMARY:Shrove Tuesday Parish Dinner
DESCRIPTION:Adults – $15   Children under 8 years old – $5
URL:https://koc9053.com/event/shrove-tuesday-parish-dinner/
LOCATION:Columbus Hall\, 9901 Coastal Highway\, Ocean City\, MD\, 21842\, United States
CATEGORIES:Community Dinners
END:VEVENT
BEGIN:VEVENT
DTSTART;VALUE=DATE:20250305
DTEND;VALUE=DATE:20250306
DTSTAMP:20260424T064216
CREATED:20250206T032137Z
LAST-MODIFIED:20250302T213724Z
UID:5364-1741132800-1741219199@koc9053.com
SUMMARY:Ash Wednesday
DESCRIPTION:Ash Wednesday
URL:https://koc9053.com/event/ash-wednesday/
LOCATION:MD
CATEGORIES:Holy Day
END:VEVENT
BEGIN:VEVENT
DTSTART;TZID=UTC:20250305T183000
DTEND;TZID=UTC:20250305T210000
DTSTAMP:20260424T064216
CREATED:20250206T035428Z
LAST-MODIFIED:20250207T015048Z
UID:5372-1741199400-1741208400@koc9053.com
SUMMARY:Council #9053 Meeting - Wed. Mar. 5
DESCRIPTION:Officers meet at 5:30 pm.\, business meeting at 6:30 pm
URL:https://koc9053.com/event/council-9053-meeting-wed-mar-5/
LOCATION:Columbus Hall\, 9901 Coastal Highway\, Ocean City\, MD\, 21842\, United States
CATEGORIES:Council Meeting
END:VEVENT
BEGIN:VEVENT
DTSTART;TZID=UTC:20250306T100000
DTEND;TZID=UTC:20250306T110000
DTSTAMP:20260424T064216
CREATED:20250207T014836Z
LAST-MODIFIED:20250302T210952Z
UID:4894-1741255200-1741258800@koc9053.com
SUMMARY:The Rosary Hour\, Thur. Mar. 6
DESCRIPTION:The Rosary Hour is on Thursdays at 10:00 a.m. at the Columbus Hall. The Rosary is followed by a reading and discussion of the next Sunday’s Gospel. To join us for Rosary Hour via Dial-In: 1-848-220-3100 Use ID 905300#
URL:https://koc9053.com/event/the-rosary-hour/
LOCATION:Columbus Hall\, 9901 Coastal Highway\, Ocean City\, MD\, 21842\, United States
CATEGORIES:Rosary
END:VEVENT
BEGIN:VEVENT
DTSTART;TZID=UTC:20250306T173000
DTEND;TZID=UTC:20250306T210000
DTSTAMP:20260424T064216
CREATED:20250302T210803Z
LAST-MODIFIED:20250302T211057Z
UID:5362-1741282200-1741294800@koc9053.com
SUMMARY:Sons of Italy Meeting 5:30 pm - Thur. Mar. 6
DESCRIPTION:Sons of Italy monthly officers meeting starts at 5:30 pm.\, business meeting starts at 7:00 pm.
URL:https://koc9053.com/event/sons-of-italy-meeting-530-pm-2-2/
LOCATION:Columbus Hall\, 9901 Coastal Highway\, Ocean City\, MD\, 21842\, United States
CATEGORIES:Club Meeting
END:VEVENT
BEGIN:VEVENT
DTSTART;TZID=UTC:20250307T170000
DTEND;TZID=UTC:20250307T213000
DTSTAMP:20260424T064216
CREATED:20250207T020110Z
LAST-MODIFIED:20250302T203541Z
UID:5066-1741366800-1741383000@koc9053.com
SUMMARY:Bingo Team 2\, Fri. Mar. 7
DESCRIPTION:  \nCome enjoy Bingo Friday Nights! \nDoors open at 5 p.m. and Bingo begins at 6:30 p.m. \nLight Refreshments are available before BINGO and during intermission. \n* Each game night we award at least $1000 in prize money. \n* Play every game for $25. \n*Our end of evening Big Jackpot is now worth up to $1\,000.  Prizes lowered if less than 40 attendees. \nBenefits Knights of Columbus Council #9053 Charities.
URL:https://koc9053.com/event/bingo-team-2-2/
LOCATION:Columbus Hall\, 9901 Coastal Highway\, Ocean City\, MD\, 21842\, United States
CATEGORIES:Bingo
END:VEVENT
BEGIN:VEVENT
DTSTART;VALUE=DATE:20250309
DTEND;VALUE=DATE:20250310
DTSTAMP:20260424T064216
CREATED:20250302T202036Z
LAST-MODIFIED:20250302T202036Z
UID:5524-1741478400-1741564799@koc9053.com
SUMMARY:1st Sunday of Lent
DESCRIPTION:1st Sunday of Lent
URL:https://koc9053.com/event/1st-sunday-of-lent/
LOCATION:MD
CATEGORIES:Holy Day
END:VEVENT
BEGIN:VEVENT
DTSTART;TZID=UTC:20250311T103000
DTEND;TZID=UTC:20250311T110000
DTSTAMP:20260424T064216
CREATED:20250302T202555Z
LAST-MODIFIED:20250302T202555Z
UID:5526-1741689000-1741690800@koc9053.com
SUMMARY:Charity Committee Meeting
DESCRIPTION:Charity Committee Meeting at 10:30 am in the Columbus Hall.
URL:https://koc9053.com/event/charity-committee-meeting-2/
LOCATION:MD
CATEGORIES:Committee Meeting
END:VEVENT
BEGIN:VEVENT
DTSTART;TZID=UTC:20250312T080000
DTEND;TZID=UTC:20250312T170000
DTSTAMP:20260424T064216
CREATED:20250312T002628Z
LAST-MODIFIED:20250312T002628Z
UID:5597-1741766400-1741798800@koc9053.com
SUMMARY:Food Drive at St. Luke's\, Sat. Mar. 29
DESCRIPTION:The Knights of Columbus Council #9053\nand Assembly #2454 need your help to\nreplenish The Joseph House and St.\nVincent de Paul food pantries\, which\nserve the needy in our area.\nThese pantries are in urgent need\nof non-perishable canned and boxed\nfood items (no glass containers\, please). \nSuggested Food Donations:\n✔️ Canned Fruits & Juices (including boxed juices)\n✔️ Pre-packaged meals (boxed or canned\, e.g.\,\nDinty Moore Stew)\n✔️ Canned Meats & Fish (chicken\, Spam\, tuna\, salmon)\n✔️ Baked Beans & Pork and Beans\n✔️ Canned Soups (condensed or chunky)\n✔️ Canned Gravies & Broths\n✔️ Canned Vegetables (green beans\, corn\, potatoes\, yams)\n✔️ Pasta & Pasta Sauces (canned spaghetti\, ravioli)\n✔️ Boxed Mac & Cheese\, Instant Potatoes\, Rice\n✔️ Mayonnaise\, Ketchup\, Mustard\, Salt & Pepper\n✔️ Oatmeal\, Tea\, Coffee\, Sugar\n✔️ Boxed or Bagged Cereals\n✔️ Peanut Butter\, Jelly\, Marmalade
URL:https://koc9053.com/event/food-drive-at-st-lukes-sat-mar-29/
LOCATION:MD
END:VEVENT
BEGIN:VEVENT
DTSTART;TZID=UTC:20250312T100000
DTEND;TZID=UTC:20250312T120000
DTSTAMP:20260424T064216
CREATED:20250207T022039Z
LAST-MODIFIED:20250324T221516Z
UID:5402-1741773600-1741780800@koc9053.com
SUMMARY:Columbus Club Board of Directors Meeting -Wed. Mar. 12
DESCRIPTION:March Monthly Assembly Meeting will be Wed. 12 March 2025 beginning at 6:30 p.m. in Columbus Hall
URL:https://koc9053.com/event/columbus-club-board-of-directors-meeting-wed-mar-12-2/
LOCATION:Columbus Hall\, 9901 Coastal Highway\, Ocean City\, MD\, 21842\, United States
CATEGORIES:Columbus Club
END:VEVENT
BEGIN:VEVENT
DTSTART;TZID=UTC:20250312T140000
DTEND;TZID=UTC:20250312T160000
DTSTAMP:20260424T064216
CREATED:20250302T203145Z
LAST-MODIFIED:20250302T203145Z
UID:5528-1741788000-1741795200@koc9053.com
SUMMARY:Polish American Club Meeting - Wed. Mar. 12
DESCRIPTION:Polish American Club Meeting\, 2:00 pm @ the Columbus Hall.
URL:https://koc9053.com/event/polish-american-club-meeting-wed-mar-12/
LOCATION:Columbus Hall\, 9901 Coastal Highway\, Ocean City\, MD\, 21842\, United States
CATEGORIES:Club Meeting
END:VEVENT
BEGIN:VEVENT
DTSTART;TZID=UTC:20250313T100000
DTEND;TZID=UTC:20250313T110000
DTSTAMP:20260424T064216
CREATED:20250207T020637Z
LAST-MODIFIED:20250302T210043Z
UID:5135-1741860000-1741863600@koc9053.com
SUMMARY:Rosary Hour\, Thur. Mar. 13
DESCRIPTION:The Rosary Hour is on Thursdays at 10:00 a.m. at the Columbus Hall. The Rosary is followed by a reading and discussion of the next Sunday’s Gospel. To join us for Rosary Hour via Dial-In: 1-848-220-3100 Use ID 905300#
URL:https://koc9053.com/event/rosary-hour-13/
LOCATION:Columbus Hall\, 9901 Coastal Highway\, Ocean City\, MD\, 21842\, United States
CATEGORIES:Rosary
END:VEVENT
BEGIN:VEVENT
DTSTART;TZID=UTC:20250313T183000
DTEND;TZID=UTC:20250313T200000
DTSTAMP:20260424T064216
CREATED:20250227T033800Z
LAST-MODIFIED:20250307T052941Z
UID:5463-1741890600-1741896000@koc9053.com
SUMMARY:Navy Captain Sharon Ruest (Retd.) Presentation
DESCRIPTION:Door open 6:15 p.m. \nPresentation begins at 6:30 p.m. \nSee Details on Event Flyer Page \n‘Lite Fare’  following Presentation
URL:https://koc9053.com/event/navy-captain-sharon-ruest-retd-presentation/
LOCATION:MD
CATEGORIES:Community Events
END:VEVENT
BEGIN:VEVENT
DTSTART;TZID=UTC:20250314T053000
DTEND;TZID=UTC:20250314T093000
DTSTAMP:20260424T064216
CREATED:20250302T203428Z
LAST-MODIFIED:20250302T203428Z
UID:5139-1741930200-1741944600@koc9053.com
SUMMARY:Bingo Team 3\, Fri. Mar. 14
DESCRIPTION:Bingo Team 3
URL:https://koc9053.com/event/bingo-team-3-fri-mar-14/
LOCATION:Columbus Hall\, 9901 Coastal Highway\, Ocean City\, MD\, 21842\, United States
CATEGORIES:Bingo
END:VEVENT
BEGIN:VEVENT
DTSTART;TZID=UTC:20250315T120000
DTEND;TZID=UTC:20250315T150000
DTSTAMP:20260424T064216
CREATED:20250131T220345Z
LAST-MODIFIED:20250302T203657Z
UID:5275-1742040000-1742050800@koc9053.com
SUMMARY:St. Patrick's Day Community Dinner\, Sat. Mar. 15
DESCRIPTION:
URL:https://koc9053.com/event/st-patricks-day-community-dinner/
LOCATION:Columbus Hall\, 9901 Coastal Highway\, Ocean City\, MD\, 21842\, United States
CATEGORIES:Community Dinners
END:VEVENT
BEGIN:VEVENT
DTSTART;VALUE=DATE:20250316
DTEND;VALUE=DATE:20250317
DTSTAMP:20260424T064216
CREATED:20250302T204030Z
LAST-MODIFIED:20250302T212201Z
UID:5533-1742083200-1742169599@koc9053.com
SUMMARY:2nd Sunday of Lent\, Mar. 16
DESCRIPTION:2nd Sunday of Lent\, Mar. 16
URL:https://koc9053.com/event/2nd-sunday-of-lent-mar-16/
LOCATION:MD
CATEGORIES:Holy Day
END:VEVENT
BEGIN:VEVENT
DTSTART;TZID=UTC:20250317T123000
DTEND;TZID=UTC:20250317T150000
DTSTAMP:20260424T064216
CREATED:20250302T205420Z
LAST-MODIFIED:20250302T205519Z
UID:5540-1742214600-1742223600@koc9053.com
SUMMARY:Lady Knights Auxiliary Meeting - Mon. Mar. 17
DESCRIPTION:Lady Knights Auxiliary Meeting\, Officers at 12:30 pm.\, Business meeting at 1:00 pm. at the Columbus Hall.
URL:https://koc9053.com/event/lady-knights-auxiliary-meeting-mon-mar-17-2/
LOCATION:Columbus Hall\, 9901 Coastal Highway\, Ocean City\, MD\, 21842\, United States
CATEGORIES:Lady Knights
END:VEVENT
BEGIN:VEVENT
DTSTART;TZID=UTC:20250318T093000
DTEND;TZID=UTC:20250318T113000
DTSTAMP:20260424T064216
CREATED:20250302T205814Z
LAST-MODIFIED:20250302T205814Z
UID:5543-1742290200-1742297400@koc9053.com
SUMMARY:LAOH Ladies Ancient Order of Hibernians Meeting -Tue. Mar. 18
DESCRIPTION:LAOH Ladies Ancient Order of Hibernians Meeting 9:30 am
URL:https://koc9053.com/event/laoh-ladies-ancient-order-of-hibernians-meeting-tue-mar-18/
LOCATION:Columbus Hall\, 9901 Coastal Highway\, Ocean City\, MD\, 21842\, United States
CATEGORIES:Club Meeting
END:VEVENT
BEGIN:VEVENT
DTSTART;TZID=UTC:20250320T100000
DTEND;TZID=UTC:20250320T110000
DTSTAMP:20260424T064216
CREATED:20250302T210337Z
LAST-MODIFIED:20250302T210337Z
UID:5546-1742464800-1742468400@koc9053.com
SUMMARY:Rosary Hour\, Thur. Mar. 20
DESCRIPTION:The Rosary Hour is on Thursdays at 10:00 a.m. at the Columbus Hall. The Rosary is followed by a reading and discussion of the next Sunday’s Gospel. To join us for Rosary Hour via Dial-In: 1-848-220-3100 Use ID 905300#
URL:https://koc9053.com/event/rosary-hour-thur-mar-20/
LOCATION:Columbus Hall\, 9901 Coastal Highway\, Ocean City\, MD\, 21842\, United States
CATEGORIES:Rosary
END:VEVENT
BEGIN:VEVENT
DTSTART;TZID=UTC:20250321T053000
DTEND;TZID=UTC:20250321T090000
DTSTAMP:20260424T064216
CREATED:20250302T211507Z
LAST-MODIFIED:20250302T211507Z
UID:5363-1742535000-1742547600@koc9053.com
SUMMARY:Bingo Team 4 - Fri. Mar. 21
DESCRIPTION:  \nCome enjoy Bingo Friday Nights! \nDoors open at 5 p.m. and Bingo begins at 6:30 p.m. \nLight Refreshments are available before BINGO and during intermission. \n* Each game night we award at least $1000 in prize money. \n* Play every game for $25. \n*Our end of evening Big Jackpot is now worth up to $1\,000.  Prizes lowered if less than 40 attendees. \nBenefits Knights of Columbus Council #9053 Charities.
URL:https://koc9053.com/event/bingo-team-2-fri-feb-7-2/
LOCATION:Columbus Hall\, 9901 Coastal Highway\, Ocean City\, MD\, 21842\, United States
CATEGORIES:Bingo
END:VEVENT
BEGIN:VEVENT
DTSTART;VALUE=DATE:20250323
DTEND;VALUE=DATE:20250324
DTSTAMP:20260424T064216
CREATED:20250302T211913Z
LAST-MODIFIED:20250302T211913Z
UID:5551-1742688000-1742774399@koc9053.com
SUMMARY:3rd Sunday of Lent\, Mar. 16
DESCRIPTION:3rd Sunday of Lent\, Mar. 16
URL:https://koc9053.com/event/3rd-sunday-of-lent-mar-16/
LOCATION:MD
CATEGORIES:Holy Day
END:VEVENT
BEGIN:VEVENT
DTSTART;TZID=UTC:20250325T100000
DTEND;TZID=UTC:20250325T120000
DTSTAMP:20260424T064216
CREATED:20250302T212439Z
LAST-MODIFIED:20250302T212439Z
UID:5554-1742896800-1742904000@koc9053.com
SUMMARY:Ways and Means Meeting VIA ZOOM - Tue. Mar. 25
DESCRIPTION:Ways and Means Meeting VIA ZOOM – Tue. Mar. 25
URL:https://koc9053.com/event/ways-and-means-meeting-via-zoom-tue-mar-25/
LOCATION:ZOOM
CATEGORIES:Ways and Means
END:VEVENT
BEGIN:VEVENT
DTSTART;TZID=UTC:20250326T080000
DTEND;TZID=UTC:20250326T170000
DTSTAMP:20260424T064216
CREATED:20250326T190809Z
LAST-MODIFIED:20250326T190809Z
UID:5729-1742976000-1743008400@koc9053.com
SUMMARY:Bingo Team 3 - Fri. Apr. 25
DESCRIPTION:  \nCome enjoy Bingo Friday Nights! \nDoors open at 5 p.m. and Bingo begins at 6:30 p.m. \nLight Refreshments are available before BINGO and during intermission. \n* Each game night we award at least $1000 in prize money. \n* Play every game for $25. \n*Our end of evening Big Jackpot is now worth up to $1\,000.  Prizes lowered if less than 40 attendees. \nBenefits Knights of Columbus Council #9053 Charities.
URL:https://koc9053.com/event/bingo-team-3-fri-apr-25/
LOCATION:Columbus Hall\, 9901 Coastal Highway\, Ocean City\, MD\, 21842\, United States
CATEGORIES:Bingo
END:VEVENT
BEGIN:VEVENT
DTSTART;TZID=UTC:20250327T100000
DTEND;TZID=UTC:20250327T110000
DTSTAMP:20260424T064216
CREATED:20250302T212741Z
LAST-MODIFIED:20250302T212741Z
UID:5361-1743069600-1743073200@koc9053.com
SUMMARY:Rosary Hour - Thur. Mar. 27
DESCRIPTION:The Rosary Hour is back on Thursdays at 10:00 a.m. at the Columbus Hall. \nThe Rosary is followed by a reading and discussion of the next Sunday’s Gospel. \nTo join us for Rosary Hour via Dial-In: 1-848-220-3100 \nUse ID 905300#
URL:https://koc9053.com/event/rosary-hour-9-2/
LOCATION:Columbus Hall\, 9901 Coastal Highway\, Ocean City\, MD\, 21842\, United States
CATEGORIES:Rosary
END:VEVENT
BEGIN:VEVENT
DTSTART;TZID=UTC:20250328T173000
DTEND;TZID=UTC:20250328T210000
DTSTAMP:20260424T064216
CREATED:20250302T213236Z
LAST-MODIFIED:20250302T213236Z
UID:5557-1743183000-1743195600@koc9053.com
SUMMARY:Bingo Team 1 - Fri. Mar. 28
DESCRIPTION:  \nCome enjoy Bingo Friday Nights! \nDoors open at 5 p.m. and Bingo begins at 6:30 p.m. \nLight Refreshments are available before BINGO and during intermission. \n* Each game night we award at least $1000 in prize money. \n* Play every game for $25. \n*Our end of evening Big Jackpot is now worth up to $1\,000.  Prizes lowered if less than 40 attendees. \nBenefits Knights of Columbus Council #9053 Charities.
URL:https://koc9053.com/event/bingo-team-1-fri-mar-28/
LOCATION:Columbus Hall\, 9901 Coastal Highway\, Ocean City\, MD\, 21842\, United States
CATEGORIES:Bingo
END:VEVENT
BEGIN:VEVENT
DTSTART;VALUE=DATE:20250329
DTEND;VALUE=DATE:20250330
DTSTAMP:20260424T064216
CREATED:20250312T003839Z
LAST-MODIFIED:20250312T003954Z
UID:5595-1743206400-1743292799@koc9053.com
SUMMARY:Food Drive at St. Luke's Church\, Sat. Mar. 29
DESCRIPTION:The Knights of Columbus Council #9053\nand Assembly #2454 need your help to\nreplenish The Joseph House and St.\nVincent de Paul food pantries\, which\nserve the needy in our area.\nThese pantries are in urgent need\nof non-perishable canned and boxed\nfood items (no glass containers\, please). \nSuggested Food Donations:\n✔️ Canned Fruits & Juices (including boxed juices)\n✔️ Pre-packaged meals (boxed or canned\, e.g.\,\nDinty Moore Stew)\n✔️ Canned Meats & Fish (chicken\, Spam\, tuna\, salmon)\n✔️ Baked Beans & Pork and Beans\n✔️ Canned Soups (condensed or chunky)\n✔️ Canned Gravies & Broths\n✔️ Canned Vegetables (green beans\, corn\, potatoes\, yams)\n✔️ Pasta & Pasta Sauces (canned spaghetti\, ravioli)\n✔️ Boxed Mac & Cheese\, Instant Potatoes\, Rice\n✔️ Mayonnaise\, Ketchup\, Mustard\, Salt & Pepper\n✔️ Oatmeal\, Tea\, Coffee\, Sugar\n✔️ Boxed or Bagged Cereals\n✔️ Peanut Butter\, Jelly\, Marmalade
URL:https://koc9053.com/event/food-drive-at-st-lukes-church-sat-mar-29/
LOCATION:St. Luke’s Church
CATEGORIES:Community Events
END:VEVENT
BEGIN:VEVENT
DTSTART;TZID=UTC:20250329T110000
DTEND;TZID=UTC:20250329T133000
DTSTAMP:20260424T064216
CREATED:20250227T041904Z
LAST-MODIFIED:20250307T052701Z
UID:5488-1743246000-1743255000@koc9053.com
SUMMARY:PBS World War II Presentation
DESCRIPTION:K of C Assembly #2454 – WWII Foundation Presentation \nDad’s Secret War: France 1944 \nMarch 29\, 2025 (Saturday) \nGuest Speaker:  Colonel John Fenzel (USA\, Ret.) \n11:00 a.m. — Welcome and Introductions \n11:15 a.m. to 12:15 p.m. — Film Screen \n(narrated by Kevin Bacon and produced by the World War II Foundation) \n12:15 p.m. — Question and Answer \nLite Fare Provided \nSee Flyer on Event Flyer Page for further Details \n 
URL:https://koc9053.com/event/5488/
LOCATION:MD
CATEGORIES:Community Events
END:VEVENT
BEGIN:VEVENT
DTSTART;VALUE=DATE:20250330
DTEND;VALUE=DATE:20250331
DTSTAMP:20260424T064216
CREATED:20250302T213507Z
LAST-MODIFIED:20250302T213507Z
UID:5559-1743292800-1743379199@koc9053.com
SUMMARY:4th Sunday of Lent\, Mar. 30
DESCRIPTION:4th Sunday of Lent\, Mar. 30
URL:https://koc9053.com/event/4th-sunday-of-lent-mar-30/
LOCATION:MD
CATEGORIES:Holy Day
END:VEVENT
BEGIN:VEVENT
DTSTART;VALUE=DATE:20250330
DTEND;VALUE=DATE:20250331
DTSTAMP:20260424T064216
CREATED:20250312T171052Z
LAST-MODIFIED:20250312T171052Z
UID:5603-1743292800-1743379199@koc9053.com
SUMMARY:Food Drive at St. Luke's Church\, Sun. Mar. 30
DESCRIPTION:The Knights of Columbus Council #9053\nand Assembly #2454 need your help to\nreplenish The Joseph House and St.\nVincent de Paul food pantries\, which\nserve the needy in our area.\nThese pantries are in urgent need\nof non-perishable canned and boxed\nfood items (no glass containers\, please). \nSuggested Food Donations:\n✔️ Canned Fruits & Juices (including boxed juices)\n✔️ Pre-packaged meals (boxed or canned\, e.g.\,\nDinty Moore Stew)\n✔️ Canned Meats & Fish (chicken\, Spam\, tuna\, salmon)\n✔️ Baked Beans & Pork and Beans\n✔️ Canned Soups (condensed or chunky)\n✔️ Canned Gravies & Broths\n✔️ Canned Vegetables (green beans\, corn\, potatoes\, yams)\n✔️ Pasta & Pasta Sauces (canned spaghetti\, ravioli)\n✔️ Boxed Mac & Cheese\, Instant Potatoes\, Rice\n✔️ Mayonnaise\, Ketchup\, Mustard\, Salt & Pepper\n✔️ Oatmeal\, Tea\, Coffee\, Sugar\n✔️ Boxed or Bagged Cereals\n✔️ Peanut Butter\, Jelly\, Marmalade
URL:https://koc9053.com/event/food-drive-at-st-lukes-church-sat-mar-29-2/
LOCATION:St. Luke’s Church
CATEGORIES:Community Events
END:VEVENT
END:VCALENDAR